Workbook

Sheet INTRODUCTION
B2: The range of algorithms used by UK universities [27-01-2019] | J2: The Variation in UK University Degree Algorithms - why it matters | R2: web link to WonkHE
B3: Alg | C3: COUNTING CREDITS | D3: DISCOUNT | E3: WEIGHTING | G3: No. | H3: University | J3: In the UK there are 170 institutions with degree awarding powers and each has their own algorithm. The table lists the algorithms of 127 such institutions. If your university is not in the list its either because each degree has its own algorithm, details were not available over the web or, the institution only offers postgraduate courses (see tab - Register)
B4: Years 1, 2, and 3 [NO DISCOUNTING] - 4
B5: 1 | C5: 360 | D5: 0 | E5: SPLIT CREDITS | G5: 2 | H5: Aberystwyth, King's College London
B6: 2 | C6: 360 | D6: 0 | E6: 10/30/60 | G6: 2 | H6: QU Belfast, Queen Mary
B7: Years 1, 2, and 3 [DISCOUNTING] - 3 | J7: As autonomous institutions, all UK universities have their own method (or algorithms) for calculating a degree mark which then determines the final degree classification [e.g. 1st, 2:1, 2:2, or 3rd], they differ in three ways:
B8: 3 | C8: 320 | D8: 40 | E8: 10/30/60 | G8: 1 | H8: Plymouth
B9: 4 | C9: 300 | D9: 60 | E9: 1/1/1 | G9: 1 | H9: LSE
B10: 5 | C10: 300 | D10: 60 | E10: 1/3/5 | G10: 1 | H10: Goldsmiths | J10: [1] The number of years used in the calculation.
B11: Years 2 and 3 [NO DISCOUNTING] - 69 | J11: [2] The weightings given to those years used (or differential weighting).
B12: 6 | C12: 240 | D12: 0 | E12: PROFILE | G12: 3 | H12: Middlesex, Robert Gordon, SOAS | J12: [3] Whether lower marks are ignored (or discounted) in any of the counting years.
B13: 7 | C13: 240 | D13: 0 | E13: SPLIT CREDITS | G13: 2 | H13: Swansea, London South Bank, | J13: The range in algorithms
B14: 8 | C14: 240 | D14: 0 | E14: 50 - 50 | G14: 8 | H14: Abertay, Arden, Bishop Grosseteste, Buckingham, Edinburgh, OU, St Andrews, York St John | J14: The table shows that UK universities use a wide range of algorithms (36), these are arranged first by which years are used in the calculation and then by which discount (or ignore) the lowest marks. The largest group [69 universities] uses years 2 and 3 and they do not discount marks, but there is a wide range weightings, ranging from 50/50 to 20/80 - year 2 and year 3 respectively.
B16: 9 | C16: 240 | D16: 0 | E16: 40 - 60 | G16: 14 | H16: Birmingham City, BPP, Chichester, Dundee, Durham, East Anglia, Essex, Kent, Newman-Birmingham, Northumbria Newcastle, Suffolk, Sussex, Writtle College, York
J18: In split-credits, the marks within a year are batched and weighted differently. For example, at Swansea, (i) the best 80 credits at year 3 are given a weighting of 3, (ii) the remaining 40 credits at year 3 and the best marks in 40 credits in year 2 are given a weighting of 2, (iii) and the remaining year 2 marks a weighting of 1.
B19: 10 | C19: 240 | D19: 0 | E19: 35 - 65 | G19: 1 | H19: Surrey
B20: 11 | C20: 240 | D20: 0 | E20: 33 - 67 | G20: 14 | H20: Bangor, Birkbeck, Brunel, Buckinghamshire-New, Exeter, Falmouth, Keele, Leeds Arts, Leicester, Liverpool Hope*, Reading, Royal Holloway, Sheffield, Southampton
J21: Profiling uses the preponderance principle to determine the student’s classification (as opposed to degree mark). The process begins by ranking the student’s marks and then looks at the proportion of marks at or above a given mark. For example, a student might be awarded a first (1st) where they have attained 90 credits at 70% or higher and 30 credits at 60% or higher over the counting years.
B23: 12 | C23: 240 | D23: 0 | E23: 32 - 68 | G23: 1 | H23: Bath
B24: 13 | C24: 240 | D24: 0 | E24: 30 - 70 | G24: 11 | H24: AECC, Bournemouth, Cardiff*, Harper Adams, Hull, LIBF, Liverpool, RAU, Regent's London, Staffordshire, Ulster
J25: Why this variation matters
B26: 14 | C26: 240 | D26: 0 | E26: 25 - 75 | G26: 12 | H26: Arts University Bournemouth, Aston, Birmingham, Brighton, Courtauld Institute of Art, CSSD, Leeds Trinity*, Liverpool John Moores, Manchester Met, NUA, UCA, UCB | J26: It follows that different algorithms will result in different marks (and classification) when applied to the same set of marks - consider the likely difference in the degree mark between that of Aberystwyth (all years no discounts) and Coventry (the best 100 credits from year 3 only). As a result;
B29: 15 | C29: 240 | D29: 0 | E29: 20 - 80 | G29: 3 | H29: Derby, London South Bank, Queen Margaret, Trinity Laban Conservatoire | J29: (a) | K29: The same set of marks would receive a different classification depending on which university the student attended
B31: Years 2 and 3 [DISCOUNTING] - 38 | J31: (b) | K31: Students with inconsistent marks are advantaged while those with consistent mark are not.
B32: 16 | C32: 220 | D32: 20 | E32: PROFILE | G32: 1 | H32: Stirling ^^ | J32: All in all, this is not very fair as your final degree outcome might ultimately depend on which university you currently attend or attended (see tab: 'Example marks'). In addition, the complexity of some of these algorithms makes it challenging for students to gauge how they are doing in their studies.
B33: 17 | C33: 220 | D33: 20 | E33: 33 - 67 | G33: 1 | H33: Westminster ^^
B34: 18 | C34: 210 | D34: 30 | E34: 50 - 50 | G34: 1 | H34: Oxford Brookes ^^
B35: 19 | C35: 210 | D35: 30 | E35: SPLIT CREDITS | G35: 1 | H35: Winchester | J35: What's the solution?
B36: 20 | C36: 210 | D36: 30 | E36: 25 - 75 | G36: 1 | H36: De Montfort | J36: A National Degree Mark and Grade - a proposal | Q36: Degree Grades
B37: 21 | C37: 210 | D37: 30 | E37: 20 - 80 | G37: 2 | H37: Greenwich, Kingston | J37: The 'National Degree Mark', is simply the weighted average of all module marks across all years of study. The National Degree Grades (D1 to A*4) complement the current classifications (3rd to a 1st). | Q37: BAND | R37: [%] | S37: GRADE
B38: 22 | C38: 200 | D38: 40 | E38: 40 - 60 | G38: 3 | H38: Canterbury Christ Church, Edge Hill, Portsmouth | Q38: D | R38: 40 | S38: D1
B39: 23 | C39: 200 | D39: 40 | E39: 35 - 65 | G39: 1 | H39: West London | Q39: [3rd] | R39: 42.5 | S39: D2
B40: 24 | C40: 200 | D40: 40 | E40: 33 - 67 | G40: 3 | H40: Chester, Huddersfield, Trinity Saint David | J40: The proposed National Degree Mark and Grade are not intended to replace the way universities currently calculate degree marks, nor replace the traditional classifications, rather Its purpose is to level up the reporting of university students achievements in that the same calculation would apply to all UK graduates. | R40: 45 | S40: D3
B41: 25 | C41: 200 | D41: 40 | E41: 30 - 70 | G41: 5 | H41: Bath Spa, Cardiff Met, Cumbria, Solent, Teesside | R41: 47.5 | S41: D4
B42: 26 | C42: 200 | D42: 40 | E42: 25 - 75 | G42: 5 | H42: Hartpury, Leeds Beckett, Salford, Sheffield Hallam, UWE | Q42: C | R42: 50 | S42: C1
B43: 27 | C43: 200 | D43: 40 | E43: 20 - 80 | G43: 3 | H43: Bradford, Central Lancashire, Sunderland | Q43: [2:2] | R43: 52.5 | S43: C2
B44: 28 | C44: 180 | D44: 60 | E44: 50 - 50 | G44: 5 | H44: Anglia Ruskin, Edinburgh Napier, Glasgow Caledonian, South Wales, Wolverhampton ^^ | J44: For universities, this proposal is cheap to implement, they have the data already, it only requires changes to the coding of existing data bases to collate, record and publish this data. Indeed, as an unadulterated average, this national degree mark would not require any changes to existing academic regulations – it is what it is. | R44: 55 | S44: C3
R45: 57.5 | S45: C4
B46: 29 | C46: 180 | D46: 60 | E46: 25 - 75 | G46: 2 | H46: Hertfordshire, London Met | Q46: B | R46: 60 | S46: B1
B47: 30 | C47: 180 | D47: 60 | E47: 20 - 80 | G47: 1 | H47: East London | Q47: [2:1] | R47: 62.5 | S47: B2
...

Sheet Calculating marks
B2: In this worksheet you are asked to do some very simple calculations - which hopefully will help you to better understand how all your marks (module and degree) are calculated.
C7: Calculating Marks | U7: Page 1 | V7: 1
C8: Its best to start by looking at how we can use the weighted average to find a module mark. Most modules have two or three assessment elements (e.g. test, essay that make up the coursework component and a final exam) and these elements might have different weightings - as below
P11: =X19
C12: Module [A] | F12: Weight [%] | I12: Mark | AD12: =AVERAGE(I13:J15) -> 67.666667
C13: Essay | F13: 30 | H13: =X13 | I13: 56 | L13: =Y13 | M13: =Z13 | X13: =IF($S$20="x",AA13," ") | Y13: =IF($S$20="x",AB13," ") | Z13: =IF($S$20="x",AD13," ") | AA13: x | AB13: = | AD13: =I13*F13 -> 1680 | AH13: CW
C14: Test | F14: 20 | H14: =X14 | I14: 79 | L14: =Y14 | M14: =Z14 | X14: =IF($S$20="x",AA14," ") | Y14: =IF($S$20="x",AB14," ") | Z14: =IF($S$20="x",AD14," ") | AA14: x | AB14: = | AD14: =I14*F14 -> 1580 | AG14: =AD14+AD13 -> 3260 | AH14: =AG14/50 -> 65.2
C15: Final Exam | F15: 50 | H15: =X15 | I15: 68 | L15: =Y15 | M15: =Z15 | X15: =IF($S$20="x",AA15," ") | Y15: =IF($S$20="x",AB15," ") | Z15: =IF($S$20="x",AD15," ") | AA15: x | AB15: = | AD15: =I15*F15 -> 3400
F16: =SUM(F13:F15) -> 100 | M16: =X16 | O16: =X17 | P16: =Y17 | R16: =Z17 | X16: =IF($S$20="x",AD16," ") | AD16: =SUM(AD13:AD15) -> 6660
C17: If we took the simple average of 56, 79, and 68 we would get 67.7% - but this is incorrect. We need the weighted average which recognises that the exam makes a bigger contribution [50%] to the final mark than the test [20%]. | X17: =IF($S$20="x",AA17," ") | Y17: =IF($S$20="x",AB17," ") | Z17: =IF($S$20="x",AD17," ") | AA17: ÷ | AB17: 100 = | AC17: = | AD17: =AD16/100 -> 66.6
X19: =IF($S$20="x",AD19," ") | AD19: Despite the temptation to round up, always round DOWN any calculated value (it avoids later disappointment) - so 66.60% becomes 66%
C20: The weighted average
C21: The simplest way to find the weighted average is to multiply the weight by the mark for each of the elements i.e. 30 x 56, 20 x 79 and 50 x 68. You then add up the three calculated values and divide it by the total weights (i.e. in this case 100). If you have tested yourself with the maths, type X in the yellow square to reveal the answers. | X21: =IF(S20="x",1,0) -> 0
C24: =X26 | R24: =X25
C25: =AA27 | X25: =IF($S$20="x",AD25," ") | AD25: Type your answer here
C26: =X30 | X26: =IF($S$20="x",AD26," ") | AD26: What is the coursework mark (rounded down)?
C27: =X31 | AA27: =IF(X21=1,AB27," ") | AB27: =IF(AE29>0,AD27," ") | AD27: =IF(AF29=1,AG27,AG28) -> Incorrect - the coursework mark is: (30 x 56) + (20 x 79) = 3,260, divided by 50 credits gives 65.2%, which rounded down is 65% | AF27: =IF(S24="65",1,0) -> 0 | AG27: Correct - the coursework mark is: (30 x 56) + (20 x 79) = 3,260, divided by 50 credits gives 65.2%, which rounded down is 65%
AF28: =IF(S24="65%",1,0) -> 0 | AG28: Incorrect - the coursework mark is: (30 x 56) + (20 x 79) = 3,260, divided by 50 credits gives 65.2%, which rounded down is 65%
D29: =X33 | X29: =IF(AE29>0,1,0) -> 0 | AE29: =LEN(S24) -> 0 | AF29: =AF28+AF27 -> 0
D30: =X34 | E30: =Y34 | F30: =Z34 | G30: =AL45 | J30: =AB34 | K30: =AC34 | L30: =AD34 | M30: =AP45 | P30: =AF34 | Q30: =AG34 | R30: =AH34 | S30: =AT45 | X30: =IF($AE$29>0,AD30," ") | AD30: Yearly Averages
D31: =X35 | E31: =Y35 | F31: =Z35 | G31: =AL46 | J31: =AB35 | K31: =AC35 | L31: =AD35 | M31: =AP46 | P31: =AF35 | Q31: =AG35 | R31: =AH35 | S31: =AT46 | X31: =IF(X21=1,AB31," ") | AB31: =IF($AE$29>0,AD31," ") | AD31: We can use the same method to calculate annual averages. This method is particularly helpful when you have modules with different credits (Crd) or weightings as shown below
D32: =X36 | E32: =Y36 | F32: =Z36 | G32: =AL47 | J32: =AB36 | K32: =AC36 | L32: =AD36 | M32: =AP47 | P32: =AF36 | Q32: =AG36 | R32: =AH36 | S32: =AT47 | X32: =IF(S28="x",1,0) -> 0
D33: =X37 | E33: =Y37 | F33: =Z37 | G33: =AL48 | J33: =AB37 | K33: =AC37 | L33: =AD37 | M33: =AP48 | P33: =AF37 | Q33: =AG37 | R33: =AH37 | S33: =AT48 | X33: =IF(AE29>0,AJ33," ") | AJ33: Student A - marks | AR33: Student A
D34: =X38 | E34: =Y38 | F34: =Z38 | G34: =AL49 | J34: =AB38 | K34: =AC38 | L34: =AD38 | M34: =AP49 | P34: =AF38 | Q34: =AG38 | R34: =AH38 | S34: =AT49 | X34: =IF(AE29>0,AJ34," ") | Y34: =IF(AE29>0,AK34," ") | Z34: =IF(AE29>0,AL34," ") | AB34: =IF(AE29>0,AN34," ") | AC34: =IF(AE29>0,AO34," ") | AD34: =IF(AE29>0,AP34," ") | AF34: =IF(AE29>0,AR34," ") | AG34: =IF(AE29>0,AS34," ") | AH34: =IF(AE29>0,AT34," ") | AJ34: Y1 | AK34: Crd | AL34: Mark | AM34: C x M | AN34: Y2 | AO34: Crd | AP34: Mark | AQ34: C x M | AR34: Y3 | AS34: Crd | AT34: Mark | AU34: C x M
D35: =X39 | E35: =Y39 | F35: =Z39 | G35: =AL50 | J35: =AB39 | K35: =AC39 | L35: =AD39 | M35: =AP50 | P35: =AF39 | Q35: =AG39 | R35: =AH39 | S35: =AT50 | X35: =IF(AE29>0,AJ35," ") | Y35: =IF(AE29>0,AK35," ") | Z35: =IF(AE29>0,AL35," ") | AB35: =IF(AE29>0,AN35," ") | AC35: =IF(AE29>0,AO35," ") | AD35: =IF(AE29>0,AP35," ") | AF35: =IF(AE29>0,AR35," ") | AG35: =IF(AE29>0,AS35," ") | AH35: =IF(AE29>0,AT35," ") | AJ35: Mod 1 | AK35: 30 | AL35: 54 | AM35: =AL35*AK35 -> 1620 | AN35: Mod 7 | AO35: 15 | AP35: 43 | AQ35: =AP35*AO35 -> 645 | AR35: Mod 13 | AS35: 30 | AT35: 66 | AU35: =AT35*AS35 -> 1980
D36: =X40 | E36: =Y40 | F36: =Z40 | G36: =AL51 | J36: =AB40 | K36: =AC40 | L36: =AD40 | M36: =AP51 | P36: =AF40 | Q36: =AG40 | R36: =AH40 | S36: =AT51 | X36: =IF(AE29>0,AJ36," ") | Y36: =IF(AE29>0,AK36," ") | Z36: =IF(AE29>0,AL36," ") | AB36: =IF(AE29>0,AN36," ") | AC36: =IF(AE29>0,AO36," ") | AD36: =IF(AE29>0,AP36," ") | AF36: =IF(AE29>0,AR36," ") | AG36: =IF(AE29>0,AS36," ") | AH36: =IF(AE29>0,AT36," ") | AJ36: Mod 2 | AK36: 30 | AL36: 57 | AM36: =AL36*AK36 -> 1710 | AN36: Mod 8 | AO36: 15 | AP36: 47 | AQ36: =AP36*AO36 -> 705 | AR36: Mod 14 | AS36: 30 | AT36: 71 | AU36: =AT36*AS36 -> 2130
D37: =X41 | E37: =Y41 | F37: =Z41 | G37: =AL52 | J37: =AB41 | K37: =AC41 | L37: =AD41 | M37: =AP52 | P37: =AF41 | Q37: =AG41 | R37: =AH41 | S37: =AT52 | X37: =IF(AE29>0,AJ37," ") | Y37: =IF(AE29>0,AK37," ") | Z37: =IF(AE29>0,AL37," ") | AB37: =IF(AE29>0,AN37," ") | AC37: =IF(AE29>0,AO37," ") | AD37: =IF(AE29>0,AP37," ") | AF37: =IF(AE29>0,AR37," ") | AG37: =IF(AE29>0,AS37," ") | AH37: =IF(AE29>0,AT37," ") | AJ37: Mod 3 | AK37: 15 | AL37: 63 | AM37: =AL37*AK37 -> 945 | AN37: Mod 9 | AO37: 15 | AP37: 50 | AQ37: =AP37*AO37 -> 750 | AR37: Mod 15 | AS37: 15 | AT37: 74 | AU37: =AT37*AS37 -> 1110
F38: =AJ53 | G38: =AL54 | L38: =AN53 | M38: =AP54 | R38: =AR53 | S38: =AT54 | X38: =IF(AE29>0,AJ38," ") | Y38: =IF(AE29>0,AK38," ") | Z38: =IF(AE29>0,AL38," ") | AB38: =IF(AE29>0,AN38," ") | AC38: =IF(AE29>0,AO38," ") | AD38: =IF(AE29>0,AP38," ") | AF38: =IF(AE29>0,AR38," ") | AG38: =IF(AE29>0,AS38," ") | AH38: =IF(AE29>0,AT38," ") | AJ38: Mod 4 | AK38: 15 | AL38: 65 | AM38: =AL38*AK38 -> 975 | AN38: Mod 10 | AO38: 15 | AP38: 56 | AQ38: =AP38*AO38 -> 840 | AR38: Mod 16 | AS38: 15 | AT38: 75 | AU38: =AT38*AS38 -> 1125
C39: =X44 | X39: =IF(AE29>0,AJ39," ") | Y39: =IF(AE29>0,AK39," ") | Z39: =IF(AE29>0,AL39," ") | AB39: =IF(AE29>0,AN39," ") | AC39: =IF(AE29>0,AO39," ") | AD39: =IF(AE29>0,AP39," ") | AF39: =IF(AE29>0,AR39," ") | AG39: =IF(AE29>0,AS39," ") | AH39: =IF(AE29>0,AT39," ") | AJ39: Mod 5 | AK39: 15 | AL39: 72 | AM39: =AL39*AK39 -> 1080 | AN39: Mod 11 | AO39: 30 | AP39: 60 | AQ39: =AP39*AO39 -> 1800 | AR39: Mod 17 | AS39: 15 | AT39: 75 | AU39: =AT39*AS39 -> 1125
X40: =IF(AE29>0,AJ40," ") | Y40: =IF(AE29>0,AK40," ") | Z40: =IF(AE29>0,AL40," ") | AB40: =IF(AE29>0,AN40," ") | AC40: =IF(AE29>0,AO40," ") | AD40: =IF(AE29>0,AP40," ") | AF40: =IF(AE29>0,AR40," ") | AG40: =IF(AE29>0,AS40," ") | AH40: =IF(AE29>0,AT40," ") | AJ40: Mod 6 | AK40: 15 | AL40: 80 | AM40: =AL40*AK40 -> 1200 | AN40: Mod 12 | AO40: 30 | AP40: 60 | AQ40: =AP40*AO40 -> 1800 | AR40: Mod 18 | AS40: 15 | AT40: 81 | AU40: =AT40*AS40 -> 1215
X41: =IF($AE$29>0,AJ41," ") | Y41: =IF($AE$29>0,AK41," ") | Z41: =IF($AE$29>0,AL41," ") | AB41: =IF($AE$29>0,AN41," ") | AC41: =IF($AE$29>0,AO41," ") | AD41: =IF($AE$29>0,AP41," ") | AF41: =IF($AE$29>0,AR41," ") | AG41: =IF($AE$29>0,AS41," ") | AH41: =IF($AE$29>0,AT41," ") | AJ41: Total | AK41: =SUM(AK35:AK40) -> 120 | AM41: =SUM(AM35:AM40) -> 7530 | AN41: Total | AO41: =SUM(AO35:AO40) -> 120 | AQ41: =SUM(AQ35:AQ40) -> 6540 | AR41: Total | AS41: =SUM(AS35:AS40) -> 120 | AU41: =SUM(AU35:AU40) -> 8685
C42: =X46 | S42: =X47 | AL42: ÷ 120 = | AM42: =AM41/AK41 -> 62.75 | AP42: =AL42 -> ÷ 120 = | AQ42: =AQ41/AO41 -> 54.5 | AT42: =AP42 -> ÷ 120 = | AU42: 72.37 | AW42: =SUM(AM35:AM40,,AQ35:AQ40,AU35:AU40) -> 22755 | AX42: =AW42/360 -> 63.208333 | AY42: =ROUND(AQ42,2) -> 54.5 | AZ42: =ROUND(AU42,2) -> 72.37 | BA42: =AZ42+AY42 -> 126.87 | BB42: =BA42/2 -> 63.435
AN43: =AVERAGE(AM42,AQ42) -> 58.625 | AU43: =AVERAGE(AM42,AQ42,AU42) -> 63.206667
C44: =X48 | X44: =IF($AE$29>0,AD44," ") | AD44: In this example the 30 credit modules make a bigger contribution to the annual mark. The procedure is the same: multiply the mark by the credit (or the weight). For each year add up the 6 values and divide by the total number of credits [i.e. 120]. Type X in the yellow square to reveal the values and yearly averages.
C45: =X51 | AL45: =IF($X$21=1,AM45," ") | AM45: =IF($S$28="x",AM34," ") | AP45: =IF($X$21=1,AQ45," ") | AQ45: =IF($S$28="x",AQ34," ") | AT45: =IF($X$21=1,AU45," ") | AU45: =IF($S$28="x",AU34," ")
X46: =IF($S$28="x",AA46," ") | AA46: Annual marks and the overall degree marks are truncated at two decimal points, this being so, what is the overall average mark across all modules, i.e. What is this student's 'National Degree Mark'? | AL46: =IF($X$21=1,AM46," ") | AM46: =IF($S$28="x",AM35," ") | AP46: =IF($X$21=1,AQ46," ") | AQ46: =IF($S$28="x",AQ35," ") | AT46: =IF($X$21=1,AU46," ") | AU46: =IF($S$28="x",AU35," ")
C47: =X52 | X47: =IF($S$28="x",AA47," ") | AA47: Answer here | AL47: =IF($X$21=1,AM47," ") | AM47: =IF($S$28="x",AM36," ") | AP47: =IF($X$21=1,AQ47," ") | AQ47: =IF($S$28="x",AQ36," ") | AT47: =IF($X$21=1,AU47," ") | AU47: =IF($S$28="x",AU36," ")
X48: =IF($S$28="x",AC48," ") | AC48: =IF(AF50>0,AE48," ") | AE48: =IF(AG50=1,AH48,AH49) -> Incorrect - (62.75 + 54.50 +72.38) ÷ 3 = 63.21, their National Degree Grade is B2 | AG48: =IF(S43="63.21",1,0) -> 0 | AH48: Correct - (62.75 + 54.50 +72.38) ÷ 3 = 63.21, their National Degree Grade is B2 | AL48: =IF($X$21=1,AM48," ") | AM48: =IF($S$28="x",AM37," ") | AP48: =IF($X$21=1,AQ48," ") | AQ48: =IF($S$28="x",AQ37," ") | AT48: =IF($X$21=1,AU48," ") | AU48: =IF($S$28="x",AU37," ")
AG49: =IF(S43="63.21%",1,0) -> 0 | AH49: Incorrect - (62.75 + 54.50 +72.38) ÷ 3 = 63.21, their National Degree Grade is B2 | AL49: =IF($X$21=1,AM49," ") | AM49: =IF($S$28="x",AM38," ") | AP49: =IF($X$21=1,AQ49," ") | AQ49: =IF($S$28="x",AQ38," ") | AT49: =IF($X$21=1,AU49," ") | AU49: =IF($S$28="x",AU38," ")
X50: =IF(AF50>0,1,0) -> 0 | AA50: The Variation in UK University Degree Algorithms - why it matters | AF50: =LEN(S43) -> 0 | AG50: =SUM(AG48:AG49) -> 0 | AL50: =IF($X$21=1,AM50," ") | AM50: =IF($S$28="x",AM39," ") | AP50: =IF($X$21=1,AQ50," ") | AQ50: =IF($S$28="x",AQ39," ") | AT50: =IF($X$21=1,AU50," ") | AU50: =IF($S$28="x",AU39," ")
...

Sheet Example marks
C2: Differences in degree outcomes from different algorithms: Example marks from Students, A, B, Z and W
C4: Student A and B are similar in three ways [i] they have the same average mark for their first year (62.75%), [ii] the average of years 2 and 3 are the same (63.44%), and their overall average, or national degree mark is the same 63.21%. Despite this, depending on which university they go to Student A could get a 1st. Indeed, based on their marks, 28 universities in this sample would award Student A a 1st. This result holds true for 20 and 15 credit degree structures where the three averages (Y1, Y2/Y3, and, Y1/Y2/Y3) the same. Below student A and B's marks are two other set of marks for Student Z and Student W. As student Z's marks show, a change in credit structure and a small change in the 3 averages makes a big difference in the overall outcomes - here 40 universities would award Student Z a 1st. In the case of Student W (who has a national degree mark of 55.04%) they could receive three possible degree classes, from a 2:2 to a 1st, where the range in possible degree marks is 17.3 percentage points.
C10: Detractors of the National Degree Mark and Grade might make the claim that these examples (or any like them) are 'outliers' - they are very rare. The implication is that UK students generally perform in a consistent manner (like Student B). If so, comparisons across the sector of overall outcomes using the classifications (as opposed to degree marks) are reliable and valid. However, there are two problems with this argument:
C13: 1 | D13: The principle purpose of discounting and differential weighting is to negate the potential impact inconsistent marks can have on a degree mark and classification. Put another way: universities know student marks are 'more often than not' inconsistent. The higher weighting on year 3 marks is also said to capture the student’s ‘exit velocity’ (the tendency for year three marks to be higher than year two marks - see link). However, this wide-spread phenomenon would improve any degree mark irrespective of the algorithm used, so why place a greater weighting on year three marks in the first place. In this regard, its worth noting that only 8 universities (see algorithm No.8 - 'Introduction') out of the 127 listed here do not use discounting or differential weighting (although they ignore year 1 marks). | AR13: https://journals.gre.ac.uk/index.php/compass/article/view/136
AR14: LINK
C17: 2 | D17: Without a data on the national degree mark and the yearly averages, we cannot know the extent to which all UK students marks are inconsistent (accepting that there was a consensus on what 'consistent' meant). If such data showed that a high proportion of UK students (say 20%+) had consistent marks then we can be certain that the current arrangements are very unfair. If on the other hand the data showed that nearly all student marks are inconsistent there would be a strong case to oblige universities to adopt the same algorithm - which would be a long-winded and costly exercise. This makes to adoption of a national degree mark the more attractive option.
C23: STUDENT A (inconsistent marks) | Y23: STUDENT B (consistent marks, mid-range)
C24: YEAR 1 | J24: YEAR 2 | Q24: YEAR 3 | Y24: YEAR 1 | AF24: YEAR 2 | AM24: YEAR 3
C25: Module | F25: Credit | G25: Mark | H25: Grade | J25: Module | M25: Credit | N25: Mark | O25: Grade | Q25: Module | T25: Credit | U25: Mark | V25: Grade | Y25: Module | AB25: Credit | AC25: Mark | AD25: Grade | AF25: Module | AI25: Credit | AJ25: Mark | AK25: Grade | AM25: Module | AP25: Credit | AQ25: Mark | AR25: Grade
C26: Module 1 | F26: 30 | G26: 54 | H26: C2 | J26: Module 7 | M26: 15 | N26: 43 | O26: D2 | Q26: Module 13 | T26: 30 | U26: 66 | V26: B3 | Y26: Module 1 | AB26: 30 | AC26: 55 | AD26: C3 | AF26: Module 7 | AI26: 15 | AJ26: 60 | AK26: B1 | AM26: Module 13 | AP26: 30 | AQ26: 63 | AR26: B2
C27: Module 2 | F27: 30 | G27: 57 | H27: C3 | J27: Module 8 | M27: 15 | N27: 47 | O27: D3 | Q27: Module 14 | T27: 30 | U27: 71 | V27: A1 | Y27: Module 2 | AB27: 30 | AC27: 61 | AD27: B1 | AF27: Module 8 | AI27: 15 | AJ27: 61 | AK27: B1 | AM27: Module 14 | AP27: 30 | AQ27: 64 | AR27: B2
C28: Module 3 | F28: 15 | G28: 63 | H28: B2 | J28: Module 9 | M28: 15 | N28: 50 | O28: C1 | Q28: Module 15 | T28: 15 | U28: 74 | V28: A2 | Y28: Module 3 | AB28: 15 | AC28: 61 | AD28: B1 | AF28: Module 9 | AI28: 15 | AJ28: 62 | AK28: B1 | AM28: Module 15 | AP28: 15 | AQ28: 65 | AR28: B3
C29: Module 4 | F29: 15 | G29: 65 | H29: B3 | J29: Module 10 | M29: 15 | N29: 56 | O29: C3 | Q29: Module 16 | T29: 15 | U29: 75 | V29: A3 | Y29: Module 4 | AB29: 15 | AC29: 63 | AD29: B2 | AF29: Module 10 | AI29: 15 | AJ29: 63 | AK29: B2 | AM29: Module 16 | AP29: 15 | AQ29: 67 | AR29: B3
C30: Module 5 | F30: 15 | G30: 72 | H30: A1 | J30: Module 11 | M30: 30 | N30: 60 | O30: B1 | Q30: Module 17 | T30: 15 | U30: 75 | V30: A3 | Y30: Module 5 | AB30: 15 | AC30: 70 | AD30: A1 | AF30: Module 11 | AI30: 30 | AJ30: 65 | AK30: B3 | AM30: Module 17 | AP30: 15 | AQ30: 64 | AR30: B2
C31: Module 6 | F31: 15 | G31: 80 | H31: A*1 | J31: Module 12 | M31: 30 | N31: 60 | O31: B1 | Q31: Module 18 | T31: 15 | U31: 81 | V31: A*1 | Y31: Module 6 | AB31: 15 | AC31: 76 | AD31: A3 | AF31: Module 12 | AI31: 30 | AJ31: 61 | AK31: B1 | AM31: Module 18 | AP31: 15 | AQ31: 67 | AR31: B3
C38: Total Credits | F38: 120 | G38: P | J38: Total Credits | M38: 120 | N38: P | Q38: Total Credits | T38: 120 | U38: P | Y38: Total Credits | AB38: 120 | AC38: P | AF38: Total Credits | AI38: 120 | AJ38: P | AM38: Total Credits | AP38: 120 | AQ38: P
C39: Year 1 Average mark | G39: 62.75 | H39: B2 | J39: Year 2 Average mark | N39: 54.5 | O39: C2 | Q39: Year 3 average mark | U39: 72.38 | V39: A1 | Y39: Year 1 Average mark | AC39: 62.75 | AD39: B2 | AF39: Year 2 Average mark | AJ39: 62.25 | AK39: B1 | AM39: Year 3 average mark | AQ39: 64.63 | AR39: B2
C41: Y2/Y3 Average | F41: 63.44 | T41: National Degree Mark & Grade | U41: 63.21 | V41: B2 | Y41: Y2/Y3 Average | AB41: 63.44 | AP41: National Degree Mark & Grade | AQ41: 63.21 | AR41: B2 | AY41: TABLE 1 - DEGREE MARKS FROM A SELECTION OF 14 UK UNIVERSITY ALGORITHIMS
AY42: Algorithm | AZ42: COUNTING CREDITS | BA42: DISCOUNT | BB42: WEIGHTING | BC42: University | BE42: Degree Marks Students X and Y | BF42: 0
C43: A selection of UK University Degree Algorithms | K43: Discounts | O43: Weights | Q43: Degree Mark | S43: Uplift | Y43: A selection of UK University Degree Algorithms | AG43: Discounts | AK43: Weights | AM43: Degree Mark | AO43: Uplift | AY43: Years 1, 2, and 3 | BE43: X | BF43: Y
C44: University + Years used | G44: Alg No. | H44: Uni | I44: Credits | K44: Y1 | L44: Y2 | M44: Y3 | N44: TOT | Y44: University + Years used | AC44: Alg No. | AD44: Uni | AE44: Credits | AG44: Y1 | AH44: Y2 | AI44: Y3 | AJ44: TOT | AY44: 1 | AZ44: 360 | BA44: 0 | BB44: 10/30/60 | BC44: Queen Mary | BE44: =Q48 -> 66.05 | BF44: =AM48 -> 63.73
C45: Year 1, 2 and 3 algorithms | U45: Number of Awarding Unversities | Y45: Year 1, 2 and 3 algorithms | AQ45: Number of Awarding Unversities | AY45: Years 2 and 3
C46: King's College London | G46: 1 | H46: 1 | I46: 360 | K46: 0 | L46: 0 | M46: 0 | N46: 0 | O46: SPLIT | Q46: 67.29 | S46: 0 | Y46: King's College London | AC46: 1 | AD46: 1 | AE46: 360 | AG46: 0 | AH46: 0 | AI46: 0 | AJ46: 0 | AK46: SPLIT | AM46: 63.98 | AO46: 0 | AY46: 2 | AZ46: =AE53 -> 240 | BB46: =AK55 -> 50 - 50 | BC46: =Y55 -> Abertay | BE46: =Q55 -> 63.44 | BF46: =AM55 -> 63.44
C47: Aberystwyth | G47: 1 | H47: 1 | I47: 360 | K47: 0 | L47: 0 | M47: 0 | N47: 0 | O47: SPLIT | Q47: 68.4 | S47: P | T47: 0 | Y47: Aberystwyth | AC47: 1 | AD47: 1 | AE47: 360 | AG47: 0 | AH47: 0 | AI47: 0 | AJ47: 0 | AK47: SPLIT | AM47: 64.3 | AO47: 0 | AP47: 0 | AY47: 3 | AZ47: 240 | BA47: 0 | BB47: 33 - 67 | BC47: Exeter | BE47: =Q58 -> 66.48 | BF47: =AM58 -> 63.84
C48: QU Belfast | G48: 2 | H48: 2 | I48: 360 | K48: 0 | L48: 0 | M48: 0 | N48: 0 | O48: 10/30/60 | Q48: 66.05 | S48: 0 | U48: 1st | V48: 25 | Y48: QU Belfast | AC48: 2 | AD48: 2 | AE48: 360 | AG48: 0 | AH48: 0 | AI48: 0 | AJ48: 0 | AK48: 10/30/60 | AM48: 63.73 | AO48: 0 | AQ48: 1st | AR48: 0 | AY48: 4 | AZ48: 240 | BA48: 0 | BB48: 25 - 75 | BC48: Birmingham | BE48: =Q61 -> 67.91 | BF48: =AM61 -> 64.04
C49: Plymouth | G49: 3 | H49: 1 | I49: 320 | K49: 40 | L49: 0 | M49: 0 | N49: 40 | O49: 10/30/60 | Q49: 66.45 | S49: 0 | U49: 2:1 | V49: 97 | Y49: Plymouth | AC49: 3 | AD49: 1 | AE49: 320 | AG49: 40 | AH49: 0 | AI49: 0 | AJ49: 40 | AK49: 10/30/60 | AM49: 64.04 | AO49: 0 | AQ49: 2:1 | AR49: 122 | AY49: 5 | AZ49: 240 | BA49: 0 | BB49: 20 - 80 | BC49: Derby | BE49: =Q62 -> 68.8 | BF49: =AM62 -> 64.15
C50: LSE | G50: 4 | H50: 1 | I50: 300 | K50: 60 | L50: 0 | M50: 0 | N50: 60 | O50: 1/1/1 | Q50: 65.63 | S50: 0 | U50: 2:2 | V50: 0 | Y50: LSE | AC50: 4 | AD50: 1 | AE50: 300 | AG50: 60 | AH50: 0 | AI50: 0 | AJ50: 60 | AK50: 1/1/1 | AM50: 64.79 | AO50: 0 | AQ50: 2:2 | AR50: 0 | AY50: 6 | AZ50: 210 | BA50: 30 | BB50: 50 - 50 | BC50: Oxford Brookes | BE50: =Q64 -> 73.44 | BF50: =AM64 -> 64.9
C51: Goldsmiths | G51: 5 | H51: 1 | I51: 300 | K51: 30 | L51: 15 | M51: 15 | N51: 60 | O51: 1/3/5 | Q51: 66.04 | S51: 0 | U51: 3rd | V51: 0 | Y51: Goldsmiths | AC51: 5 | AD51: 1 | AE51: 300 | AG51: 30 | AH51: 15 | AI51: 15 | AJ51: 60 | AK51: 1/3/5 | AM51: 63.86 | AO51: 0 | AQ51: 3rd | AR51: 0 | AY51: 7 | AZ51: 210 | BA51: 30 | BB51: 25 - 75 | BC51: De Montfort | BE51: =Q66 -> 69 | BF51: =AM66 -> 64.29
C52: Year 2 and 3 algorithms | U52: Total | V52: 122 | Y52: Year 2 and 3 algorithms | AQ52: Total | AR52: 122 | AY52: 8 | AZ52: 210 | BA52: 30 | BB52: 20 - 80 | BC52: Greenwich | BE52: =Q67 -> 70.83 | BF52: =AM67 -> 64.65
C53: Swansea | G53: 7 | H53: 1 | I53: 240 | K53: 0 | L53: 0 | M53: 0 | N53: 0 | O53: SPLIT | Q53: 67.3 | S53: 0 | Y53: Swansea | AC53: 7 | AD53: 1 | AE53: 240 | AG53: 0 | AH53: 0 | AI53: 0 | AJ53: 0 | AK53: SPLIT | AM53: 64.14 | AO53: 0 | AY53: 9 | AZ53: 200 | BA53: 40 | BB53: 25 - 75 | BC53: UWE | BE53: =Q73 -> 70.26 | BF53: =AM73 -> 64.48
C54: London South Bank | G54: 7 | H54: 1 | I54: 240 | K54: 0 | L54: 0 | M54: 0 | N54: 0 | O54: SPLIT | Q54: 71.49 | S54: 0 | Y54: London South Bank | AC54: 7 | AD54: 1 | AE54: 240 | AG54: 0 | AH54: 0 | AI54: 0 | AJ54: 0 | AK54: SPLIT | AM54: 64.75 | AO54: 0 | AY54: 10 | AZ54: 200 | BA54: 40 | BB54: 20 - 80 | BC54: Bradford | BE54: =Q75 -> 70.24 | BF54: =AM75 -> 64.49
C55: Abertay | G55: 8 | H55: 8 | I55: 240 | K55: 0 | L55: 0 | M55: 0 | N55: 0 | O55: 50 - 50 | Q55: 63.44 | S55: 0 | Y55: Abertay | AC55: 8 | AD55: 8 | AE55: 240 | AG55: 0 | AH55: 0 | AI55: 0 | AJ55: 0 | AK55: 50 - 50 | AM55: 63.44 | AO55: 0 | AY55: 11 | AZ55: 180 | BA55: 60 | BB55: 20 - 80 | BC55: East London | BE55: =Q82 -> 71.13 | BF55: =AM82 -> 64.7
C56: Birmingham City | G56: 9 | H56: 14 | I56: 240 | K56: 0 | L56: 0 | M56: 0 | N56: 0 | O56: 40 - 60 | Q56: 65.23 | S56: 0 | Y56: Birmingham City | AC56: 9 | AD56: 14 | AE56: 240 | AG56: 0 | AH56: 0 | AI56: 0 | AJ56: 0 | AK56: 40 - 60 | AM56: 63.68 | AO56: 0 | AY56: 12 | AZ56: 160 | BA56: =$AJ$84 -> 80 | BB56: =AK83 -> 50 - 50 | BC56: Roehampton | BE56: =Q83 -> 76.78 | BF56: =AM83 -> 66.56
C57: Surrey | G57: 10 | H57: 1 | I57: 240 | K57: 0 | L57: 0 | M57: 0 | N57: 0 | O57: 35 - 65 | Q57: 66.12 | S57: 0 | T57: Range of marks | Y57: Surrey | AC57: 10 | AD57: 1 | AE57: 240 | AG57: 0 | AH57: 0 | AI57: 0 | AJ57: 0 | AK57: 35 - 65 | AM57: 63.8 | AO57: 0 | AP57: Range of marks | AY57: Year 3 only
C58: Bangor | G58: 11 | H58: 14 | I58: 240 | K58: 0 | L58: 0 | M58: 0 | N58: 0 | O58: 33 - 67 | Q58: 66.48 | S58: 0 | T58: n = 122 | Y58: Bangor | AC58: 11 | AD58: 14 | AE58: 240 | AG58: 0 | AH58: 0 | AI58: 0 | AJ58: 0 | AK58: 33 - 67 | AM58: 63.84 | AO58: 0 | AP58: n = 122 | AY58: 13 | AZ58: 120 | BA58: 0 | BC58: Bolton | BE58: =Q87 -> 72.38 | BF58: =AM87 -> 64.63
C59: Bath | G59: 12 | H59: 1 | I59: 240 | K59: 0 | L59: 0 | M59: 0 | N59: 0 | O59: 32 - 68 | Q59: 66.66 | S59: 0 | U59: Max | V59: 76.78 | Y59: Bath | AC59: 12 | AD59: 1 | AE59: 240 | AG59: 0 | AH59: 0 | AI59: 0 | AJ59: 0 | AK59: 32 - 68 | AM59: 63.87 | AO59: 0 | AQ59: Max | AR59: 66.56 | AY59: 14 | AZ59: 100 | BA59: 20 | BC59: Coventry | BE59: =Q88 -> 73.65 | BF59: =AM88 -> 64.95
C60: Liverpool | G60: 13 | H60: 11 | I60: 240 | K60: 0 | L60: 0 | M60: 0 | N60: 0 | O60: 30 - 70 | Q60: 67.02 | S60: 0 | U60: Min | V60: 63.44 | Y60: Liverpool | AC60: 13 | AD60: 11 | AE60: 240 | AG60: 0 | AH60: 0 | AI60: 0 | AJ60: 0 | AK60: 30 - 70 | AM60: 63.92 | AO60: 0 | AQ60: Min | AR60: 63.44 | BD60: Range in degree marks
C61: Manchester Met | G61: 14 | H61: 12 | I61: 240 | K61: 0 | L61: 0 | M61: 0 | N61: 0 | O61: 25 - 75 | Q61: 67.91 | S61: 0 | U61: Difference | V61: 13.34 | Y61: Manchester Met | AC61: 14 | AD61: 12 | AE61: 240 | AG61: 0 | AH61: 0 | AI61: 0 | AJ61: 0 | AK61: 25 - 75 | AM61: 64.04 | AO61: 0 | AQ61: Difference | AR61: 3.12 | BE61: =MAX(BE44:BE59) -> 76.78 | BF61: =MAX(BF44:BF59) -> 66.56
C62: Derby | G62: 15 | H62: 3 | I62: 240 | K62: 0 | L62: 0 | M62: 0 | N62: 0 | O62: 20 - 80 | Q62: 68.8 | S62: P | U62: Median | V62: 67.85 | Y62: Derby | AC62: 15 | AD62: 3 | AE62: 240 | AG62: 0 | AH62: 0 | AI62: 0 | AJ62: 0 | AK62: 20 - 80 | AM62: 64.15 | AO62: 0 | AQ62: Median | AR62: 64.12 | BE62: =MIN(BE44:BE59) -> 63.44 | BF62: =MIN(BF44:BF59) -> 63.44
C63: Westminster | G63: 17 | H63: 1 | I63: 220 | K63: 0 | L63: 0 | M63: 0 | N63: 20 | O63: 33 - 67 | Q63: 67.33 | S63: 0 | U63: Average | V63: 67.68 | Y63: Westminster | AC63: 17 | AD63: 1 | AE63: 220 | AG63: 0 | AH63: 0 | AI63: 0 | AJ63: 20 | AK63: 33 - 67 | AM63: 64.06 | AO63: 0 | AQ63: Average | AR63: 64.04 | BE63: =BE61-BE62 -> 13.34 | BF63: =BF61-BF62 -> 3.12
...

Sheet DEGREE MARK SIMULATOR
DY1: 20 | DZ1: 30 | EA1: 60 | EB1: Roehampton | EC1: 1 | ED1: 2 | EI1: ROUND | EL1: 80 | IR1: GRADE | IX1: D1 | IY1: D2 | IZ1: D3 | JA1: D4 | JB1: C1 | JC1: C2 | JD1: C3 | JE1: C4 | JF1: B1 | JG1: B2 | JH1: B3 | JI1: B4 | JJ1: A1 | JK1: A2 | JL1: A3 | JM1: A4 | JN1: A*1 | JO1: A*2 | JP1: A*3 | JQ1: A*4 | JR1: A*
EA2: Y2 | EB2: =DS36 -> 0 | EC2: =DT36 -> X | ED2: =DU36 -> X | EE2: 1 | EF2: =SMALL($EC$2:$EC$25,EE2) -> #NUM! | EG2: =VLOOKUP(EF2,$EC$2:$ED$25,2,0) -> #NUM! | EH2: =EG2 -> #NUM! | EI2: =ROUNDDOWN(EF2,0) -> #NUM! | EJ2: =COUNT(EF2) -> 0 | EK2: =IF(EJ2=1,EG2*EI2,0) -> 0 | EL2: =IF(EH2<=$EL$1,(EG2*EI2),0) -> #NUM! | EM2: =IF(EJ2=1,EL2,0) -> 0 | EO2: L3 | EP2: L2
DU3: COUNTING | EB3: =DS37 -> 0 | EC3: =DT37 -> X | ED3: =DU37 -> X | EE3: =EE2+1 -> 2 | EF3: =SMALL($EC$2:$EC$25,EE3) -> #NUM! | EG3: =VLOOKUP(EF3,$EC$2:$ED$25,2,0) -> #NUM! | EH3: =EH2+EG3 -> #NUM! | EI3: =ROUNDDOWN(EF3,0) -> #NUM! | EJ3: =COUNT(EF3) -> 0 | EK3: =IF(EJ3=1,EG3*EI3,0) -> 0 | EL3: =IF(EH3<=$EL$1,(EG3*EI3),0) -> #NUM! | EM3: =IF(EJ3=1,EL3,0) -> 0 | EO3: 15 | EP3: =180-EO3 -> 165 | GN3: COUNT
DU4: 120 | DV4: DISCOUNT | EB4: =DS38 -> 0 | EC4: =DT38 -> X | ED4: =DU38 -> X | EE4: =EE3+1 -> 3 | EF4: =SMALL($EC$2:$EC$25,EE4) -> #NUM! | EG4: =VLOOKUP(EF4,$EC$2:$ED$25,2,0) -> #NUM! | EH4: =EH3+EG4 -> #NUM! | EI4: =ROUNDDOWN(EF4,0) -> #NUM! | EJ4: =COUNT(EF4) -> 0 | EK4: =IF(EJ4=1,EG4*EI4,0) -> 0 | EL4: =IF(EH4<=$EL$1,(EG4*EI4),0) -> #NUM! | EM4: =IF(EJ4=1,EL4,0) -> 0 | EO4: =EO3+15 -> 30 | EP4: =180-EO4 -> 150 | GN4: 120 | GO4: DISCOUNT
DU5: =DU4-5 -> 115 | DV5: =$CD$13-DU5 -> 5 | EB5: =DS39 -> 0 | EC5: =DT39 -> X | ED5: =DU39 -> X | EE5: =EE4+1 -> 4 | EF5: =SMALL($EC$2:$EC$25,EE5) -> #NUM! | EG5: =VLOOKUP(EF5,$EC$2:$ED$25,2,0) -> #NUM! | EH5: =EH4+EG5 -> #NUM! | EI5: =ROUNDDOWN(EF5,0) -> #NUM! | EJ5: =COUNT(EF5) -> 0 | EK5: =IF(EJ5=1,EG5*EI5,0) -> 0 | EL5: =IF(EH5<=$EL$1,(EG5*EI5),0) -> #NUM! | EM5: =IF(EJ5=1,EL5,0) -> 0 | EO5: =EO4+15 -> 45 | EP5: =180-EO5 -> 135 | GN5: =GN4-5 -> 115 | GO5: =$CD$13-GN5 -> 5
DU6: =DU5-5 -> 110 | DV6: =$CD$13-DU6 -> 10 | EB6: =DS40 -> 0 | EC6: =DT40 -> X | ED6: =DU40 -> X | EE6: =EE5+1 -> 5 | EF6: =SMALL($EC$2:$EC$25,EE6) -> #NUM! | EG6: =VLOOKUP(EF6,$EC$2:$ED$25,2,0) -> #NUM! | EH6: =EH5+EG6 -> #NUM! | EI6: =ROUNDDOWN(EF6,0) -> #NUM! | EJ6: =COUNT(EF6) -> 0 | EK6: =IF(EJ6=1,EG6*EI6,0) -> 0 | EL6: =IF(EH6<=$EL$1,(EG6*EI6),0) -> #NUM! | EM6: =IF(EJ6=1,EL6,0) -> 0 | EO6: =EO5+15 -> 60 | EP6: =180-EO6 -> 120 | GN6: =GN5-5 -> 110 | GO6: =$CD$13-GN6 -> 10
DU7: =DU6-5 -> 105 | DV7: =$CD$13-DU7 -> 15 | DW7: 1 | EB7: =DS41 -> 0 | EC7: =DT41 -> X | ED7: =DU41 -> X | EE7: =EE6+1 -> 6 | EF7: =SMALL($EC$2:$EC$25,EE7) -> #NUM! | EG7: =VLOOKUP(EF7,$EC$2:$ED$25,2,0) -> #NUM! | EH7: =EH6+EG7 -> #NUM! | EI7: =ROUNDDOWN(EF7,0) -> #NUM! | EJ7: =COUNT(EF7) -> 0 | EK7: =IF(EJ7=1,EG7*EI7,0) -> 0 | EL7: =IF(EH7<=$EL$1,(EG7*EI7),0) -> #NUM! | EM7: =IF(EJ7=1,EL7,0) -> 0 | EO7: =EO6+15 -> 75 | EP7: =180-EO7 -> 105 | GN7: =GN6-5 -> 105 | GO7: =$CD$13-GN7 -> 15 | GP7: 1
DU8: =DU7-5 -> 100 | DV8: =$CD$13-DU8 -> 20 | DW8: 2 | EB8: =DS42 -> 0 | EC8: =DT42 -> X | ED8: =DU42 -> X | EE8: =EE7+1 -> 7 | EF8: =SMALL($EC$2:$EC$25,EE8) -> #NUM! | EG8: =VLOOKUP(EF8,$EC$2:$ED$25,2,0) -> #NUM! | EH8: =EH7+EG8 -> #NUM! | EI8: =ROUNDDOWN(EF8,0) -> #NUM! | EJ8: =COUNT(EF8) -> 0 | EK8: =IF(EJ8=1,EG8*EI8,0) -> 0 | EL8: =IF(EH8<=$EL$1,(EG8*EI8),0) -> #NUM! | EM8: =IF(EJ8=1,EL8,0) -> 0 | EO8: =EO7+15 -> 90 | EP8: =180-EO8 -> 90 | GN8: =GN7-5 -> 100 | GO8: =$CD$13-GN8 -> 20 | GP8: 2
DU9: =DU8-5 -> 95 | DV9: =$CD$13-DU9 -> 25 | EB9: =DS43 -> 0 | EC9: =DT43 -> X | ED9: =DU43 -> X | EE9: =EE8+1 -> 8 | EF9: =SMALL($EC$2:$EC$25,EE9) -> #NUM! | EG9: =VLOOKUP(EF9,$EC$2:$ED$25,2,0) -> #NUM! | EH9: =EH8+EG9 -> #NUM! | EI9: =ROUNDDOWN(EF9,0) -> #NUM! | EJ9: =COUNT(EF9) -> 0 | EK9: =IF(EJ9=1,EG9*EI9,0) -> 0 | EL9: =IF(EH9<=$EL$1,(EG9*EI9),0) -> #NUM! | EM9: =IF(EJ9=1,EL9,0) -> 0 | EO9: =EO8+15 -> 105 | EP9: =180-EO9 -> 75 | GN9: =GN8-5 -> 95 | GO9: =$CD$13-GN9 -> 25
DU10: =DU9-5 -> 90 | DV10: =$CD$13-DU10 -> 30 | DW10: 3 | EB10: =DS44 -> 0 | EC10: =DT44 -> X | ED10: =DU44 -> X | EE10: =EE9+1 -> 9 | EF10: =SMALL($EC$2:$EC$25,EE10) -> #NUM! | EG10: =VLOOKUP(EF10,$EC$2:$ED$25,2,0) -> #NUM! | EH10: =EH9+EG10 -> #NUM! | EI10: =ROUNDDOWN(EF10,0) -> #NUM! | EJ10: =COUNT(EF10) -> 0 | EK10: =IF(EJ10=1,EG10*EI10,0) -> 0 | EL10: =IF(EH10<=$EL$1,(EG10*EI10),0) -> #NUM! | EM10: =IF(EJ10=1,EL10,0) -> 0 | EO10: =EO9+15 -> 120 | EP10: =180-EO10 -> 60 | GN10: =GN9-5 -> 90 | GO10: =$CD$13-GN10 -> 30 | GP10: 3
DU11: =DU10-5 -> 85 | DV11: =$CD$13-DU11 -> 35 | EB11: =DS45 -> 0 | EC11: =DT45 -> X | ED11: =DU45 -> X | EE11: =EE10+1 -> 10 | EF11: =SMALL($EC$2:$EC$25,EE11) -> #NUM! | EG11: =VLOOKUP(EF11,$EC$2:$ED$25,2,0) -> #NUM! | EH11: =EH10+EG11 -> #NUM! | EI11: =ROUNDDOWN(EF11,0) -> #NUM! | EJ11: =COUNT(EF11) -> 0 | EK11: =IF(EJ11=1,EG11*EI11,0) -> 0 | EL11: =IF(EH11<=$EL$1,(EG11*EI11),0) -> #NUM! | EM11: =IF(EJ11=1,EL11,0) -> 0 | EO11: =EO10+15 -> 135 | EP11: =180-EO11 -> 45 | GN11: =GN10-5 -> 85 | GO11: =$CD$13-GN11 -> 35
DU12: =DU11-5 -> 80 | DV12: =$CD$13-DU12 -> 40 | DW12: 4 | EB12: =DS46 -> 0 | EC12: =DT46 -> X | ED12: =DU46 -> X | EE12: =EE11+1 -> 11 | EF12: =SMALL($EC$2:$EC$25,EE12) -> #NUM! | EG12: =VLOOKUP(EF12,$EC$2:$ED$25,2,0) -> #NUM! | EH12: =EH11+EG12 -> #NUM! | EI12: =ROUNDDOWN(EF12,0) -> #NUM! | EJ12: =COUNT(EF12) -> 0 | EK12: =IF(EJ12=1,EG12*EI12,0) -> 0 | EL12: =IF(EH12<=$EL$1,(EG12*EI12),0) -> #NUM! | EM12: =IF(EJ12=1,EL12,0) -> 0 | EO12: =EO11+15 -> 150 | EP12: =180-EO12 -> 30 | GN12: =GN11-5 -> 80 | GO12: =$CD$13-GN12 -> 40
U13: COMPARE YOUR DEGREE CLASSIFCATION © [For degress based on 360 credits only] | AW13: 2 | AY13: =U33 -> YEAR 1 | BD13: =AB33 -> YEAR 2 | CD13: 120 | DU13: =DU12-5 -> 75 | DV13: =$CD$13-DU13 -> 45 | DW13: 5 | EB13: =DS47 -> 0 | EC13: =DT47 -> X | ED13: =DU47 -> X | EE13: =EE12+1 -> 12 | EF13: =SMALL($EC$2:$EC$25,EE13) -> #NUM! | EG13: =VLOOKUP(EF13,$EC$2:$ED$25,2,0) -> #NUM! | EH13: =EH12+EG13 -> #NUM! | EI13: =ROUNDDOWN(EF13,0) -> #NUM! | EJ13: =COUNT(EF13) -> 0 | EK13: =IF(EJ13=1,EG13*EI13,0) -> 0 | EL13: =IF(EH13<=$EL$1,(EG13*EI13),0) -> #NUM! | EM13: =IF(EJ13=1,EL13,0) -> 0 | EO13: =EO12+15 -> 165 | EP13: =180-EO13 -> 15 | GN13: =GN12-5 -> 75 | GO13: =$CD$13-GN13 -> 45 | IR13: BAND | IX13: D | IY13: [3rd] | JB13: C | JC13: [2:2] | JF13: B | JG13: [2:1] | JJ13: A | JK13: 1st | JN13: A* | JO13: [1st *] | JR13: A*
AX14: 1 | AY14: =U34 -> Module | AZ14: =X34 -> Credit | BA14: =Y34 -> Mark | BB14: =Z34 -> Grade | BD14: =AB34 -> Module | BE14: =AE34 -> Credit | BF14: =AF34 -> Mark | BG14: =AG34 -> Grade | BI14: =AI34 -> Module | BJ14: =AL34 -> Credit | BK14: =AM34 -> Mark | BL14: =AN34 -> Grade | CB14: y1 | CD14: =CD13-5 -> 115 | CE14: =$CD$13-CD14 -> 5 | DS14: y2 | DU14: =DU13-5 -> 70 | DV14: =$CD$13-DU14 -> 50 | EA14: Y3 | EB14: =GL36 -> 0 | EC14: =GM36 -> X | ED14: =GN36 -> X | EE14: =EE13+1 -> 13 | EF14: =SMALL($EC$2:$EC$25,EE14) -> #NUM! | EG14: =VLOOKUP(EF14,$EC$2:$ED$25,2,0) -> #NUM! | EH14: =EH13+EG14 -> #NUM! | EI14: =ROUNDDOWN(EF14,0) -> #NUM! | EJ14: =COUNT(EF14) -> 0 | EK14: =IF(EJ14=1,EG14*EI14,0) -> 0 | EL14: =IF(EH14<=$EL$1,(EG14*EI14),0) -> #NUM! | EM14: =IF(EJ14=1,EL14,0) -> 0 | EO14: =EO13+15 -> 180 | EP14: =180-EO14 -> 0 | GL14: y3 | GN14: =GN13-5 -> 70 | GO14: =$CD$13-GN14 -> 50
U15: This calculator enables you to compare your actual or likely degree outcome across 41 different algorithms used by 122 universities (i.e. the simulator excludes universities that use profiling -see tab: 'Introduction'). The initial mark is a proposed 'National Degree Mark', which is the weighted average of all module marks across all years of study. The National Degree Grades (D1 to A*4) complement the current classifications (3rd to a 1st). See tab Register for the full set of degree marks for these 122 universities. | AX15: 1 | AY15: =U35 | AZ15: =X35 -> 0 | BA15: =Y35 -> 0 | BB15: =Z35 | BD15: =AB35 | BE15: =AE35 -> 0 | BF15: =AF35 -> 0 | BG15: =AG35 | BI15: =AI35 | BJ15: =AL35 -> 0 | BK15: =AM35 -> 0 | BL15: =AN35 | CB15: =ROUNDDOWN(BA15,0) -> 0 | CD15: =CD14-5 -> 110 | CE15: =$CD$13-CD15 -> 10 | DS15: =ROUNDDOWN(BF15,0) -> 0 | DU15: =DU14-5 -> 65 | DV15: =$CD$13-DU15 -> 55 | EB15: =GL37 -> 0 | EC15: =GM37 -> X | ED15: =GN37 -> X | EE15: =EE14+1 -> 14 | EF15: =SMALL($EC$2:$EC$25,EE15) -> #NUM! | EG15: =VLOOKUP(EF15,$EC$2:$ED$25,2,0) -> #NUM! | EH15: =EH14+EG15 -> #NUM! | EI15: =ROUNDDOWN(EF15,0) -> #NUM! | EJ15: =COUNT(EF15) -> 0 | EK15: =IF(EJ15=1,EG15*EI15,0) -> 0 | EL15: =IF(EH15<=$EL$1,(EG15*EI15),0) -> #NUM! | EM15: =IF(EJ15=1,EL15,0) -> 0 | GL15: =ROUNDDOWN(BK15,0) -> 0 | GN15: =GN14-5 -> 65 | GO15: =$CD$13-GN15 -> 55
AX16: =AX15+1 -> 2 | AY16: =U36 | AZ16: =X36 -> 0 | BA16: =Y36 -> 0 | BB16: =Z36 | BD16: =AB36 | BE16: =AE36 -> 0 | BF16: =AF36 -> 0 | BG16: =AG36 | BI16: =AI36 | BJ16: =AL36 -> 0 | BK16: =AM36 -> 0 | BL16: =AN36 | CB16: =ROUNDDOWN(BA16,0) -> 0 | CD16: =CD15-5 -> 105 | CE16: =$CD$13-CD16 -> 15 | DS16: =ROUNDDOWN(BF16,0) -> 0 | DU16: =DU15-5 -> 60 | DV16: =$CD$13-DU16 -> 60 | DW16: 6 | EB16: =GL38 -> 0 | EC16: =GM38 -> X | ED16: =GN38 -> X | EE16: =EE15+1 -> 15 | EF16: =SMALL($EC$2:$EC$25,EE16) -> #NUM! | EG16: =VLOOKUP(EF16,$EC$2:$ED$25,2,0) -> #NUM! | EH16: =EH15+EG16 -> #NUM! | EI16: =ROUNDDOWN(EF16,0) -> #NUM! | EJ16: =COUNT(EF16) -> 0 | EK16: =IF(EJ16=1,EG16*EI16,0) -> 0 | EL16: =IF(EH16<=$EL$1,(EG16*EI16),0) -> #NUM! | EM16: =IF(EJ16=1,EL16,0) -> 0 | GL16: =ROUNDDOWN(BK16,0) -> 0 | GN16: =GN15-5 -> 60 | GO16: =$CD$13-GN16 -> 60
AX17: =AX16+1 -> 3 | AY17: =U37 | AZ17: =X37 -> 0 | BA17: =Y37 -> 0 | BB17: =Z37 | BD17: =AB37 | BE17: =AE37 -> 0 | BF17: =AF37 -> 0 | BG17: =AG37 | BI17: =AI37 | BJ17: =AL37 -> 0 | BK17: =AM37 -> 0 | BL17: =AN37 | CB17: =ROUNDDOWN(BA17,0) -> 0 | CD17: =CD16-5 -> 100 | CE17: =$CD$13-CD17 -> 20 | DS17: =ROUNDDOWN(BF17,0) -> 0 | DU17: =DU16-5 -> 55 | DV17: =$CD$13-DU17 -> 65 | EB17: =GL39 -> 0 | EC17: =GM39 -> X | ED17: =GN39 -> X | EE17: =EE16+1 -> 16 | EF17: =SMALL($EC$2:$EC$25,EE17) -> #NUM! | EG17: =VLOOKUP(EF17,$EC$2:$ED$25,2,0) -> #NUM! | EH17: =EH16+EG17 -> #NUM! | EI17: =ROUNDDOWN(EF17,0) -> #NUM! | EJ17: =COUNT(EF17) -> 0 | EK17: =IF(EJ17=1,EG17*EI17,0) -> 0 | EL17: =IF(EH17<=$EL$1,(EG17*EI17),0) -> #NUM! | EM17: =IF(EJ17=1,EL17,0) -> 0 | GL17: =ROUNDDOWN(BK17,0) -> 0 | GN17: =GN16-5 -> 55 | GO17: =$CD$13-GN17 -> 65
AX18: =AX17+1 -> 4 | AY18: =U38 | AZ18: =X38 -> 0 | BA18: =Y38 -> 0 | BB18: =Z38 | BD18: =AB38 | BE18: =AE38 -> 0 | BF18: =AF38 -> 0 | BG18: =AG38 | BI18: =AI38 | BJ18: =AL38 -> 0 | BK18: =AM38 -> 0 | BL18: =AN38 | CB18: =ROUNDDOWN(BA18,0) -> 0 | CD18: =CD17-5 -> 95 | CE18: =$CD$13-CD18 -> 25 | DS18: =ROUNDDOWN(BF18,0) -> 0 | DU18: =DU17-5 -> 50 | DV18: =$CD$13-DU18 -> 70 | EB18: =GL40 -> 0 | EC18: =GM40 -> X | ED18: =GN40 -> X | EE18: =EE17+1 -> 17 | EF18: =SMALL($EC$2:$EC$25,EE18) -> #NUM! | EG18: =VLOOKUP(EF18,$EC$2:$ED$25,2,0) -> #NUM! | EH18: =EH17+EG18 -> #NUM! | EI18: =ROUNDDOWN(EF18,0) -> #NUM! | EJ18: =COUNT(EF18) -> 0 | EK18: =IF(EJ18=1,EG18*EI18,0) -> 0 | EL18: =IF(EH18<=$EL$1,(EG18*EI18),0) -> #NUM! | EM18: =IF(EJ18=1,EL18,0) -> 0 | GL18: =ROUNDDOWN(BK18,0) -> 0 | GN18: =GN17-5 -> 50 | GO18: =$CD$13-GN18 -> 70
U19: Before you use the simulator, its a good idea to look at the 'Calculating marks' tab (if you haven't done so already), this will help you to understand how an algorithm uses discounting and differential weighting to arrive at a degree mark. | AX19: =AX18+1 -> 5 | AY19: =U39 | AZ19: =X39 -> 0 | BA19: =Y39 -> 0 | BB19: =Z39 | BD19: =AB39 | BE19: =AE39 -> 0 | BF19: =AF39 -> 0 | BG19: =AG39 | BI19: =AI39 | BJ19: =AL39 -> 0 | BK19: =AM39 -> 0 | BL19: =AN39 | CB19: =ROUNDDOWN(BA19,0) -> 0 | CD19: =CD18-5 -> 90 | CE19: =$CD$13-CD19 -> 30 | DS19: =ROUNDDOWN(BF19,0) -> 0 | DU19: =DU18-5 -> 45 | DV19: =$CD$13-DU19 -> 75 | EB19: =GL41 -> 0 | EC19: =GM41 -> X | ED19: =GN41 -> X | EE19: =EE18+1 -> 18 | EF19: =SMALL($EC$2:$EC$25,EE19) -> #NUM! | EG19: =VLOOKUP(EF19,$EC$2:$ED$25,2,0) -> #NUM! | EH19: =EH18+EG19 -> #NUM! | EI19: =ROUNDDOWN(EF19,0) -> #NUM! | EJ19: =COUNT(EF19) -> 0 | EK19: =IF(EJ19=1,EG19*EI19,0) -> 0 | EL19: =IF(EH19<=$EL$1,(EG19*EI19),0) -> #NUM! | EM19: =IF(EJ19=1,EL19,0) -> 0 | GL19: =ROUNDDOWN(BK19,0) -> 0 | GN19: =GN18-5 -> 45 | GO19: =$CD$13-GN19 -> 75
AX20: =AX19+1 -> 6 | AY20: =U40 | AZ20: =X40 -> 0 | BA20: =Y40 -> 0 | BB20: =Z40 | BD20: =AB40 | BE20: =AE40 -> 0 | BF20: =AF40 -> 0 | BG20: =AG40 | BI20: =AI40 | BJ20: =AL40 -> 0 | BK20: =AM40 -> 0 | BL20: =AN40 | CB20: =ROUNDDOWN(BA20,0) -> 0 | CD20: =CD19-5 -> 85 | CE20: =$CD$13-CD20 -> 35 | DS20: =ROUNDDOWN(BF20,0) -> 0 | DU20: =DU19-5 -> 40 | DV20: =$CD$13-DU20 -> 80 | DW20: 7 | EB20: =GL42 -> 0 | EC20: =GM42 -> X | ED20: =GN42 -> X | EE20: =EE19+1 -> 19 | EF20: =SMALL($EC$2:$EC$25,EE20) -> #NUM! | EG20: =VLOOKUP(EF20,$EC$2:$ED$25,2,0) -> #NUM! | EH20: =EH19+EG20 -> #NUM! | EI20: =ROUNDDOWN(EF20,0) -> #NUM! | EJ20: =COUNT(EF20) -> 0 | EK20: =IF(EJ20=1,EG20*EI20,0) -> 0 | EL20: =IF(EH20<=$EL$1,(EG20*EI20),0) -> #NUM! | EM20: =IF(EJ20=1,EL20,0) -> 0 | GL20: =ROUNDDOWN(BK20,0) -> 0 | GN20: =GN19-5 -> 40 | GO20: =$CD$13-GN20 -> 80
AX21: =AX20+1 -> 7 | AY21: =U41 | AZ21: =X41 -> 0 | BA21: =Y41 -> 0 | BB21: =Z41 | BD21: =AB41 | BE21: =AE41 -> 0 | BF21: =AF41 -> 0 | BG21: =AG41 | BI21: =AI41 | BJ21: =AL41 -> 0 | BK21: =AM41 -> 0 | BL21: =AN41 | CB21: =ROUNDDOWN(BA21,0) -> 0 | CD21: =CD20-5 -> 80 | CE21: =$CD$13-CD21 -> 40 | DS21: =ROUNDDOWN(BF21,0) -> 0 | DU21: =DU20-5 -> 35 | DV21: =$CD$13-DU21 -> 85 | EB21: =GL43 -> 0 | EC21: =GM43 -> X | ED21: =GN43 -> X | EE21: =EE20+1 -> 20 | EF21: =SMALL($EC$2:$EC$25,EE21) -> #NUM! | EG21: =VLOOKUP(EF21,$EC$2:$ED$25,2,0) -> #NUM! | EH21: =EH20+EG21 -> #NUM! | EI21: =ROUNDDOWN(EF21,0) -> #NUM! | EJ21: =COUNT(EF21) -> 0 | EK21: =IF(EJ21=1,EG21*EI21,0) -> 0 | EL21: =IF(EH21<=$EL$1,(EG21*EI21),0) -> #NUM! | EM21: =IF(EJ21=1,EL21,0) -> 0 | GL21: =ROUNDDOWN(BK21,0) -> 0 | GN21: =GN20-5 -> 35 | GO21: =$CD$13-GN21 -> 85
AX22: =AX21+1 -> 8 | AY22: =U42 | AZ22: =X42 -> 0 | BA22: =Y42 -> 0 | BB22: =Z42 | BD22: =AB42 | BE22: =AE42 -> 0 | BF22: =AF42 -> 0 | BG22: =AG42 | BI22: =AI42 | BJ22: =AL42 -> 0 | BK22: =AM42 -> 0 | BL22: =AN42 | CB22: =ROUNDDOWN(BA22,0) -> 0 | CD22: =CD21-5 -> 75 | CE22: =$CD$13-CD22 -> 45 | DS22: =ROUNDDOWN(BF22,0) -> 0 | DU22: =DU21-5 -> 30 | DV22: =$CD$13-DU22 -> 90 | DW22: 8 | EB22: =GL44 -> 0 | EC22: =GM44 -> X | ED22: =GN44 -> X | EE22: =EE21+1 -> 21 | EF22: =SMALL($EC$2:$EC$25,EE22) -> #NUM! | EG22: =VLOOKUP(EF22,$EC$2:$ED$25,2,0) -> #NUM! | EH22: =EH21+EG22 -> #NUM! | EI22: =ROUNDDOWN(EF22,0) -> #NUM! | EJ22: =COUNT(EF22) -> 0 | EK22: =IF(EJ22=1,EG22*EI22,0) -> 0 | EL22: =IF(EH22<=$EL$1,(EG22*EI22),0) -> #NUM! | EM22: =IF(EJ22=1,EL22,0) -> 0 | GL22: =ROUNDDOWN(BK22,0) -> 0 | GN22: =GN21-5 -> 30 | GO22: =$CD$13-GN22 -> 90
AX23: =AX22+1 -> 9 | AY23: =U43 | AZ23: =X43 -> 0 | BA23: =Y43 -> 0 | BB23: =Z43 | BD23: =AB43 | BE23: =AE43 -> 0 | BF23: =AF43 -> 0 | BG23: =AG43 | BI23: =AI43 | BJ23: =AL43 -> 0 | BK23: =AM43 -> 0 | BL23: =AN43 | CB23: =ROUNDDOWN(BA23,0) -> 0 | CD23: =CD22-5 -> 70 | CE23: =$CD$13-CD23 -> 50 | DS23: =ROUNDDOWN(BF23,0) -> 0 | DU23: =DU22-5 -> 25 | DV23: =$CD$13-DU23 -> 95 | EB23: =GL45 -> 0 | EC23: =GM45 -> X | ED23: =GN45 -> X | EE23: =EE22+1 -> 22 | EF23: =SMALL($EC$2:$EC$25,EE23) -> #NUM! | EG23: =VLOOKUP(EF23,$EC$2:$ED$25,2,0) -> #NUM! | EH23: =EH22+EG23 -> #NUM! | EI23: =ROUNDDOWN(EF23,0) -> #NUM! | EJ23: =COUNT(EF23) -> 0 | EK23: =IF(EJ23=1,EG23*EI23,0) -> 0 | EL23: =IF(EH23<=$EL$1,(EG23*EI23),0) -> #NUM! | EM23: =IF(EJ23=1,EL23,0) -> 0 | GL23: =ROUNDDOWN(BK23,0) -> 0 | GN23: =GN22-5 -> 25 | GO23: =$CD$13-GN23 -> 95
AX24: =AX23+1 -> 10 | AY24: =U44 | AZ24: =X44 -> 0 | BA24: =Y44 -> 0 | BB24: =Z44 | BD24: =AB44 | BE24: =AE44 -> 0 | BF24: =AF44 -> 0 | BG24: =AG44 | BI24: =AI44 | BJ24: =AL44 -> 0 | BK24: =AM44 -> 0 | BL24: =AN44 | CB24: =ROUNDDOWN(BA24,0) -> 0 | CD24: =CD23-5 -> 65 | CE24: =$CD$13-CD24 -> 55 | DS24: =ROUNDDOWN(BF24,0) -> 0 | DU24: =DU23-5 -> 20 | DV24: =$CD$13-DU24 -> 100 | EB24: =GL46 -> 0 | EC24: =GM46 -> X | ED24: =GN46 -> X | EE24: =EE23+1 -> 23 | EF24: =SMALL($EC$2:$EC$25,EE24) -> #NUM! | EG24: =VLOOKUP(EF24,$EC$2:$ED$25,2,0) -> #NUM! | EH24: =EH23+EG24 -> #NUM! | EI24: =ROUNDDOWN(EF24,0) -> #NUM! | EJ24: =COUNT(EF24) -> 0 | EK24: =IF(EJ24=1,EG24*EI24,0) -> 0 | EL24: =IF(EH24<=$EL$1,(EG24*EI24),0) -> #NUM! | EM24: =IF(EJ24=1,EL24,0) -> 0 | GL24: =ROUNDDOWN(BK24,0) -> 0 | GN24: =GN23-5 -> 20 | GO24: =$CD$13-GN24 -> 100
AX25: =AX24+1 -> 11 | AY25: =U45 | AZ25: =X45 -> 0 | BA25: =Y45 -> 0 | BB25: =Z45 | BD25: =AB45 | BE25: =AE45 -> 0 | BF25: =AF45 -> 0 | BG25: =AG45 | BI25: =AI45 | BJ25: =AL45 -> 0 | BK25: =AM45 -> 0 | BL25: =AN45 | DS25: =ROUNDDOWN(BF25,0) -> 0 | DU25: =DU23-5 -> 20 | DV25: =$CD$13-DU25 -> 100 | EB25: =GL47 -> 0 | EC25: =GM47 -> X | ED25: =GN47 -> X | EE25: =EE24+1 -> 24 | EF25: =SMALL($EC$2:$EC$25,EE25) -> #NUM! | EG25: =VLOOKUP(EF25,$EC$2:$ED$25,2,0) -> #NUM! | EH25: =EH24+EG25 -> #NUM! | EI25: =ROUNDDOWN(EF25,0) -> #NUM! | EJ25: =COUNT(EF25) -> 0 | EK25: =IF(EJ25=1,EG25*EI25,0) -> 0 | EL25: =IF(EH25<=$EL$1,(EG25*EI25),0) -> #NUM! | EM25: =IF(EJ25=1,EL25,0) -> 0 | GL25: =ROUNDDOWN(BK25,0) -> 0 | GN25: =GN24-5 -> 15 | GO25: =$CD$13-GN25 -> 105
AX26: =AX25+1 -> 12 | AY26: =U46 | AZ26: =X46 -> 0 | BA26: =Y46 -> 0 | BB26: =Z46 | BD26: =AB46 | BE26: =AE46 -> 0 | BF26: =AF46 -> 0 | BG26: =AG46 | BI26: =AI46 | BJ26: =AL46 -> 0 | BK26: =AM46 -> 0 | BL26: =AN46 | DS26: =ROUNDDOWN(BF26,0) -> 0 | DU26: =DU24-5 -> 15 | DV26: =$CD$13-DU26 -> 105 | EK26: =SUM(EK2:EK25) -> 0 | EM26: =SUM(EM2:EM25) -> 0 | EN26: =EK26-EM26 -> 0 | GL26: =ROUNDDOWN(BK26,0) -> 0 | GN26: =GN25-5 -> 10 | GO26: =$CD$13-GN26 -> 110
U27: The 'calculator' can accommodate modules of 5 credit or above, the maximum number of credits per year is however 12. | CB27: =ROUNDDOWN(BA25,0) -> 0 | CD27: =CD24-5 -> 60 | CE27: =$CD$13-CD27 -> 60 | DU27: =DU25-5 -> 15 | DV27: =$CD$13-DU27 -> 105 | EK27: 240 | EM27: =EL1 -> 80 | EN27: =EK27-EM27 -> 160 | GN27: =GN26-5 -> 5 | GO27: =$CD$13-GN27 -> 115 | KJ27: 8.49
U28: 1. In the yellow cells, enter in your known or target module marks and credits (use whole numbers and always round down) | AX28: row H = 20 | CB28: =ROUNDDOWN(BA26,0) -> 0 | CD28: =CD27-5 -> 55 | CE28: =$CD$13-CD28 -> 65 | DU28: =DU26-5 -> 10 | DV28: =$CD$13-DU28 -> 110 | EK28: =EK26/EK27 -> 0 | EM28: =EM26/EM27 -> 0 | EN28: =EN26/EN27 -> 0 | GN28: =GN27-5 -> 0 | GO28: =$CD$13-GN28 -> 120 | KE28: DEFINATE UPLIFTS | KJ28: 8
U29: 2. Be careful when entering your marks and the related credit, incorrect entries will be very misleading | CD29: =CD28-5 -> 50 | CE29: =$CD$13-CD29 -> 70 | IR29: GRADE | IT29: E1 | IU29: E2 | IV29: E3 | IW29: E4 | IX29: D1 | IY29: D2 | IZ29: D3 | JA29: D4 | JB29: C1 | JC29: C2 | JD29: C3 | JE29: C4 | JF29: B1 | JG29: B2 | JH29: B3 | JI29: B4 | JJ29: A1 | JK29: A2 | JL29: A3 | JM29: A4 | JN29: A*1 | JO29: A*2 | JP29: A*3 | JQ29: A*4 | JR29: A** | KE29: =JX30 -> 50 | KF29: =JY30 -> 60 | KG29: =JZ30 -> 70 | KJ29: =KE29 -> 50 | KK29: =KF29 -> 60 | KL29: =KG29 -> 70
U30: 3. For each year check that all your credits add up to 120 and that overall your total credits are 360 | IR30: LOWER | IS30: 0 | IT30: 30 | IU30: =IT31+0.01 -> 32.5 | IV30: =IU31+0.01 -> 35 | IW30: =IV31+0.01 -> 37.5 | IX30: 40 | IY30: 42.5 | IZ30: 45 | JA30: 47.5 | JB30: 50 | JC30: 52.5 | JD30: 55 | JE30: 57.5 | JF30: 60 | JG30: 62.5 | JH30: 65 | JI30: 67.5 | JJ30: 70 | JK30: 72.5 | JL30: 75 | JM30: 77.5 | JN30: 80 | JO30: 82.5 | JP30: 85 | JQ30: 87.5 | JR30: 90 | JS30: 101 | JW30: =IX30 -> 40 | JX30: =JB30 -> 50 | JY30: =JF30 -> 60 | JZ30: =JJ30 -> 70 | KA30: =JN30 -> 80 | KB30: 101 | KE30: =JW30+9.49 -> 49.49 | KF30: =JX30+9.49 -> 59.49 | KG30: =JY30+9.49 -> 69.49 | KJ30: =IF(KJ13=1,(JW30+KJ27),IF(KJ13=0,(JW30+KJ28))) -> 48 | KK30: =IF(KJ13=1,(JX30+KJ27),IF(KJ13=0,(JX30+KJ28))) -> 58 | KL30: =IF(KJ13=1,(JY30+KJ27),IF(KJ13=0,(JY30+KJ28))) -> 68
U31: 4. The area below is formatted for printing, but check Page Break Preview before printing. | IR31: UPPER | IS31: 29.99 | IT31: =IT30+2.49 -> 32.49 | IU31: =IU30+2.49 -> 34.99 | IV31: =IV30+2.49 -> 37.49 | IW31: =IW30+2.49 -> 39.99 | IX31: 42.49 | IY31: 44.99 | IZ31: 47.49 | JA31: 49.99 | JB31: 52.49 | JC31: 54.99 | JD31: 57.49 | JE31: 59.99 | JF31: 62.49 | JG31: 64.99 | JH31: 67.49 | JI31: 69.99 | JJ31: 72.49 | JK31: 74.99 | JL31: 77.49 | JM31: 79.99 | JN31: 82.49 | JO31: 84.99 | JP31: 87.49 | JQ31: 89.99 | JR31: +
IS32: 1 | IT32: =IS32+1 -> 2 | IU32: =IT32+1 -> 3 | IV32: =IU32+1 -> 4 | IW32: =IV32+1 -> 5 | IX32: =IW32+1 -> 6 | IY32: =IX32+1 -> 7 | IZ32: =IY32+1 -> 8 | JA32: =IZ32+1 -> 9 | ... JR32: =JQ32+1 -> 26 | JV32: 1 | JW32: =JV32+1 -> 2 | JX32: =JW32+1 -> 3 | JY32: =JX32+1 -> 4 | JZ32: =JY32+1 -> 5 | KA32: =JZ32+1 -> 6 | KE32: 1 | KF32: 2 | KG32: 3 | KJ32: 1 | KK32: 2 | KL32: 3 | LB32: A selection of UK university algorithms [as of July 2017]
U33: YEAR 1 | AB33: YEAR 2 | AI33: YEAR 3 | CF33: degree of smallness | EE33: 105 | HL33: 1 | HM33: 2 | HN33: 3 | HO33: 4 | HP33: 5 | HQ33: 6 | HR33: 7 | HS33: 1 | HT33: 2 | HU33: 3 | HV33: 4 | HW33: 5 | HX33: 6 | HY33: 7 | HZ33: 1 | IA33: 2 | IB33: 3 | IC33: 4 | ID33: 5 | IE33: 6 | IF33: 7 | IR33: GRADE | IS33: F | IT33: E1 | IU33: E2 | IV33: E3 | IW33: E4 | IX33: D1 | IY33: D2 | IZ33: D3 | JA33: D4 | JB33: C1 | JC33: C2 | JD33: C3 | JE33: C4 | JF33: B1 | JG33: B2 | JH33: B3 | JI33: B4 | JJ33: A1 | JK33: A2 | JL33: A3 | JM33: A4 | JN33: A*1 | JO33: A*2 | JP33: A*3 | JQ33: A*4 | JR33: A** | JV33: F | JW33: 3rd | JX33: 2:2 | JY33: 2:1 | JZ33: 1st | KA33: 1st* | LB33: Algorithm | LC33: Years Used | LD33: Weights | LE33: UNIVERSITY
U34: Module | X34: Credit | Y34: Mark | Z34: Grade | AB34: Module | AE34: Credit | AF34: Mark | AG34: Grade | AI34: Module | AL34: Credit | AM34: Mark | AN34: Grade | AX34: 5 | AY34: 10 | AZ34: 15 | BA34: 20 | BB34: 25 | BC34: 30 | BD34: 35 | BE34: 40 | BF34: 45 | BG34: 50 | BH34: 55 | BI34: 60 | CE34: rank [1] | CG34: small | CH34: vlook | CJ34: rank [2] | CK34: R / Tot | CN34: 20 D | CU34: 30 D | DB34: 40 D | DI34: 40 D | DT34: rank [1] | DX34: small | DY34: vlook | EA34: rank [2] | EB34: R / Tot | EE34: 1 | EL34: =EE34+1 -> 2 | ES34: =EL34+1 -> 3 | EZ34: =ES34+1 -> 4 | FG34: =EZ34+1 -> 5 | FN34: =FG34+1 -> 6 | FU34: =FN34+1 -> 7 | GB34: =FU34+1 -> 8 | GN34: rank [1] | GP34: small | GQ34: vlook | GS34: rank [2] | GT34: R / Tot | GX34: 1 | HE34: =GX34+1 -> 2 | HL34: =HE34+1 -> 3 | HS34: =HL34+1 -> 4 | HZ34: =HS34+1 -> 5 | IZ34: =(COUNTIF(IS35:IS40,">0")+(COUNTIF(IS42:IS47,">0")+(COUNTIF(IS49:IS54,">0")))) -> 18 | JA34: =(COUNTIF(IT35:IT40,">0")+(COUNTIF(IT42:IT47,">0")+(COUNTIF(IT49:IT54,">0")))) -> 0 | JB34: =(COUNTIF(IU35:IU40,">0")+(COUNTIF(IU42:IU47,">0")+(COUNTIF(IU49:IU54,">0")))) -> 0 | JC34: =(COUNTIF(IV35:IV40,">0")+(COUNTIF(IV42:IV47,">0")+(COUNTIF(IV49:IV54,">0")))) -> 0 | JD34: =(COUNTIF(IW35:IW40,">0")+(COUNTIF(IW42:IW47,">0")+(COUNTIF(IW49:IW54,">0")))) -> 0 | JE34: =(COUNTIF(IX35:IX40,">0")+(COUNTIF(IX42:IX47,">0")+(COUNTIF(IX49:IX54,">0")))) -> 0 | JF34: =(COUNTIF(IY35:IY40,">0")+(COUNTIF(IY42:IY47,">0")+(COUNTIF(IY49:IY54,">0")))) -> 0 | JG34: =(COUNTIF(IZ35:IZ40,">0")+(COUNTIF(IZ42:IZ47,">0")+(COUNTIF(IZ49:IZ54,">0")))) -> 0 | ... JY34: =(COUNTIF(JR35:JR40,">0")+(COUNTIF(JR42:JR47,">0")+(COUNTIF(JR49:JR54,">0")))) -> 0 | JZ34: =SUM(IZ34:JY34) -> 18 | LI34: ALL CREDITS AND ALL YEARS USED [360 credits in total]
U35: =AY115 | Z35: =IP35 | AB35: =BA115 | AG35: =IP47 | AI35: =BC115 | AN35: =IP59 | AX35: =IF($X35=$AX$34,1,0) -> 0 | AY35: =IF($X35=$AY$34,1,0) -> 0 | AZ35: =IF($X35=$AZ$34,1,0) -> 0 | BA35: =IF($X35=$BA$34,1,0) -> 0 | BB35: =IF($X35=$BB$34,1,0) -> 0 | BC35: =IF($X35=$BC$34,1,0) -> 0 | BD35: =IF($X35=$BD$34,1,0) -> 0 | BE35: =IF($X35=$BE$34,1,0) -> 0 | BF35: =IF($X35=$BF$34,1,0) -> 0 | BG35: =IF($X35=$BG$34,1,0) -> 0 | BH35: =IF($X35=$BH$34,1,0) -> 0 | BI35: =IF($X35=$BI$34,1,0) -> 0 | BJ35: =SUM(AX35:BI35) -> 0 | BK35: =COUNT(X35) -> 0 | BT35: UWE | CB35: Y1 | CC35: 1 | CD35: 2 | CE35: 3 | CF35: 4 | CG35: 5 | CH35: 6 | CI35: 7 | CJ35: 8 | CK35: 100 | CM35: round mark | CN35: 80 | CO35: if y1 = 1 | CU35: 60 | CV35: if y1 = 1 | DB35: 105 | DC35: if y1 = 1 | DI35: 15 | DJ35: if y1 = 1 | DS35: Y2 | DT35: 1 | DU35: 2 | DV35: 3 | DW35: 4 | DX35: 5 | DY35: 6 | DZ35: 7 | EA35: 8 | EB35: 9 | EC35: 10 | ED35: round mark | EE35: 105 | EF35: if y2 = 1 | EL35: 100 | EM35: if y2 = 1 | ES35: 90 | ET35: if y2 = 1 | EZ35: 80 | FA35: if y2 = 1 | FG35: 75 | FH35: if y2 = 1 | FN35: 60 | FO35: if y2 = 1 | FU35: 40 | FV35: if y2 = 1 | GB35: 30 | GC35: if y2 = 1 | GL35: Y3 | GM35: 1 | GN35: 2 | GO35: 3 | GP35: 4 | GQ35: 5 | GR35: 6 | GS35: 7 | GT35: 8 | GU35: 100 | GW35: round mark | GX35: 105 | GY35: if y3 = 1 | HE35: 100 | HF35: if y3 = 1 | HL35: 90 | HM35: if y3 = 1 | HS35: 80 | HT35: if y3 = 1 | HZ35: 60 | IA35: if y3 = 1 | IH35: left over [FROM BEST 100] | IM35: 1 | IN35: =AA115 -> 0 | IO35: =IF(IN35=1,JT35," ") | IP35: =IF(IR35>100,"??",IO35) | IQ35: =IF(IR35>100,1,0) -> 0 | IR35: =Y35 -> 0 | IS35: =IF(AND($IR35>=$IS$30,$IR35<$IT$30),IS$32,0) -> 1 | IT35: =IF(AND($IR35>=$IT$30,$IR35<$IU$30),IT$32,0) -> 0 | IU35: =IF(AND($IR35>=$IU$30,$IR35<$IV$30),IU$32,0) -> 0 | IV35: =IF(AND($IR35>=$IV$30,$IR35<$IW$30),IV$32,0) -> 0 | IW35: =IF(AND($IR35>=$IW$30,$IR35<$IX$30),IW$32,0) -> 0 | IX35: =IF(AND($IR35>=$IX$30,$IR35<$IY$30),IX$32,0) -> 0 | IY35: =IF(AND($IR35>=$IY$30,$IR35<$IZ$30),IY$32,0) -> 0 | IZ35: =IF(AND($IR35>=$IZ$30,$IR35<$JA$30),IZ$32,0) -> 0 | JA35: =IF(AND($IR35>=$JA$30,$IR35<$JB$30),JA$32,0) -> 0 | JB35: =IF(AND($IR35>=$JB$30,$IR35<$JC$30),JB$32,0) -> 0 | JC35: =IF(AND($IR35>=$JC$30,$IR35<$JD$30),JC$32,0) -> 0 | JD35: =IF(AND($IR35>=$JD$30,$IR35<$JE$30),JD$32,0) -> 0 | JE35: =IF(AND($IR35>=$JE$30,$IR35<$JF$30),JE$32,0) -> 0 | JF35: =IF(AND($IR35>=$JF$30,$IR35<$JG$30),JF$32,0) -> 0 | JG35: =IF(AND($IR35>=$JG$30,$IR35<$JH$30),JG$32,0) -> 0 | JH35: =IF(AND($IR35>=$JH$30,$IR35<$JI$30),JH$32,0) -> 0 | JI35: =IF(AND($IR35>=$JI$30,$IR35<$JJ$30),JI$32,0) -> 0 | JJ35: =IF(AND($IR35>=$JJ$30,$IR35<$JK$30),JJ$32,0) -> 0 | JK35: =IF(AND($IR35>=$JK$30,$IR35<$JL$30),JK$32,0) -> 0 | JL35: =IF(AND($IR35>=$JL$30,$IR35<$JM$30),JL$32,0) -> 0 | JM35: =IF(AND($IR35>=$JM$30,$IR35<$JN$30),JM$32,0) -> 0 | JN35: =IF(AND($IR35>=$JN$30,$IR35<$JO$30),JN$32,0) -> 0 | JO35: =IF(AND($IR35>=$JO$30,$IR35<$JP$30),JO$32,0) -> 0 | JP35: =IF(AND($IR35>=$JP$30,$IR35<$JQ$30),JP$32,0) -> 0 | JQ35: =IF(AND($IR35>=$JQ$30,$IR35<$JR$30),JQ$32,0) -> 0 | JR35: =IF(AND($IR35>=$JR$30,$IR35<$JS$30),JR$32,0) -> 0 | JS35: =SUM(IS35:JR35) -> 1 | JT35: =HLOOKUP(JS35,$IS$32:$JR$33,2,0) -> F | JV35: =IF(AND($IR35>=$JV$30,$IR35<$JW$30),JV$32,0) -> 1 | JW35: =IF(AND($IR35>=$JW$30,$IR35<$JX$30),JW$32,0) -> 0 | JX35: =IF(AND($IR35>=$JX$30,$IR35<$JY$30),JX$32,0) -> 0 | JY35: =IF(AND($IR35>=$JY$30,$IR35<$JZ$30),JY$32,0) -> 0 | JZ35: =IF(AND($IR35>=$JZ$30,$IR35<$KA$30),JZ$32,0) -> 0 | KA35: =IF(AND($IR35>=$KA$30,$IR35<$KB$30),KA$32,0) -> 0 | KB35: =SUM(JV35:KA35) -> 1 | KC35: =HLOOKUP(KB35,$JV$32:$KB$33,2,0) -> F | LB35: 1 | LC35: Y1 / Y2 / Y3 | LD35: EVEN | LE35: London School of Economics
