Workbook

Sheet INTRODUCTION
B2: The range of algorithms used by UK universities [27-01-2019] | J2: The Variation in UK University Degree Algorithms - why it matters | R2: web link to WonkHE
B3: Alg | C3: COUNTING CREDITS | D3: DISCOUNT | E3: WEIGHTING | G3: No. | H3: University | J3: In the UK there are 170 institutions with degree awarding powers and each has their own algorithm. The table lists the algorithms of 127 such institutions. If your university is not in the list its either because each degree has its own algorithm, details were not available over the web or, the institution only offers postgraduate courses (see tab - Register)
B4: Years 1, 2, and 3 [NO DISCOUNTING] - 4
B5: 1 | C5: 360 | D5: 0 | E5: SPLIT CREDITS | G5: 2 | H5: Aberystwyth, King's College London
B6: 2 | C6: 360 | D6: 0 | E6: 10/30/60 | G6: 2 | H6: QU Belfast, Queen Mary
B7: Years 1, 2, and 3 [DISCOUNTING] - 3 | J7: As autonomous institutions, all UK universities have their own method (or algorithms) for calculating a degree mark which then determines the final degree classification [e.g. 1st, 2:1, 2:2, or 3rd], they differ in three ways:
B8: 3 | C8: 320 | D8: 40 | E8: 10/30/60 | G8: 1 | H8: Plymouth
B9: 4 | C9: 300 | D9: 60 | E9: 1/1/1 | G9: 1 | H9: LSE
B10: 5 | C10: 300 | D10: 60 | E10: 1/3/5 | G10: 1 | H10: Goldsmiths | J10: [1] The number of years used in the calculation.
B11: Years 2 and 3 [NO DISCOUNTING] - 69 | J11: [2] The weightings given to those years used (or differential weighting).
B12: 6 | C12: 240 | D12: 0 | E12: PROFILE | G12: 3 | H12: Middlesex, Robert Gordon, SOAS | J12: [3] Whether lower marks are ignored (or discounted) in any of the counting years.
B13: 7 | C13: 240 | D13: 0 | E13: SPLIT CREDITS | G13: 2 | H13: Swansea, London South Bank, | J13: The range in algorithms
B14: 8 | C14: 240 | D14: 0 | E14: 50 - 50 | G14: 8 | H14: Abertay, Arden, Bishop Grosseteste, Buckingham, Edinburgh, OU, St Andrews, York St John | J14: The table shows that UK universities use a wide range of algorithms (36), these are arranged first by which years are used in the calculation and then by which discount (or ignore) the lowest marks. The largest group [69 universities] uses years 2 and 3 and they do not discount marks, but there is a wide range weightings, ranging from 50/50 to 20/80 - year 2 and year 3 respectively.
B16: 9 | C16: 240 | D16: 0 | E16: 40 - 60 | G16: 14 | H16: Birmingham City, BPP, Chichester, Dundee, Durham, East Anglia, Essex, Kent, Newman-Birmingham, Northumbria Newcastle, Suffolk, Sussex, Writtle College, York
J18: In split-credits, the marks within a year are batched and weighted differently. For example, at Swansea, (i) the best 80 credits at year 3 are given a weighting of 3, (ii) the remaining 40 credits at year 3 and the best marks in 40 credits in year 2 are given a weighting of 2, (iii) and the remaining year 2 marks a weighting of 1.
B19: 10 | C19: 240 | D19: 0 | E19: 35 - 65 | G19: 1 | H19: Surrey
B20: 11 | C20: 240 | D20: 0 | E20: 33 - 67 | G20: 14 | H20: Bangor, Birkbeck, Brunel, Buckinghamshire-New, Exeter, Falmouth, Keele, Leeds Arts, Leicester, Liverpool Hope*, Reading, Royal Holloway, Sheffield, Southampton
J21: Profiling uses the preponderance principle to determine the student’s classification (as opposed to degree mark). The process begins by ranking the student’s marks and then looks at the proportion of marks at or above a given mark. For example, a student might be awarded a first (1st) where they have attained 90 credits at 70% or higher and 30 credits at 60% or higher over the counting years.
B23: 12 | C23: 240 | D23: 0 | E23: 32 - 68 | G23: 1 | H23: Bath
B24: 13 | C24: 240 | D24: 0 | E24: 30 - 70 | G24: 11 | H24: AECC, Bournemouth, Cardiff*, Harper Adams, Hull, LIBF, Liverpool, RAU, Regent's London, Staffordshire, Ulster
J25: Why this variation matters
B26: 14 | C26: 240 | D26: 0 | E26: 25 - 75 | G26: 12 | H26: Arts University Bournemouth, Aston, Birmingham, Brighton, Courtauld Institute of Art, CSSD, Leeds Trinity*, Liverpool John Moores, Manchester Met, NUA, UCA, UCB | J26: It follows that different algorithms will result in different marks (and classification) when applied to the same set of marks - consider the likely difference in the degree mark between that of Aberystwyth (all years no discounts) and Coventry (the best 100 credits from year 3 only). As a result;
B29: 15 | C29: 240 | D29: 0 | E29: 20 - 80 | G29: 3 | H29: Derby, London South Bank, Queen Margaret, Trinity Laban Conservatoire | J29: (a) | K29: The same set of marks would receive a different classification depending on which university the student attended
B31: Years 2 and 3 [DISCOUNTING] - 38 | J31: (b) | K31: Students with inconsistent marks are advantaged while those with consistent mark are not.
B32: 16 | C32: 220 | D32: 20 | E32: PROFILE | G32: 1 | H32: Stirling ^^ | J32: All in all, this is not very fair as your final degree outcome might ultimately depend on which university you currently attend or attended (see tab: 'Example marks'). In addition, the complexity of some of these algorithms makes it challenging for students to gauge how they are doing in their studies.
B33: 17 | C33: 220 | D33: 20 | E33: 33 - 67 | G33: 1 | H33: Westminster ^^
B34: 18 | C34: 210 | D34: 30 | E34: 50 - 50 | G34: 1 | H34: Oxford Brookes ^^
B35: 19 | C35: 210 | D35: 30 | E35: SPLIT CREDITS | G35: 1 | H35: Winchester | J35: What's the solution?
B36: 20 | C36: 210 | D36: 30 | E36: 25 - 75 | G36: 1 | H36: De Montfort | J36: A National Degree Mark and Grade - a proposal | Q36: Degree Grades
B37: 21 | C37: 210 | D37: 30 | E37: 20 - 80 | G37: 2 | H37: Greenwich, Kingston | J37: The 'National Degree Mark', is simply the weighted average of all module marks across all years of study. The National Degree Grades (D1 to A*4) complement the current classifications (3rd to a 1st). | Q37: BAND | R37: [%] | S37: GRADE
B38: 22 | C38: 200 | D38: 40 | E38: 40 - 60 | G38: 3 | H38: Canterbury Christ Church, Edge Hill, Portsmouth | Q38: D | R38: 40 | S38: D1
B39: 23 | C39: 200 | D39: 40 | E39: 35 - 65 | G39: 1 | H39: West London | Q39: [3rd] | R39: 42.5 | S39: D2
B40: 24 | C40: 200 | D40: 40 | E40: 33 - 67 | G40: 3 | H40: Chester, Huddersfield, Trinity Saint David | J40: The proposed National Degree Mark and Grade are not intended to replace the way universities currently calculate degree marks, nor replace the traditional classifications, rather Its purpose is to level up the reporting of university students achievements in that the same calculation would apply to all UK graduates. | R40: 45 | S40: D3
B41: 25 | C41: 200 | D41: 40 | E41: 30 - 70 | G41: 5 | H41: Bath Spa, Cardiff Met, Cumbria, Solent, Teesside | R41: 47.5 | S41: D4
B42: 26 | C42: 200 | D42: 40 | E42: 25 - 75 | G42: 5 | H42: Hartpury, Leeds Beckett, Salford, Sheffield Hallam, UWE | Q42: C | R42: 50 | S42: C1
B43: 27 | C43: 200 | D43: 40 | E43: 20 - 80 | G43: 3 | H43: Bradford, Central Lancashire, Sunderland | Q43: [2:2] | R43: 52.5 | S43: C2
B44: 28 | C44: 180 | D44: 60 | E44: 50 - 50 | G44: 5 | H44: Anglia Ruskin, Edinburgh Napier, Glasgow Caledonian, South Wales, Wolverhampton ^^ | J44: For universities, this proposal is cheap to implement, they have the data already, it only requires changes to the coding of existing data bases to collate, record and publish this data. Indeed, as an unadulterated average, this national degree mark would not require any changes to existing academic regulations – it is what it is. | R44: 55 | S44: C3
R45: 57.5 | S45: C4
B46: 29 | C46: 180 | D46: 60 | E46: 25 - 75 | G46: 2 | H46: Hertfordshire, London Met | Q46: B | R46: 60 | S46: B1
B47: 30 | C47: 180 | D47: 60 | E47: 20 - 80 | G47: 1 | H47: East London | Q47: [2:1] | R47: 62.5 | S47: B2
B48: 31 | C48: 160 | D48: 80 | E48: 50 - 50 | G48: 1 | H48: Roehampton ^^ | R48: 65 | S48: B3
B49: 32 | C49: 160 | D49: 80 | E49: SPLIT CREDITS | G49: 1 | H49: Plymouth Marjon | J49: While the national degree mark will always be lower than any mark using the current algorithms, its a lot easier to calculate and monitor as you progress in your studies (see tab- 'Calculating marks'). If you look after your yearly averages, the degree classification and mark will look after itself. | R49: 67.5 | S49: B4
B50: 33 | C50: 120 | D50: 120 | E50: 50 - 50 | G50: 1 | H50: Ravensbourne | Q50: A | R50: 70 | S50: A1
B51: Year 3 only [NO DICOUNTING] - 11 | Q51: [1st] | R51: 72.5 | S51: A2
B52: 34 | C52: 120 | D52: 0 | E52: PROFILE | F52: 0 | G52: 1 | H52: Worcester* | R52: 75 | S52: A3
B53: 35 | C53: 120 | D53: 0 | E53: AVERAGE | G53: 10 | H53: Bedfordshire*, Bolton*, Gloucestershire, Highlands & Islands, Lincoln*, Nottingham Trent, UAL*, UCEM, West of Scotland, Worcester*, Wrexham Glyndŵr | R53: 77.5 | S53: A4
J54: Have a look at the 'Degree Mark Simulator' tab and see how your current marks and target marks compare across a range of algorithms (including the National Degree Mark). If you have any questions about the spreadsheet or this proposal then email Dave Allen at | Q54: A* | R54: 80 | S54: A*1
Q55: [1st] | R55: 82.5 | S55: A*2
B56: Year 3 only [DISCOUNTING] - 2 | R56: 85 | S56: A*3
B57: 36 | C57: 100 | D57: 20 | E57: AVERAGE | G57: 2 | H57: St Mary’s, Twickenham*, Coventry | R57: 87.5 | S57: A*4
E58: Total | G58: =SUM(G5:G57) -> 127 | J58: nationaldegreemark@gmail.com
B59: [*] EITHER / OR - uses two algorithms where the highest is the degree mark [^^] Discount lowest marks in any year
B60: The area above is formatted for printing, but check Page Break Preview before printing.

Sheet Calculating marks
B2: In this worksheet you are asked to do some very simple calculations - which hopefully will help you to better understand how all your marks (module and degree) are calculated.
C7: Calculating Marks | U7: Page 1 | V7: 1
C8: Its best to start by looking at how we can use the weighted average to find a module mark. Most modules have two or three assessment elements (e.g. test, essay that make up the coursework component and a final exam) and these elements might have different weightings - as below
P11: =X19
C12: Module [A] | F12: Weight [%] | I12: Mark | AD12: =AVERAGE(I13:J15) -> 67.666667
C13: Essay | F13: 30 | H13: =X13 | I13: 56 | L13: =Y13 | M13: =Z13 | X13: =IF($S$20="x",AA13," ") | Y13: =IF($S$20="x",AB13," ") | Z13: =IF($S$20="x",AD13," ") | AA13: x | AB13: = | AD13: =I13*F13 -> 1680 | AH13: CW
C14: Test | F14: 20 | H14: =X14 | I14: 79 | L14: =Y14 | M14: =Z14 | X14: =IF($S$20="x",AA14," ") | Y14: =IF($S$20="x",AB14," ") | Z14: =IF($S$20="x",AD14," ") | AA14: x | AB14: = | AD14: =I14*F14 -> 1580 | AG14: =AD14+AD13 -> 3260 | AH14: =AG14/50 -> 65.2
C15: Final Exam | F15: 50 | H15: =X15 | I15: 68 | L15: =Y15 | M15: =Z15 | X15: =IF($S$20="x",AA15," ") | Y15: =IF($S$20="x",AB15," ") | Z15: =IF($S$20="x",AD15," ") | AA15: x | AB15: = | AD15: =I15*F15 -> 3400
F16: =SUM(F13:F15) -> 100 | M16: =X16 | O16: =X17 | P16: =Y17 | R16: =Z17 | X16: =IF($S$20="x",AD16," ") | AD16: =SUM(AD13:AD15) -> 6660
C17: If we took the simple average of 56, 79, and 68 we would get 67.7% - but this is incorrect. We need the weighted average which recognises that the exam makes a bigger contribution [50%] to the final mark than the test [20%]. | X17: =IF($S$20="x",AA17," ") | Y17: =IF($S$20="x",AB17," ") | Z17: =IF($S$20="x",AD17," ") | AA17: ÷ | AB17: 100 = | AC17: = | AD17: =AD16/100 -> 66.6
X19: =IF($S$20="x",AD19," ") | AD19: Despite the temptation to round up, always round DOWN any calculated value (it avoids later disappointment) - so 66.60% becomes 66%
C20: The weighted average
C21: The simplest way to find the weighted average is to multiply the weight by the mark for each of the elements i.e. 30 x 56, 20 x 79 and 50 x 68. You then add up the three calculated values and divide it by the total weights (i.e. in this case 100). If you have tested yourself with the maths, type X in the yellow square to reveal the answers. | X21: =IF(S20="x",1,0) -> 0
C24: =X26 | R24: =X25
C25: =AA27 | X25: =IF($S$20="x",AD25," ") | AD25: Type your answer here
C26: =X30 | X26: =IF($S$20="x",AD26," ") | AD26: What is the coursework mark (rounded down)?
C27: =X31 | AA27: =IF(X21=1,AB27," ") | AB27: =IF(AE29>0,AD27," ") | AD27: =IF(AF29=1,AG27,AG28) -> Incorrect - the coursework mark is: (30 x 56) + (20 x 79) = 3,260, divided by 50 credits gives 65.2%, which rounded down is 65% | AF27: =IF(S24="65",1,0) -> 0 | AG27: Correct - the coursework mark is: (30 x 56) + (20 x 79) = 3,260, divided by 50 credits gives 65.2%, which rounded down is 65%
AF28: =IF(S24="65%",1,0) -> 0 | AG28: Incorrect - the coursework mark is: (30 x 56) + (20 x 79) = 3,260, divided by 50 credits gives 65.2%, which rounded down is 65%
D29: =X33 | X29: =IF(AE29>0,1,0) -> 0 | AE29: =LEN(S24) -> 0 | AF29: =AF28+AF27 -> 0
D30: =X34 | E30: =Y34 | F30: =Z34 | G30: =AL45 | J30: =AB34 | K30: =AC34 | L30: =AD34 | M30: =AP45 | P30: =AF34 | Q30: =AG34 | R30: =AH34 | S30: =AT45 | X30: =IF($AE$29>0,AD30," ") | AD30: Yearly Averages
D31: =X35 | E31: =Y35 | F31: =Z35 | G31: =AL46 | J31: =AB35 | K31: =AC35 | L31: =AD35 | M31: =AP46 | P31: =AF35 | Q31: =AG35 | R31: =AH35 | S31: =AT46 | X31: =IF(X21=1,AB31," ") | AB31: =IF($AE$29>0,AD31," ") | AD31: We can use the same method to calculate annual averages. This method is particularly helpful when you have modules with different credits (Crd) or weightings as shown below
D32: =X36 | E32: =Y36 | F32: =Z36 | G32: =AL47 | J32: =AB36 | K32: =AC36 | L32: =AD36 | M32: =AP47 | P32: =AF36 | Q32: =AG36 | R32: =AH36 | S32: =AT47 | X32: =IF(S28="x",1,0) -> 0
D33: =X37 | E33: =Y37 | F33: =Z37 | G33: =AL48 | J33: =AB37 | K33: =AC37 | L33: =AD37 | M33: =AP48 | P33: =AF37 | Q33: =AG37 | R33: =AH37 | S33: =AT48 | X33: =IF(AE29>0,AJ33," ") | AJ33: Student A - marks | AR33: Student A
D34: =X38 | E34: =Y38 | F34: =Z38 | G34: =AL49 | J34: =AB38 | K34: =AC38 | L34: =AD38 | M34: =AP49 | P34: =AF38 | Q34: =AG38 | R34: =AH38 | S34: =AT49 | X34: =IF(AE29>0,AJ34," ") | Y34: =IF(AE29>0,AK34," ") | Z34: =IF(AE29>0,AL34," ") | AB34: =IF(AE29>0,AN34," ") | AC34: =IF(AE29>0,AO34," ") | AD34: =IF(AE29>0,AP34," ") | AF34: =IF(AE29>0,AR34," ") | AG34: =IF(AE29>0,AS34," ") | AH34: =IF(AE29>0,AT34," ") | AJ34: Y1 | AK34: Crd | AL34: Mark | AM34: C x M | AN34: Y2 | AO34: Crd | AP34: Mark | AQ34: C x M | AR34: Y3 | AS34: Crd | AT34: Mark | AU34: C x M
D35: =X39 | E35: =Y39 | F35: =Z39 | G35: =AL50 | J35: =AB39 | K35: =AC39 | L35: =AD39 | M35: =AP50 | P35: =AF39 | Q35: =AG39 | R35: =AH39 | S35: =AT50 | X35: =IF(AE29>0,AJ35," ") | Y35: =IF(AE29>0,AK35," ") | Z35: =IF(AE29>0,AL35," ") | AB35: =IF(AE29>0,AN35," ") | AC35: =IF(AE29>0,AO35," ") | AD35: =IF(AE29>0,AP35," ") | AF35: =IF(AE29>0,AR35," ") | AG35: =IF(AE29>0,AS35," ") | AH35: =IF(AE29>0,AT35," ") | AJ35: Mod 1 | AK35: 30 | AL35: 54 | AM35: =AL35*AK35 -> 1620 | AN35: Mod 7 | AO35: 15 | AP35: 43 | AQ35: =AP35*AO35 -> 645 | AR35: Mod 13 | AS35: 30 | AT35: 66 | AU35: =AT35*AS35 -> 1980
D36: =X40 | E36: =Y40 | F36: =Z40 | G36: =AL51 | J36: =AB40 | K36: =AC40 | L36: =AD40 | M36: =AP51 | P36: =AF40 | Q36: =AG40 | R36: =AH40 | S36: =AT51 | X36: =IF(AE29>0,AJ36," ") | Y36: =IF(AE29>0,AK36," ") | Z36: =IF(AE29>0,AL36," ") | AB36: =IF(AE29>0,AN36," ") | AC36: =IF(AE29>0,AO36," ") | AD36: =IF(AE29>0,AP36," ") | AF36: =IF(AE29>0,AR36," ") | AG36: =IF(AE29>0,AS36," ") | AH36: =IF(AE29>0,AT36," ") | AJ36: Mod 2 | AK36: 30 | AL36: 57 | AM36: =AL36*AK36 -> 1710 | AN36: Mod 8 | AO36: 15 | AP36: 47 | AQ36: =AP36*AO36 -> 705 | AR36: Mod 14 | AS36: 30 | AT36: 71 | AU36: =AT36*AS36 -> 2130
D37: =X41 | E37: =Y41 | F37: =Z41 | G37: =AL52 | J37: =AB41 | K37: =AC41 | L37: =AD41 | M37: =AP52 | P37: =AF41 | Q37: =AG41 | R37: =AH41 | S37: =AT52 | X37: =IF(AE29>0,AJ37," ") | Y37: =IF(AE29>0,AK37," ") | Z37: =IF(AE29>0,AL37," ") | AB37: =IF(AE29>0,AN37," ") | AC37: =IF(AE29>0,AO37," ") | AD37: =IF(AE29>0,AP37," ") | AF37: =IF(AE29>0,AR37," ") | AG37: =IF(AE29>0,AS37," ") | AH37: =IF(AE29>0,AT37," ") | AJ37: Mod 3 | AK37: 15 | AL37: 63 | AM37: =AL37*AK37 -> 945 | AN37: Mod 9 | AO37: 15 | AP37: 50 | AQ37: =AP37*AO37 -> 750 | AR37: Mod 15 | AS37: 15 | AT37: 74 | AU37: =AT37*AS37 -> 1110
F38: =AJ53 | G38: =AL54 | L38: =AN53 | M38: =AP54 | R38: =AR53 | S38: =AT54 | X38: =IF(AE29>0,AJ38," ") | Y38: =IF(AE29>0,AK38," ") | Z38: =IF(AE29>0,AL38," ") | AB38: =IF(AE29>0,AN38," ") | AC38: =IF(AE29>0,AO38," ") | AD38: =IF(AE29>0,AP38," ") | AF38: =IF(AE29>0,AR38," ") | AG38: =IF(AE29>0,AS38," ") | AH38: =IF(AE29>0,AT38," ") | AJ38: Mod 4 | AK38: 15 | AL38: 65 | AM38: =AL38*AK38 -> 975 | AN38: Mod 10 | AO38: 15 | AP38: 56 | AQ38: =AP38*AO38 -> 840 | AR38: Mod 16 | AS38: 15 | AT38: 75 | AU38: =AT38*AS38 -> 1125
C39: =X44 | X39: =IF(AE29>0,AJ39," ") | Y39: =IF(AE29>0,AK39," ") | Z39: =IF(AE29>0,AL39," ") | AB39: =IF(AE29>0,AN39," ") | AC39: =IF(AE29>0,AO39," ") | AD39: =IF(AE29>0,AP39," ") | AF39: =IF(AE29>0,AR39," ") | AG39: =IF(AE29>0,AS39," ") | AH39: =IF(AE29>0,AT39," ") | AJ39: Mod 5 | AK39: 15 | AL39: 72 | AM39: =AL39*AK39 -> 1080 | AN39: Mod 11 | AO39: 30 | AP39: 60 | AQ39: =AP39*AO39 -> 1800 | AR39: Mod 17 | AS39: 15 | AT39: 75 | AU39: =AT39*AS39 -> 1125
X40: =IF(AE29>0,AJ40," ") | Y40: =IF(AE29>0,AK40," ") | Z40: =IF(AE29>0,AL40," ") | AB40: =IF(AE29>0,AN40," ") | AC40: =IF(AE29>0,AO40," ") | AD40: =IF(AE29>0,AP40," ") | AF40: =IF(AE29>0,AR40," ") | AG40: =IF(AE29>0,AS40," ") | AH40: =IF(AE29>0,AT40," ") | AJ40: Mod 6 | AK40: 15 | AL40: 80 | AM40: =AL40*AK40 -> 1200 | AN40: Mod 12 | AO40: 30 | AP40: 60 | AQ40: =AP40*AO40 -> 1800 | AR40: Mod 18 | AS40: 15 | AT40: 81 | AU40: =AT40*AS40 -> 1215
X41: =IF($AE$29>0,AJ41," ") | Y41: =IF($AE$29>0,AK41," ") | Z41: =IF($AE$29>0,AL41," ") | AB41: =IF($AE$29>0,AN41," ") | AC41: =IF($AE$29>0,AO41," ") | AD41: =IF($AE$29>0,AP41," ") | AF41: =IF($AE$29>0,AR41," ") | AG41: =IF($AE$29>0,AS41," ") | AH41: =IF($AE$29>0,AT41," ") | AJ41: Total | AK41: =SUM(AK35:AK40) -> 120 | AM41: =SUM(AM35:AM40) -> 7530 | AN41: Total | AO41: =SUM(AO35:AO40) -> 120 | AQ41: =SUM(AQ35:AQ40) -> 6540 | AR41: Total | AS41: =SUM(AS35:AS40) -> 120 | AU41: =SUM(AU35:AU40) -> 8685
C42: =X46 | S42: =X47 | AL42: ÷ 120 = | AM42: =AM41/AK41 -> 62.75 | AP42: =AL42 -> ÷ 120 = | AQ42: =AQ41/AO41 -> 54.5 | AT42: =AP42 -> ÷ 120 = | AU42: 72.37 | AW42: =SUM(AM35:AM40,,AQ35:AQ40,AU35:AU40) -> 22755 | AX42: =AW42/360 -> 63.208333 | AY42: =ROUND(AQ42,2) -> 54.5 | AZ42: =ROUND(AU42,2) -> 72.37 | BA42: =AZ42+AY42 -> 126.87 | BB42: =BA42/2 -> 63.435
AN43: =AVERAGE(AM42,AQ42) -> 58.625 | AU43: =AVERAGE(AM42,AQ42,AU42) -> 63.206667
C44: =X48 | X44: =IF($AE$29>0,AD44," ") | AD44: In this example the 30 credit modules make a bigger contribution to the annual mark. The procedure is the same: multiply the mark by the credit (or the weight). For each year add up the 6 values and divide by the total number of credits [i.e. 120]. Type X in the yellow square to reveal the values and yearly averages.
C45: =X51 | AL45: =IF($X$21=1,AM45," ") | AM45: =IF($S$28="x",AM34," ") | AP45: =IF($X$21=1,AQ45," ") | AQ45: =IF($S$28="x",AQ34," ") | AT45: =IF($X$21=1,AU45," ") | AU45: =IF($S$28="x",AU34," ")
X46: =IF($S$28="x",AA46," ") | AA46: Annual marks and the overall degree marks are truncated at two decimal points, this being so, what is the overall average mark across all modules, i.e. What is this student's 'National Degree Mark'? | AL46: =IF($X$21=1,AM46," ") | AM46: =IF($S$28="x",AM35," ") | AP46: =IF($X$21=1,AQ46," ") | AQ46: =IF($S$28="x",AQ35," ") | AT46: =IF($X$21=1,AU46," ") | AU46: =IF($S$28="x",AU35," ")
C47: =X52 | X47: =IF($S$28="x",AA47," ") | AA47: Answer here | AL47: =IF($X$21=1,AM47," ") | AM47: =IF($S$28="x",AM36," ") | AP47: =IF($X$21=1,AQ47," ") | AQ47: =IF($S$28="x",AQ36," ") | AT47: =IF($X$21=1,AU47," ") | AU47: =IF($S$28="x",AU36," ")
X48: =IF($S$28="x",AC48," ") | AC48: =IF(AF50>0,AE48," ") | AE48: =IF(AG50=1,AH48,AH49) -> Incorrect - (62.75 + 54.50 +72.38) ÷ 3 = 63.21, their National Degree Grade is B2 | AG48: =IF(S43="63.21",1,0) -> 0 | AH48: Correct - (62.75 + 54.50 +72.38) ÷ 3 = 63.21, their National Degree Grade is B2 | AL48: =IF($X$21=1,AM48," ") | AM48: =IF($S$28="x",AM37," ") | AP48: =IF($X$21=1,AQ48," ") | AQ48: =IF($S$28="x",AQ37," ") | AT48: =IF($X$21=1,AU48," ") | AU48: =IF($S$28="x",AU37," ")
AG49: =IF(S43="63.21%",1,0) -> 0 | AH49: Incorrect - (62.75 + 54.50 +72.38) ÷ 3 = 63.21, their National Degree Grade is B2 | AL49: =IF($X$21=1,AM49," ") | AM49: =IF($S$28="x",AM38," ") | AP49: =IF($X$21=1,AQ49," ") | AQ49: =IF($S$28="x",AQ38," ") | AT49: =IF($X$21=1,AU49," ") | AU49: =IF($S$28="x",AU38," ")
X50: =IF(AF50>0,1,0) -> 0 | AA50: The Variation in UK University Degree Algorithms - why it matters | AF50: =LEN(S43) -> 0 | AG50: =SUM(AG48:AG49) -> 0 | AL50: =IF($X$21=1,AM50," ") | AM50: =IF($S$28="x",AM39," ") | AP50: =IF($X$21=1,AQ50," ") | AQ50: =IF($S$28="x",AQ39," ") | AT50: =IF($X$21=1,AU50," ") | AU50: =IF($S$28="x",AU39," ")
D51: =AA56 | M51: =AG56 | X51: =IF(Z51=4,AA50," ") | Z51: =X21+X29+X32+X50 -> 0 | AA51: We can use Student A's marks above to demonstrate one of the problems with the variation in UK degree algorithms, namely: the same set of marks would receive a different classification depending on which university the student attended. Putting these marks in to the degree mark simulator (see tab: 'Example marks') we get the following degree marks. | AL51: =IF($X$21=1,AM51," ") | AM51: =IF($S$28="x",AM40," ") | AP51: =IF($X$21=1,AQ51," ") | AQ51: =IF($S$28="x",AQ40," ") | AT51: =IF($X$21=1,AU51," ") | AU51: =IF($S$28="x",AU40," ")
D52: =AA57 | H52: =AE57 | J52: =Y55 | M52: =AG57 | Q52: =AI57 | X52: =IF(Z51=4,AA51," ") | AL52: =IF($X$21=1,AM52," ") | AM52: =IF($S$28="x",AM41," ") | AP52: =IF($X$21=1,AQ52," ") | AQ52: =IF($S$28="x",AQ41," ") | AT52: =IF($X$21=1,AU52," ") | AU52: =IF($S$28="x",AU41," ")
D53: =AA58 | H53: =AE58 | M53: =AG58 | Q53: =AI58 | AJ53: =IF($X$21=1,AL53," ") | AK53: =IF($X$21=1,AM53," ") | AL53: =IF($S$28="x",AL42," ") | AM53: =IF($S$28="x",AM42,0) -> 0 | AN53: =IF($X$21=1,AP53," ") | AO53: =IF($X$21=1,AQ53," ") | AP53: =IF($S$28="x",AP42," ") | AQ53: =IF($S$28="x",AQ42,0) -> 0 | AR53: =IF($X$21=1,AT53," ") | AS53: =IF($X$21=1,AU53," ") | AT53: =IF($S$28="x",AT42," ") | AU53: =IF($S$28="x",AU42,0) -> 0
D54: =AA59 | H54: =AE59 | M54: =AG59 | Q54: =AI59 | S54: =Y55 | AL54: =IF($X$21=1,AM54," ") | AM54: =ROUND(AM53,2) -> 0 | AP54: =IF($X$21=1,AQ54," ") | AQ54: =ROUND(AQ53,2) -> 0 | AT54: =IF($X$21=1,AU54," ") | AU54: =ROUND(AU53,2) -> 0
D55: =AA55 | Y55: =IF($Z$51=4,Z55," ") | Z55: Å | AA55: =IF($Z$51=4,AL55," ") | AL55: =CONCATENATE("Range in degree marks: ",Y59, " percentage points") -> #VALUE!
Y56: =IF($Z$51=4,Z56,"") | AA56: =IF($Z$51=4,AL56," ") | AG56: =IF($Z$51=4,AO56," ") | AL56: Top 3 degree marks | AO56: Bottom 3 degree marks
C57: =Y60 | AA57: =IF($Z$51=4,AL57," ") | AE57: =IF($Z$51=4,AM57," ") | AG57: =IF($Z$51=4,AO57," ") | AI57: =IF($Z$51=4,AP57," ") | AK57: 1 | AL57: Roehampton | AM57: 76.78 | AN57: 12 | AO57: LSE | AP57: 65.63 | AQ57: 12 | AS57: Roehampton | AT57: 76.78 | AU57: LSE | AV57: 65.63
AA58: =IF($Z$51=4,AL58," ") | AE58: =IF($Z$51=4,AM58," ") | AG58: =IF($Z$51=4,AO58," ") | AI58: =IF($Z$51=4,AP58," ") | AK58: =AK57+1 -> 2 | AL58: Coventry | AM58: 73.65 | AN58: 11 | AO58: Birmingham City | AP58: 65.23 | AQ58: 11 | AS58: Coventry | AT58: 73.65 | AU58: Birmingham City | AV58: 65.23
Y59: =H52-Q54 -> #VALUE! | AA59: =IF($Z$51=4,AL59," ") | AE59: =IF($Z$51=4,AM59," ") | AG59: =IF($Z$51=4,AO59," ") | AI59: =IF($Z$51=4,AP59," ") | AK59: =AK58+1 -> 3 | AL59: Oxford Brookes | AM59: 73.44 | AN59: 10 | AO59: Abertay | AP59: 63.44 | AQ59: 10 | AS59: Oxford Brookes | AT59: 73.44 | AU59: Abertay | AV59: 63.44
Y60: =IF($Z$51=4,AJ60," ") | AJ60: Student A's marks could be described as 'inconsistent", not only within years, but between years. On the other hand Student B (below) has consistent marks, within and between years. Importantly, Student B's national degree mark and grade (63.21/B2), their average mark between year 2 and 3 (63.44), and their year one mark (62.75) are all the same as Student A's. Putting Student B's marks in to the simulator gives us the following top 3 and bottom 3 degree marks:
D61: =Y61 | Y61: =IF($Z$51=4,AJ61," ") | AH61: =IF($Z$51=4,AT62," ") | AJ61: Student B - marks | AP61: Student B
D62: =Y62 | E62: =Z62 | F62: =AA62 | G62: =AB62 | H62: =AC62 | I62: =AD62 | J62: =AE62 | K62: =AF62 | L62: =AG62 | N62: =AH61 | Y62: =IF($Z$51=4,AJ62," ") | Z62: =IF($Z$51=4,AK62," ") | AA62: =IF($Z$51=4,AL62," ") | AB62: =IF($Z$51=4,AM62," ") | AC62: =IF($Z$51=4,AN62," ") | AD62: =IF($Z$51=4,AO62," ") | AE62: =IF($Z$51=4,AP62," ") | AF62: =IF($Z$51=4,AQ62," ") | AG62: =IF($Z$51=4,AR62," ") | AH62: =IF($Z$51=4,AT63," ") | AI62: =IF($Z$51=4,AU63," ") | AJ62: Y1 | AK62: Crd | AL62: Mark | AM62: Y2 | AN62: Crd | AO62: Mark | AP62: Y3 | AQ62: Crd | AR62: Mark | AT62: =AL56 -> Top 3 degree marks
D63: =Y63 | E63: =Z63 | F63: =AA63 | G63: =AB63 | H63: =AC63 | I63: =AD63 | J63: =AE63 | K63: =AF63 | L63: =AG63 | N63: =AH62 | R63: =AI62 | Y63: =IF($Z$51=4,AJ63," ") | Z63: =IF($Z$51=4,AK63," ") | AA63: =IF($Z$51=4,AL63," ") | AB63: =IF($Z$51=4,AM63," ") | AC63: =IF($Z$51=4,AN63," ") | AD63: =IF($Z$51=4,AO63," ") | AE63: =IF($Z$51=4,AP63," ") | AF63: =IF($Z$51=4,AQ63," ") | AG63: =IF($Z$51=4,AR63," ") | AH63: =IF($Z$51=4,AT64," ") | AI63: =IF($Z$51=4,AU64," ") | AJ63: M1 | AK63: 30 | AL63: 55 | AM63: M7 | AN63: 15 | AO63: 60 | AP63: M13 | AQ63: 30 | AR63: 63 | AT63: Roehampton | AU63: 66.56
D64: =Y64 | E64: =Z64 | F64: =AA64 | G64: =AB64 | H64: =AC64 | I64: =AD64 | J64: =AE64 | K64: =AF64 | L64: =AG64 | N64: =AH63 | R64: =AI63 | Y64: =IF($Z$51=4,AJ64," ") | Z64: =IF($Z$51=4,AK64," ") | AA64: =IF($Z$51=4,AL64," ") | AB64: =IF($Z$51=4,AM64," ") | AC64: =IF($Z$51=4,AN64," ") | AD64: =IF($Z$51=4,AO64," ") | AE64: =IF($Z$51=4,AP64," ") | AF64: =IF($Z$51=4,AQ64," ") | AG64: =IF($Z$51=4,AR64," ") | AH64: =IF($Z$51=4,AT65," ") | AI64: =IF($Z$51=4,AU65," ") | AJ64: M2 | AK64: 30 | AL64: 61 | AM64: M8 | AN64: 15 | AO64: 61 | AP64: M14 | AQ64: 30 | AR64: 64 | AT64: Ravensbourne | AU64: 65.13
D65: =Y65 | E65: =Z65 | F65: =AA65 | G65: =AB65 | H65: =AC65 | I65: =AD65 | J65: =AE65 | K65: =AF65 | L65: =AG65 | N65: =AH64 | R65: =AI64 | Y65: =IF($Z$51=4,AJ65," ") | Z65: =IF($Z$51=4,AK65," ") | AA65: =IF($Z$51=4,AL65," ") | AB65: =IF($Z$51=4,AM65," ") | AC65: =IF($Z$51=4,AN65," ") | AD65: =IF($Z$51=4,AO65," ") | AE65: =IF($Z$51=4,AP65," ") | AF65: =IF($Z$51=4,AQ65," ") | AG65: =IF($Z$51=4,AR65," ") | AH65: =IF($Z$51=4,AT66," ") | AJ65: M3 | AK65: 15 | AL65: 61 | AM65: M9 | AN65: 15 | AO65: 62 | AP65: M15 | AQ65: 15 | AR65: 65 | AT65: Coventry | AU65: 64.95
D66: =Y66 | E66: =Z66 | F66: =AA66 | G66: =AB66 | H66: =AC66 | I66: =AD66 | J66: =AE66 | K66: =AF66 | L66: =AG66 | N66: =AH65 | Y66: =IF($Z$51=4,AJ66," ") | Z66: =IF($Z$51=4,AK66," ") | AA66: =IF($Z$51=4,AL66," ") | AB66: =IF($Z$51=4,AM66," ") | AC66: =IF($Z$51=4,AN66," ") | AD66: =IF($Z$51=4,AO66," ") | AE66: =IF($Z$51=4,AP66," ") | AF66: =IF($Z$51=4,AQ66," ") | AG66: =IF($Z$51=4,AR66," ") | AH66: =IF($Z$51=4,AT67," ") | AI66: =IF($Z$51=4,AU67," ") | AJ66: M4 | AK66: 15 | AL66: 63 | AM66: M10 | AN66: 15 | AO66: 63 | AP66: M16 | AQ66: 15 | AR66: 67 | AT66: =AO56 -> Bottom 3 degree marks
D67: =Y67 | E67: =Z67 | F67: =AA67 | G67: =AB67 | H67: =AC67 | I67: =AD67 | J67: =AE67 | K67: =AF67 | L67: =AG67 | N67: =AH66 | R67: =AI66 | Y67: =IF($Z$51=4,AJ67," ") | Z67: =IF($Z$51=4,AK67," ") | AA67: =IF($Z$51=4,AL67," ") | AB67: =IF($Z$51=4,AM67," ") | AC67: =IF($Z$51=4,AN67," ") | AD67: =IF($Z$51=4,AO67," ") | AE67: =IF($Z$51=4,AP67," ") | AF67: =IF($Z$51=4,AQ67," ") | AG67: =IF($Z$51=4,AR67," ") | AH67: =IF($Z$51=4,AT68," ") | AI67: =IF($Z$51=4,AU68," ") | AJ67: M5 | AK67: 15 | AL67: 70 | AM67: M11 | AN67: 30 | AO67: 65 | AP67: M17 | AQ67: 15 | AR67: 64 | AT67: QU Belfast | AU67: 63.73
D68: =Y68 | E68: =Z68 | F68: =AA68 | G68: =AB68 | H68: =AC68 | I68: =AD68 | J68: =AE68 | K68: =AF68 | L68: =AG68 | N68: =AH67 | R68: =AI67 | Y68: =IF($Z$51=4,AJ68," ") | Z68: =IF($Z$51=4,AK68," ") | AA68: =IF($Z$51=4,AL68," ") | AB68: =IF($Z$51=4,AM68," ") | AC68: =IF($Z$51=4,AN68," ") | AD68: =IF($Z$51=4,AO68," ") | AE68: =IF($Z$51=4,AP68," ") | AF68: =IF($Z$51=4,AQ68," ") | AG68: =IF($Z$51=4,AR68," ") | AH68: =IF($Z$51=4,AT69," ") | AI68: =IF($Z$51=4,AU69," ") | AJ68: M6 | AK68: 15 | AL68: 76 | AM68: M12 | AN68: 30 | AO68: 61 | AP68: M18 | AQ68: 15 | AR68: 67 | AT68: Birmingham City | AU68: 63.68
D69: =AA69 | G69: =AD69 | J69: =AG69 | N69: =AH68 | R69: =AI68 | AA69: =IF($Z$51=4,AL69," ") | AD69: =IF($Z$51=4,AO69," ") | AG69: =IF($Z$51=4,AR69," ") | AL69: Average 62.75 | AO69: Average 62.25 | AR69: Average 64.63 | AT69: Abertay | AU69: 63.44 | AV69: =AU63-AU69 -> 3.12
C71: =Y71 | Y71: =IF($Z$51=4,AJ71," ") | AJ71: The range in Student B's degree marks is only 3.12 percentage points, which demonstrates that the current diversity in UK degree algorithms advantage students with inconsistent marks, while those with consistent mark are not advantaged. We might also wonder whether Student A's marks reflect what we might think of as the likely marks that make up a first [1st].
Y73: =Z51 -> 0 | Z73: 1 | AA73: 2 | AB73: 3 | AC73: 4 | AD73: 5 | AE73: 6 | AF73: 7 | AG73: 8 | AH73: 9 | AI73: 10 | AJ73: 11 | AK73: 12 | AL73: 13 | AM73: 14 | AN73: 15 | AO73: 16 | AP73: 17 | AQ73: 18 | AR73: 19 | AT73: 1 | AU73: =AT73+1 -> 2 | AV73: =AU73+1 -> 3 | AW73: =AV73+1 -> 4 | AX73: =AW73+1 -> 5 | AY73: =AX73+1 -> 6 | AZ73: =AY73+1 -> 7 | BA73: =AZ73+1 -> 8 | BB73: =BA73+1 -> 9 | ... BL73: =BK73+1 -> 19
C74: Discounting | U74: Page 2 | Y74: 4 | Z74: =IF($Y$73=4,AT74," ") | AT74: Discounting | BL74: Page 2
C75: =Z75 | Z75: =IF($Y$73=4,AT75," ") | AT75: Discounting involves ignoring some of the lowest marks. The affect of these discounts are generally easy to calculate when the discounts ‘match’ the programme credit structure e.g. discounting 20 or 40 credits in a programme with a 20 credit structure simply means ignoring the marks from one or two modules. Where the discounts do not match the structure, e.g. discounts of 20 or 40 in a programme based on 15 and 30 credits means the lowest module’s marks have to be split and apportioned accordingly (which gets tricky).
C80: =Z80 | Z80: =IF($Y$73=4,AT80," ") | AT80: Discounting 30 credits
C81: =Z81 | Z81: =IF($Y$73=4,AT81," ") | AT81: The process starts by ranking the marks - low to high, as shown below using the year 3 marks for student A and B. If 30 credits of the lowest marks is to be discounted we simply need to ignore the C x M value for module M13, add up the remaining C x M values and divide by 90 (i.e. 120 credits - 30 credits = 90 credits). this will give you the average of the best 90 credits in year 3. Type your answers for the new total and average for the best 90 credits in relevant green cells.
D86: =AA86 | M86: =AJ86 | AA86: =IF($Y$73=4,AU86," ") | AJ86: =IF($Y$73=4,BD86," ") | AU86: Student A | BD86: Student B
D87: =AA87 | E87: =AB87 | F87: =AC87 | G87: =AD87 | M87: =AJ87 | N87: =AK87 | O87: =AL87 | P87: =AM87 | AA87: =IF($Y$73=4,AU87," ") | AB87: =IF($Y$73=4,AV87," ") | AC87: =IF($Y$73=4,AW87," ") | AD87: =IF($Y$73=4,AX87," ") | AJ87: =IF($Y$73=4,BD87," ") | AK87: =IF($Y$73=4,BE87," ") | AL87: =IF($Y$73=4,BF87," ") | AM87: =IF($Y$73=4,BG87," ") | AU87: Y3 | AV87: C | AW87: M | AX87: C x M | BD87: Y3 | BE87: C | BF87: M | BG87: C x M
D88: =AA88 | E88: =AB88 | F88: =AC88 | G88: =AD88 | M88: =AJ88 | N88: =AK88 | O88: =AL88 | P88: =AM88 | AA88: =IF($Y$73=4,AU88," ") | AB88: =IF($Y$73=4,AV88," ") | AC88: =IF($Y$73=4,AW88," ") | AD88: =IF($Y$73=4,AX88," ") | AJ88: =IF($Y$73=4,BD88," ") | AK88: =IF($Y$73=4,BE88," ") | AL88: =IF($Y$73=4,BF88," ") | AM88: =IF($Y$73=4,BG88," ") | AU88: M13 | AV88: 30 | AW88: 66 | AX88: 1980 | BD88: M13 | BE88: 30 | BF88: 63 | BG88: 1890
D89: =AA89 | E89: =AB89 | F89: =AC89 | G89: =AD89 | I89: =AF89 | M89: =AJ89 | N89: =AK89 | O89: =AL89 | P89: =AM89 | R89: =AO89 | AA89: =IF($Y$73=4,AU89," ") | AB89: =IF($Y$73=4,AV89," ") | AC89: =IF($Y$73=4,AW89," ") | AD89: =IF($Y$73=4,AX89," ") | AF89: =IF($Y$73=4,AF90," ") | AJ89: =IF($Y$73=4,BD89," ") | AK89: =IF($Y$73=4,BE89," ") | AL89: =IF($Y$73=4,BF89," ") | AM89: =IF($Y$73=4,BG89," ") | AO89: =IF($Y$73=4,AO90," ") | AU89: M14 | AV89: 30 | AW89: 71 | AX89: 2130 | BD89: M17 | BE89: 15 | BF89: 64 | BG89: 960
D90: =AA90 | E90: =AB90 | F90: =AC90 | G90: =AD90 | M90: =AJ90 | N90: =AK90 | O90: =AL90 | P90: =AM90 | Y90: includes 4 | AA90: =IF($Y$73=4,AU90," ") | AB90: =IF($Y$73=4,AV90," ") | AC90: =IF($Y$73=4,AW90," ") | AD90: =IF($Y$73=4,AX90," ") | AF90: =IF(AH91>7,AZ90," ") | AJ90: =IF($Y$73=4,BD90," ") | AK90: =IF($Y$73=4,BE90," ") | AL90: =IF($Y$73=4,BF90," ") | AM90: =IF($Y$73=4,BG90," ") | AO90: =IF(AQ91>7,BI90," ") | AU90: M15 | AV90: 15 | AW90: 74 | AX90: 1110 | AZ90: The total of the best 90 credits is 6,705 ÷ 90 gives an average mark of 74.50 | BD90: M14 | BE90: 30 | BF90: 64 | BG90: 1920 | BI90: The total of the best 90 credits is 5,865 ÷ 90 gives aan average mark of 65.16
D91: =AA91 | E91: =AB91 | F91: =AC91 | G91: =AD91 | M91: =AJ91 | N91: =AK91 | O91: =AL91 | P91: =AM91 | Y91: =Y73+AF91 -> 0 | AA91: =IF($Y$73=4,AU91," ") | AB91: =IF($Y$73=4,AV91," ") | AC91: =IF($Y$73=4,AW91," ") | AD91: =IF($Y$73=4,AX91," ") | AF91: =AH91+AQ91 -> 0 | AH91: =AH92+AH93 -> 0 | AJ91: =IF($Y$73=4,BD91," ") | AK91: =IF($Y$73=4,BE91," ") | AL91: =IF($Y$73=4,BF91," ") | AM91: =IF($Y$73=4,BG91," ") | AQ91: =AQ92+AQ93 -> 0 | AU91: M16 | AV91: 15 | AW91: 75 | AX91: 1125 | BD91: M15 | BE91: 15 | BF91: 65 | BG91: 975
D92: =AA92 | E92: =AB92 | F92: =AC92 | G92: =AD92 | M92: =AJ92 | N92: =AK92 | O92: =AL92 | P92: =AM92 | Y92: 20 | AA92: =IF($Y$73=4,AU92," ") | AB92: =IF($Y$73=4,AV92," ") | AC92: =IF($Y$73=4,AW92," ") | AD92: =IF($Y$73=4,AX92," ") | AH92: =LEN(J94) -> 0 | AI92: =AH92+Y73 -> 0 | AJ92: =IF($Y$73=4,BD92," ") | AK92: =IF($Y$73=4,BE92," ") | AL92: =IF($Y$73=4,BF92," ") | AM92: =IF($Y$73=4,BG92," ") | AQ92: =LEN(S94) -> 0 | AR92: =AQ92+Y73 -> 0 | AU92: M17 | AV92: 15 | AW92: 75 | AX92: 1125 | BD92: M16 | BE92: 15 | BF92: 67 | BG92: 1005
D93: =AA93 | E93: =AB93 | F93: =AC93 | G93: =AD93 | M93: =AJ93 | N93: =AK93 | O93: =AL93 | P93: =AM93 | AA93: =IF($Y$73=4,AU93," ") | AB93: =IF($Y$73=4,AV93," ") | AC93: =IF($Y$73=4,AW93," ") | AD93: =IF($Y$73=4,AX93," ") | AH93: =LEN(J95) -> 0 | AI93: =AH93+Y73 -> 0 | AJ93: =IF($Y$73=4,BD93," ") | AK93: =IF($Y$73=4,BE93," ") | AL93: =IF($Y$73=4,BF93," ") | AM93: =IF($Y$73=4,BG93," ") | AQ93: =LEN(S95) -> 0 | AR93: =AQ93+Y73 -> 0 | AU93: M18 | AV93: 15 | AW93: 81 | AX93: 1215 | BD93: M18 | BE93: 15 | BF93: 67 | BG93: 1005
E94: =AB94 | F94: =AC94 | G94: =AD94 | I94: =AF94 | K94: =AI94 | N94: =AK94 | O94: =AL94 | P94: =AM94 | R94: =AO94 | T94: =AR94 | X94: THESE X NEED TO BE CONTROLLED | AB94: =IF($Y$73=4,AV94," ") | AC94: =IF($Y$73=4,AW94," ") | AD94: =IF($Y$73=4,AX94," ") | AF94: =IF($Y$73=4,AZ94," ") | AG94: =IF($Y$73=4,BA94," ") | AH94: =IF(J94=AG94,"P","O") -> O | AI94: =IF(AI92>=8,AH94," ") | AK94: =IF($Y$73=4,BE94," ") | AL94: =IF($Y$73=4,BF94," ") | AM94: =IF($Y$73=4,BG94," ") | AO94: =IF($Y$73=4,BI94," ") | AP94: =IF($Y$73=4,BJ94," ") | AQ94: =IF(S94=AP94,"P","O") -> O | AR94: =IF(AR92>=8,AQ94," ") | AV94: 120 | AW94: Total | AX94: 8685 | AZ94: Total Best 90 | BA94: =SUM(AX89:AX93) -> 6705 | BB94: P | BE94: 120 | BF94: Total | BG94: 7755 | BI94: Total Best 90 | BJ94: =SUM(BG89:BG93) -> 5865 | BK94: P
F95: =AC95 | G95: =AD95 | I95: =AF95 | K95: =AI95 | O95: =AL95 | P95: =AM95 | R95: =AO95 | T95: =AR95 | Z95: EQUAL TO OR GREATER THAN 20 | AC95: =IF($Y$73=4,AW95," ") | AD95: =IF($Y$73=4,AX95," ") | AF95: =IF($Y$73=4,AZ95," ") | AG95: =IF($Y$73=4,BA95," ") | AH95: =IF(J95=AG95,"P","O") -> O | AI95: =IF(AI93>=8,AH95," ") | AL95: =IF($Y$73=4,BF95," ") | AM95: =IF($Y$73=4,BG95," ") | AO95: =IF($Y$73=4,BI95," ") | AP95: =IF($Y$73=4,BJ95," ") | AQ95: =IF(S95=AP95,"P","O") -> O | AR95: =IF(AR93>=8,AQ95," ") | AW95: Ave | AX95: 72.37 | AZ95: Ave Best 90 | BA95: =BA94/90 -> 74.5 | BB95: P | BF95: Ave | BG95: 64.63 | BI95: Ave Best 90 | BJ95: 65.16 | BK95: P
C96: =Z96 | Z96: =IF($Y$91>=20,AT96," ") | AT96: Discounting 20 credits
C97: =Z97 | Z97: =IF($Y$91>=20,AT97," ") | AT97: Discounting 20 credits will mean having to 'split' the credits of the module with the lowest marks (M13). That is to say - we use 10 credits and ignore the other 20 credits. Visually the two schedules would look like the ones below. Complete the schedule by filling in the correct answers in each of the green cells.
D101: =AA101 | M101: =AJ101 | AA101: =IF($Y$91>=20,AU101," ") | AJ101: =IF($Y$91>=20,BD101," ") | AU101: Student A | BD101: Student B
D102: =AA102 | E102: =AB102 | F102: =AC102 | G102: =AD102 | H102: =AE102 | K102: =AG102 | M102: =AJ102 | N102: =AK102 | O102: =AL102 | P102: =AM102 | Q102: =AN102 | T102: =AP102 | AA102: =IF($Y$91>=20,AU102," ") | AB102: =IF($Y$91>=20,AV102," ") | AC102: =IF($Y$91>=20,AW102," ") | AD102: =IF($Y$91>=20,AX102," ") | AE102: =IF($Y$91>=20,AY102," ") | AG102: =IF($Y$91>=20,BB102," ") | AH102: =IF(Y91>=20,AH103," ") | AJ102: =IF($Y$91>=20,BD102," ") | AK102: =IF($Y$91>=20,BE102," ") | AL102: =IF($Y$91>=20,BF102," ") | AM102: =IF($Y$91>=20,BG102," ") | AN102: =IF($Y$91>=20,BH102," ") | AP102: =IF($Y$91>=20,BK102," ") | AU102: Y3 | AV102: C | AW102: M | AX102: C x M | AY102: C' | BB102: C' x M | BD102: Y3 | BE102: C | BF102: M | BG102: C x M | BH102: C' | BK102: C' x M
D103: =AA103 | E103: =AB103 | F103: =AC103 | G103: =AD103 | H103: =AE103 | K103: =AG103 | M103: =AJ103 | N103: =AK103 | O103: =AL103 | P103: =AM103 | Q103: =AN103 | T103: =AP103 | AA103: =IF($Y$91>=20,AU103," ") | AB103: =IF($Y$91>=20,AV103," ") | AC103: =IF($Y$91>=20,AW103," ") | AD103: =IF($Y$91>=20,AX103," ") | AE103: =IF($Y$91>=20,AY103," ") | AG103: =IF($Y$91>=20,BB103," ") | AH103: =IF(AH104>=16,AH111," ") | AJ103: =IF($Y$91>=20,BD103," ") | AK103: =IF($Y$91>=20,BE103," ") | AL103: =IF($Y$91>=20,BF103," ") | AM103: =IF($Y$91>=20,BG103," ") | AN103: =IF($Y$91>=20,BH103," ") | AP103: =IF($Y$91>=20,BK103," ") | AU103: M13 | AV103: 30 | AW103: 66 | AX103: 1980 | AY103: 10 | BB103: 660 | BD103: M13 | BE103: 30 | BF103: 63 | BG103: 1890 | BH103: 10 | BK103: 630
D104: =AA104 | E104: =AB104 | F104: =AC104 | G104: =AD104 | H104: =AE104 | K104: =AG104 | M104: =AJ104 | N104: =AK104 | O104: =AL104 | P104: =AM104 | Q104: =AN104 | T104: =AP104 | Y104: =Y91+AH104 -> 0 | AA104: =IF($Y$91>=20,AU104," ") | AB104: =IF($Y$91>=20,AV104," ") | AC104: =IF($Y$91>=20,AW104," ") | AD104: =IF($Y$91>=20,AX104," ") | AE104: =IF($Y$91>=20,AY104," ") | AG104: =IF($Y$91>=20,BB104," ") | AH104: =AH106+AQ106 -> 0 | AJ104: =IF($Y$91>=20,BD104," ") | AK104: =IF($Y$91>=20,BE104," ") | AL104: =IF($Y$91>=20,BF104," ") | AM104: =IF($Y$91>=20,BG104," ") | AN104: =IF($Y$91>=20,BH104," ") | AP104: =IF($Y$91>=20,BK104," ") | AU104: M14 | AV104: 30 | AW104: 71 | AX104: 2130 | AY104: 30 | BB104: 2130 | BD104: M17 | BE104: 15 | BF104: 64 | BG104: 960 | BH104: 30 | BK104: 1920
D105: =AA105 | E105: =AB105 | F105: =AC105 | G105: =AD105 | H105: =AE105 | K105: =AG105 | M105: =AJ105 | N105: =AK105 | O105: =AL105 | P105: =AM105 | Q105: =AN105 | T105: =AP105 | Y105: 36 | AA105: =IF($Y$91>=20,AU105," ") | AB105: =IF($Y$91>=20,AV105," ") | AC105: =IF($Y$91>=20,AW105," ") | AD105: =IF($Y$91>=20,AX105," ") | AE105: =IF($Y$91>=20,AY105," ") | AG105: =IF($Y$91>=20,BB105," ") | AH105: =IF(AH106>7,BB111," ") | AJ105: =IF($Y$91>=20,BD105," ") | AK105: =IF($Y$91>=20,BE105," ") | AL105: =IF($Y$91>=20,BF105," ") | AM105: =IF($Y$91>=20,BG105," ") | AN105: =IF($Y$91>=20,BH105," ") | AP105: =IF($Y$91>=20,BK105," ") | AQ105: =IF(AQ106>7,BB111," ") | AU105: M15 | AV105: 15 | AW105: 74 | AX105: 1110 | AY105: 15 | BB105: 1110 | BD105: M14 | BE105: 30 | BF105: 64 | BG105: 1920 | BH105: 15 | BK105: 960
D106: =AA106 | E106: =AB106 | F106: =AC106 | G106: =AD106 | H106: =AE106 | K106: =AG106 | M106: =AJ106 | N106: =AK106 | O106: =AL106 | P106: =AM106 | Q106: =AN106 | T106: =AP106 | AA106: =IF($Y$91>=20,AU106," ") | AB106: =IF($Y$91>=20,AV106," ") | AC106: =IF($Y$91>=20,AW106," ") | AD106: =IF($Y$91>=20,AX106," ") | AE106: =IF($Y$91>=20,AY106," ") | AG106: =IF($Y$91>=20,BB106," ") | AH106: =AH107+AH108 -> 0 | AJ106: =IF($Y$91>=20,BD106," ") | AK106: =IF($Y$91>=20,BE106," ") | AL106: =IF($Y$91>=20,BF106," ") | AM106: =IF($Y$91>=20,BG106," ") | AN106: =IF($Y$91>=20,BH106," ") | AP106: =IF($Y$91>=20,BK106," ") | AQ106: =AQ107+AQ108 -> 0 | AU106: M16 | AV106: 15 | AW106: 75 | AX106: 1125 | AY106: 15 | BB106: 1125 | BD106: M15 | BE106: 15 | BF106: 65 | BG106: 975 | BH106: 15 | BK106: 975
D107: =AA107 | E107: =AB107 | F107: =AC107 | G107: =AD107 | H107: =AE107 | K107: =AG107 | M107: =AJ107 | N107: =AK107 | O107: =AL107 | P107: =AM107 | Q107: =AN107 | T107: =AP107 | Y107: =CODE(S94) -> #VALUE! | AA107: =IF($Y$91>=20,AU107," ") | AB107: =IF($Y$91>=20,AV107," ") | AC107: =IF($Y$91>=20,AW107," ") | AD107: =IF($Y$91>=20,AX107," ") | AE107: =IF($Y$91>=20,AY107," ") | AG107: =IF($Y$91>=20,BB107," ") | AH107: =LEN(K109) -> 0 | AI107: =AH107+Y73 -> 0 | AJ107: =IF($Y$91>=20,BD107," ") | AK107: =IF($Y$91>=20,BE107," ") | AL107: =IF($Y$91>=20,BF107," ") | AM107: =IF($Y$91>=20,BG107," ") | AN107: =IF($Y$91>=20,BH107," ") | AP107: =IF($Y$91>=20,BK107," ") | AQ107: =LEN(T109) -> 0 | AR107: =AQ107+Y73 -> 0 | AU107: M17 | AV107: 15 | AW107: 75 | AX107: 1125 | AY107: 15 | BB107: 1125 | BD107: M16 | BE107: 15 | BF107: 67 | BG107: 1005 | BH107: 15 | BK107: 1005
D108: =AA108 | E108: =AB108 | F108: =AC108 | G108: =AD108 | H108: =AE108 | K108: =AG108 | M108: =AJ108 | N108: =AK108 | O108: =AL108 | P108: =AM108 | Q108: =AN108 | T108: =AP108 | AA108: =IF($Y$91>=20,AU108," ") | AB108: =IF($Y$91>=20,AV108," ") | AC108: =IF($Y$91>=20,AW108," ") | AD108: =IF($Y$91>=20,AX108," ") | AE108: =IF($Y$91>=20,AY108," ") | AG108: =IF($Y$91>=20,BB108," ") | AH108: =LEN(K110) -> 0 | AI108: =AH108+Y73 -> 0 | AJ108: =IF($Y$91>=20,BD108," ") | AK108: =IF($Y$91>=20,BE108," ") | AL108: =IF($Y$91>=20,BF108," ") | AM108: =IF($Y$91>=20,BG108," ") | AN108: =IF($Y$91>=20,BH108," ") | AP108: =IF($Y$91>=20,BK108," ") | AQ108: =LEN(T110) -> 0 | AR108: =AQ108+Y73 -> 0 | AU108: M18 | AV108: 15 | AW108: 81 | AX108: 1215 | AY108: 15 | BB108: 1215 | BD108: M18 | BE108: 15 | BF108: 67 | BG108: 1005 | BH108: 15 | BK108: 1005
E109: =AB109 | F109: =AC109 | G109: =AD109 | H109: =AE109 | J109: =AF109 | L109: =AI109 | N109: =AK109 | O109: =AL109 | P109: =AM109 | Q109: =AN109 | S109: =AO109 | U109: =AR109 | AB109: =IF($Y$91>=20,AV109," ") | AC109: =IF($Y$91>=20,AW109," ") | AD109: =IF($Y$91>=20,AX109," ") | AE109: =IF($Y$91>=20,AY109," ") | AF109: =IF($Y$91>=20,BA109," ") | AG109: 7365 | AH109: =IF(K109=AG109,"P","O") -> O | AI109: =IF(AI107>=8,AH109," ") | AK109: =IF($Y$91>=20,BE109," ") | AL109: =IF($Y$91>=20,BF109," ") | AM109: =IF($Y$91>=20,BG109," ") | AN109: =IF($Y$91>=20,BH109," ") | AO109: =IF($Y$91>=20,BJ109," ") | AP109: 6495 | AQ109: =IF(T109=AP109,"P","O") -> O | AR109: =IF(AR107>=8,AQ109," ") | AV109: 120 | AW109: Total | AX109: 8685 | AY109: 100 | BA109: Tot Best 100 | BB109: 7365 | BC109: P | BE109: 120 | BF109: Total | BG109: 7755 | BH109: 100 | BJ109: Tot Best 100 | BK109: 6495 | BL109: O
F110: =AC110 | G110: =AD110 | J110: =AF110 | L110: =AI110 | O110: =AL110 | P110: =AM110 | S110: =AO110 | U110: =AR110 | AB110: =IF($Y$73=4,AV110," ") | AC110: =IF($Y$91>=20,AW110," ") | AD110: =IF($Y$91>=20,AX110," ") | AE110: =IF($Y$91>=20,AY110," ") | AF110: =IF($Y$91>=20,BA110," ") | AG110: 73.65 | AH110: =IF(K110=AG110,"P","O") -> O | AI110: =IF(AI108>=8,AH110," ") | AK110: =IF($Y$91>=20,BE110," ") | AL110: =IF($Y$91>=20,BF110," ") | AM110: =IF($Y$91>=20,BG110," ") | AN110: =IF($Y$91>=20,BH110," ") | AO110: =IF($Y$91>=20,BJ110," ") | AP110: 64.95 | AQ110: =IF(T110=AP110,"P","O") -> O | AR110: =IF(AR108>=8,AQ110," ") | AW110: Ave | AX110: 72.37 | BA110: Ave Best 100 | BB110: 73.65 | BC110: P | BF110: Ave | BG110: 64.63 | BJ110: Ave Best 100 | BK110: 64.95 | BL110: P
K111: =AH102 | Z111: EQUAL TO OR GREATER THAN 36 | AH111: Compare your answer to that calculated by Coventry University above | BB111: Compare your answer to that calculated by Coventry University above
C112: Differential weighting | Z112: =IF($Y$104>=36,AT112," ") | AT112: Differential weighting
C113: =Z113 | Z113: =IF($Y$104>=36,AT113," ") | AT113: In most academic regulations differential weighting is described in one of two ways:
C115: =Z115 | D115: =AA115 | Z115: =IF($Y$104>=36,AT115," ") | AA115: =IF($Y$104>=36,AU115," ") | AT115: 1 | AU115: As a percentage:- Y1 = 10%, Y2 = 30% Y3 = 60% or when ignoring year 1, Y2 = 20% and Y3 = 80%. In all examples the percentages will add up to 100%. As a proportion of one (1), these weightings would be written as 0.1, 0.3, and 0.6.
C117: =Z117 | D117: =AA117 | Z117: =IF($Y$104>=36,AT117," ") | AA117: =IF($Y$104>=36,AU117," ") | AT117: 2 | AU117: As a whole number such that Y3 could have a weighting of 5, Y2 a weighting of 3 and, year 1 a weighting of 1, in this example the weights add up to 9. Alternatively, when year 1 is ignored, the regulations might simply state that Y3 is worth 4 times that of Y2 - which means Y2 is weighted at 1 such that the weights add up to 5 (4+1).
C121: =Z121 | Z121: =IF($Y$104>=36,AT121," ") | AT121: Example using description 1- here the yearly averages are multiplied by the relevant proportion (e.g. 0.1, 0.3, or 0.6). The calculated values are then added up to get the degree mark. Below are the year two and three (undiscounted) marks for students A an B. Let's assume both students go to Derby university which weights Y2 and Y3; 20% and 80% respectively. Fill in the green cells to derive the degree marks for students A and B
Y123: =Y104+AA123 -> 0 | Z123: =SUM(AE123:AE124,AK123:AK124,AP123:AP124) -> 13 | AA123: =SUM(AG123:AG124,AM123:AM124,AQ123:AQ124) -> 0 | AE123: =LEN(AE127) -> 1 | AG123: =LEN(I127) -> 0 | AI123: =IF($Y$104>=36,AI127," ") | AK123: =LEN(AK127) -> 1 | AM123: =LEN(O127) -> 0 | AO123: =IF($Y$104>=36,AO127," ") | AP123: =LEN(AP127) -> 4 | AQ123: =LEN(R127) -> 0 | AR123: =IF($Y$104>=36,AR127," ")
AE124: =LEN(AE128) -> 1 | AG124: =LEN(I128) -> 0 | AI124: =IF($Y$104>=36,AI128," ") | AK124: =LEN(AK128) -> 1 | AM124: =LEN(O128) -> 0 | AO124: =IF($Y$104>=36,AO128," ") | AP124: =LEN(AP128) -> 5 | AQ124: =LEN(R128) -> 0 | AR124: =IF($Y$104>=36,AR128," ")
G126: =AE126 | H126: =AF126 | M126: =AK126 | N126: =AL126 | R126: =AP126 | AE126: =IF($Y$104>=36,AX126," ") | AF126: =IF($Y$104>=36,AY126," ") | AK126: =IF($Y$104>=36,BD126," ") | AL126: =IF($Y$104>=36,BE126," ") | AP126: =IF($Y$104>=36,BI126," ") | AX126: mark | AY126: weight | BD126: mark | BE126: weight | BI126: Degree mark
D127: =AB127 | F127: =AD127 | G127: =AE127 | H127: =AF127 | K127: =AI123 | L127: =AJ127 | M127: =AK127 | N127: =AL127 | Q127: =AO123 | T127: =AR123 | Z127: =ROUND(R127,2) -> 0 | AB127: =IF($Y$104>=36,AU127," ") | AD127: =IF($Y$104>=36,AW127," ") | AE127: =IF($Y$104>=36,AX127," ") | AF127: =IF($Y$104>=36,AY127," ") | AG127: 10.9 | AH127: =IF(AG127=I127,"P","O") -> O | AI127: =IF(AG123>2,AH127," ") | AJ127: =IF($Y$104>=36,BC127," ") | AK127: =IF($Y$104>=36,BD127," ") | AL127: =IF($Y$104>=36,BE127," ") | AM127: 57.9 | AN127: =IF(AM127=O127,"P","O") -> O | AO127: =IF(AM123>2,AN127," ") | AP127: 68.8 | AQ127: =IF(AP127=R127,"P","O") -> O | AR127: =IF(AQ123>2,AQ127," ") | AU127: Student A | AW127: Y2 | AX127: 54.5 | AY127: 0.2 | AZ127: 10.9 | BB127: P | BC127: Y3 | BD127: 72.38 | BE127: 0.8 | BF127: 57.904 | BH127: P | BI127: 68.804 | BK127: P
D128: =AB128 | F128: =AD128 | G128: =AE128 | H128: =AF128 | K128: =AI124 | L128: =AJ128 | M128: =AK128 | N128: =AL128 | Q128: =AO124 | T128: =AR124 | Z128: =ROUND(R128,2) -> 0 | AB128: =IF($Y$104>=36,AU128," ") | AD128: =IF($Y$104>=36,AW128," ") | AE128: =IF($Y$104>=36,AX128," ") | AF128: =IF($Y$104>=36,AY128," ") | AG128: 12.45 | AH128: =IF(AG128=I128,"P","O") -> O | AI128: =IF(AG124>2,AH128," ") | AJ128: =IF($Y$104>=36,BC128," ") | AK128: =IF($Y$104>=36,BD128," ") | AL128: =IF($Y$104>=36,BE128," ") | AM128: 51.7 | AN128: =IF(AM128=O128,"P","O") -> O | AO128: =IF(AM124>2,AN128," ") | AP128: 64.15 | AQ128: =IF(AP128=R128,"P","O") -> O | AR128: =IF(AQ124>2,AQ128," ") | AU128: Student B | AW128: Y2 | AX128: 62.25 | AY128: 0.2 | AZ128: 12.45 | BB128: P | BC128: Y3 | BD128: 64.63 | BE128: 0.8 | BF128: 51.704 | BH128: P | BI128: 64.154 | BK128: P
C130: =Z130 | Z130: =IF($Y$104>=36,AT130," ") | AT130: Example using description 2- here the yearly averages are multiplied by the relevant number 1 and 4. The calculated values are then added up and divided by the total of the weights i.e. in this case 5. as above, fill in the green cells to derive the degree mark
AM132: =LEN(O135) -> 0 | AN132: =IF(AM132>2,AO132," ") | AO132: =IF($Y$104>=36,AO135," ") | AR132: =IF(AQ133>2,AS132," ") | AS132: =IF($Y$104>=36,AR135," ")
...

Sheet Example marks
C2: Differences in degree outcomes from different algorithms: Example marks from Students, A, B, Z and W
C4: Student A and B are similar in three ways [i] they have the same average mark for their first year (62.75%), [ii] the average of years 2 and 3 are the same (63.44%), and their overall average, or national degree mark is the same 63.21%. Despite this, depending on which university they go to Student A could get a 1st. Indeed, based on their marks, 28 universities in this sample would award Student A a 1st. This result holds true for 20 and 15 credit degree structures where the three averages (Y1, Y2/Y3, and, Y1/Y2/Y3) the same. Below student A and B's marks are two other set of marks for Student Z and Student W. As student Z's marks show, a change in credit structure and a small change in the 3 averages makes a big difference in the overall outcomes - here 40 universities would award Student Z a 1st. In the case of Student W (who has a national degree mark of 55.04%) they could receive three possible degree classes, from a 2:2 to a 1st, where the range in possible degree marks is 17.3 percentage points.
C10: Detractors of the National Degree Mark and Grade might make the claim that these examples (or any like them) are 'outliers' - they are very rare. The implication is that UK students generally perform in a consistent manner (like Student B). If so, comparisons across the sector of overall outcomes using the classifications (as opposed to degree marks) are reliable and valid. However, there are two problems with this argument:
C13: 1 | D13: The principle purpose of discounting and differential weighting is to negate the potential impact inconsistent marks can have on a degree mark and classification. Put another way: universities know student marks are 'more often than not' inconsistent. The higher weighting on year 3 marks is also said to capture the student’s ‘exit velocity’ (the tendency for year three marks to be higher than year two marks - see link). However, this wide-spread phenomenon would improve any degree mark irrespective of the algorithm used, so why place a greater weighting on year three marks in the first place. In this regard, its worth noting that only 8 universities (see algorithm No.8 - 'Introduction') out of the 127 listed here do not use discounting or differential weighting (although they ignore year 1 marks). | AR13: https://journals.gre.ac.uk/index.php/compass/article/view/136
AR14: LINK
C17: 2 | D17: Without a data on the national degree mark and the yearly averages, we cannot know the extent to which all UK students marks are inconsistent (accepting that there was a consensus on what 'consistent' meant). If such data showed that a high proportion of UK students (say 20%+) had consistent marks then we can be certain that the current arrangements are very unfair. If on the other hand the data showed that nearly all student marks are inconsistent there would be a strong case to oblige universities to adopt the same algorithm - which would be a long-winded and costly exercise. This makes to adoption of a national degree mark the more attractive option.
C23: STUDENT A (inconsistent marks) | Y23: STUDENT B (consistent marks, mid-range)
C24: YEAR 1 | J24: YEAR 2 | Q24: YEAR 3 | Y24: YEAR 1 | AF24: YEAR 2 | AM24: YEAR 3
C25: Module | F25: Credit | G25: Mark | H25: Grade | J25: Module | M25: Credit | N25: Mark | O25: Grade | Q25: Module | T25: Credit | U25: Mark | V25: Grade | Y25: Module | AB25: Credit | AC25: Mark | AD25: Grade | AF25: Module | AI25: Credit | AJ25: Mark | AK25: Grade | AM25: Module | AP25: Credit | AQ25: Mark | AR25: Grade
C26: Module 1 | F26: 30 | G26: 54 | H26: C2 | J26: Module 7 | M26: 15 | N26: 43 | O26: D2 | Q26: Module 13 | T26: 30 | U26: 66 | V26: B3 | Y26: Module 1 | AB26: 30 | AC26: 55 | AD26: C3 | AF26: Module 7 | AI26: 15 | AJ26: 60 | AK26: B1 | AM26: Module 13 | AP26: 30 | AQ26: 63 | AR26: B2
C27: Module 2 | F27: 30 | G27: 57 | H27: C3 | J27: Module 8 | M27: 15 | N27: 47 | O27: D3 | Q27: Module 14 | T27: 30 | U27: 71 | V27: A1 | Y27: Module 2 | AB27: 30 | AC27: 61 | AD27: B1 | AF27: Module 8 | AI27: 15 | AJ27: 61 | AK27: B1 | AM27: Module 14 | AP27: 30 | AQ27: 64 | AR27: B2
C28: Module 3 | F28: 15 | G28: 63 | H28: B2 | J28: Module 9 | M28: 15 | N28: 50 | O28: C1 | Q28: Module 15 | T28: 15 | U28: 74 | V28: A2 | Y28: Module 3 | AB28: 15 | AC28: 61 | AD28: B1 | AF28: Module 9 | AI28: 15 | AJ28: 62 | AK28: B1 | AM28: Module 15 | AP28: 15 | AQ28: 65 | AR28: B3
C29: Module 4 | F29: 15 | G29: 65 | H29: B3 | J29: Module 10 | M29: 15 | N29: 56 | O29: C3 | Q29: Module 16 | T29: 15 | U29: 75 | V29: A3 | Y29: Module 4 | AB29: 15 | AC29: 63 | AD29: B2 | AF29: Module 10 | AI29: 15 | AJ29: 63 | AK29: B2 | AM29: Module 16 | AP29: 15 | AQ29: 67 | AR29: B3
C30: Module 5 | F30: 15 | G30: 72 | H30: A1 | J30: Module 11 | M30: 30 | N30: 60 | O30: B1 | Q30: Module 17 | T30: 15 | U30: 75 | V30: A3 | Y30: Module 5 | AB30: 15 | AC30: 70 | AD30: A1 | AF30: Module 11 | AI30: 30 | AJ30: 65 | AK30: B3 | AM30: Module 17 | AP30: 15 | AQ30: 64 | AR30: B2
C31: Module 6 | F31: 15 | G31: 80 | H31: A*1 | J31: Module 12 | M31: 30 | N31: 60 | O31: B1 | Q31: Module 18 | T31: 15 | U31: 81 | V31: A*1 | Y31: Module 6 | AB31: 15 | AC31: 76 | AD31: A3 | AF31: Module 12 | AI31: 30 | AJ31: 61 | AK31: B1 | AM31: Module 18 | AP31: 15 | AQ31: 67 | AR31: B3
C38: Total Credits | F38: 120 | G38: P | J38: Total Credits | M38: 120 | N38: P | Q38: Total Credits | T38: 120 | U38: P | Y38: Total Credits | AB38: 120 | AC38: P | AF38: Total Credits | AI38: 120 | AJ38: P | AM38: Total Credits | AP38: 120 | AQ38: P
C39: Year 1 Average mark | G39: 62.75 | H39: B2 | J39: Year 2 Average mark | N39: 54.5 | O39: C2 | Q39: Year 3 average mark | U39: 72.38 | V39: A1 | Y39: Year 1 Average mark | AC39: 62.75 | AD39: B2 | AF39: Year 2 Average mark | AJ39: 62.25 | AK39: B1 | AM39: Year 3 average mark | AQ39: 64.63 | AR39: B2
C41: Y2/Y3 Average | F41: 63.44 | T41: National Degree Mark & Grade | U41: 63.21 | V41: B2 | Y41: Y2/Y3 Average | AB41: 63.44 | AP41: National Degree Mark & Grade | AQ41: 63.21 | AR41: B2 | AY41: TABLE 1 - DEGREE MARKS FROM A SELECTION OF 14 UK UNIVERSITY ALGORITHIMS
AY42: Algorithm | AZ42: COUNTING CREDITS | BA42: DISCOUNT | BB42: WEIGHTING | BC42: University | BE42: Degree Marks Students X and Y | BF42: 0
C43: A selection of UK University Degree Algorithms | K43: Discounts | O43: Weights | Q43: Degree Mark | S43: Uplift | Y43: A selection of UK University Degree Algorithms | AG43: Discounts | AK43: Weights | AM43: Degree Mark | AO43: Uplift | AY43: Years 1, 2, and 3 | BE43: X | BF43: Y
C44: University + Years used | G44: Alg No. | H44: Uni | I44: Credits | K44: Y1 | L44: Y2 | M44: Y3 | N44: TOT | Y44: University + Years used | AC44: Alg No. | AD44: Uni | AE44: Credits | AG44: Y1 | AH44: Y2 | AI44: Y3 | AJ44: TOT | AY44: 1 | AZ44: 360 | BA44: 0 | BB44: 10/30/60 | BC44: Queen Mary | BE44: =Q48 -> 66.05 | BF44: =AM48 -> 63.73
C45: Year 1, 2 and 3 algorithms | U45: Number of Awarding Unversities | Y45: Year 1, 2 and 3 algorithms | AQ45: Number of Awarding Unversities | AY45: Years 2 and 3
C46: King's College London | G46: 1 | H46: 1 | I46: 360 | K46: 0 | L46: 0 | M46: 0 | N46: 0 | O46: SPLIT | Q46: 67.29 | S46: 0 | Y46: King's College London | AC46: 1 | AD46: 1 | AE46: 360 | AG46: 0 | AH46: 0 | AI46: 0 | AJ46: 0 | AK46: SPLIT | AM46: 63.98 | AO46: 0 | AY46: 2 | AZ46: =AE53 -> 240 | BB46: =AK55 -> 50 - 50 | BC46: =Y55 -> Abertay | BE46: =Q55 -> 63.44 | BF46: =AM55 -> 63.44
C47: Aberystwyth | G47: 1 | H47: 1 | I47: 360 | K47: 0 | L47: 0 | M47: 0 | N47: 0 | O47: SPLIT | Q47: 68.4 | S47: P | T47: 0 | Y47: Aberystwyth | AC47: 1 | AD47: 1 | AE47: 360 | AG47: 0 | AH47: 0 | AI47: 0 | AJ47: 0 | AK47: SPLIT | AM47: 64.3 | AO47: 0 | AP47: 0 | AY47: 3 | AZ47: 240 | BA47: 0 | BB47: 33 - 67 | BC47: Exeter | BE47: =Q58 -> 66.48 | BF47: =AM58 -> 63.84
C48: QU Belfast | G48: 2 | H48: 2 | I48: 360 | K48: 0 | L48: 0 | M48: 0 | N48: 0 | O48: 10/30/60 | Q48: 66.05 | S48: 0 | U48: 1st | V48: 25 | Y48: QU Belfast | AC48: 2 | AD48: 2 | AE48: 360 | AG48: 0 | AH48: 0 | AI48: 0 | AJ48: 0 | AK48: 10/30/60 | AM48: 63.73 | AO48: 0 | AQ48: 1st | AR48: 0 | AY48: 4 | AZ48: 240 | BA48: 0 | BB48: 25 - 75 | BC48: Birmingham | BE48: =Q61 -> 67.91 | BF48: =AM61 -> 64.04
C49: Plymouth | G49: 3 | H49: 1 | I49: 320 | K49: 40 | L49: 0 | M49: 0 | N49: 40 | O49: 10/30/60 | Q49: 66.45 | S49: 0 | U49: 2:1 | V49: 97 | Y49: Plymouth | AC49: 3 | AD49: 1 | AE49: 320 | AG49: 40 | AH49: 0 | AI49: 0 | AJ49: 40 | AK49: 10/30/60 | AM49: 64.04 | AO49: 0 | AQ49: 2:1 | AR49: 122 | AY49: 5 | AZ49: 240 | BA49: 0 | BB49: 20 - 80 | BC49: Derby | BE49: =Q62 -> 68.8 | BF49: =AM62 -> 64.15
C50: LSE | G50: 4 | H50: 1 | I50: 300 | K50: 60 | L50: 0 | M50: 0 | N50: 60 | O50: 1/1/1 | Q50: 65.63 | S50: 0 | U50: 2:2 | V50: 0 | Y50: LSE | AC50: 4 | AD50: 1 | AE50: 300 | AG50: 60 | AH50: 0 | AI50: 0 | AJ50: 60 | AK50: 1/1/1 | AM50: 64.79 | AO50: 0 | AQ50: 2:2 | AR50: 0 | AY50: 6 | AZ50: 210 | BA50: 30 | BB50: 50 - 50 | BC50: Oxford Brookes | BE50: =Q64 -> 73.44 | BF50: =AM64 -> 64.9
C51: Goldsmiths | G51: 5 | H51: 1 | I51: 300 | K51: 30 | L51: 15 | M51: 15 | N51: 60 | O51: 1/3/5 | Q51: 66.04 | S51: 0 | U51: 3rd | V51: 0 | Y51: Goldsmiths | AC51: 5 | AD51: 1 | AE51: 300 | AG51: 30 | AH51: 15 | AI51: 15 | AJ51: 60 | AK51: 1/3/5 | AM51: 63.86 | AO51: 0 | AQ51: 3rd | AR51: 0 | AY51: 7 | AZ51: 210 | BA51: 30 | BB51: 25 - 75 | BC51: De Montfort | BE51: =Q66 -> 69 | BF51: =AM66 -> 64.29
C52: Year 2 and 3 algorithms | U52: Total | V52: 122 | Y52: Year 2 and 3 algorithms | AQ52: Total | AR52: 122 | AY52: 8 | AZ52: 210 | BA52: 30 | BB52: 20 - 80 | BC52: Greenwich | BE52: =Q67 -> 70.83 | BF52: =AM67 -> 64.65
C53: Swansea | G53: 7 | H53: 1 | I53: 240 | K53: 0 | L53: 0 | M53: 0 | N53: 0 | O53: SPLIT | Q53: 67.3 | S53: 0 | Y53: Swansea | AC53: 7 | AD53: 1 | AE53: 240 | AG53: 0 | AH53: 0 | AI53: 0 | AJ53: 0 | AK53: SPLIT | AM53: 64.14 | AO53: 0 | AY53: 9 | AZ53: 200 | BA53: 40 | BB53: 25 - 75 | BC53: UWE | BE53: =Q73 -> 70.26 | BF53: =AM73 -> 64.48
C54: London South Bank | G54: 7 | H54: 1 | I54: 240 | K54: 0 | L54: 0 | M54: 0 | N54: 0 | O54: SPLIT | Q54: 71.49 | S54: 0 | Y54: London South Bank | AC54: 7 | AD54: 1 | AE54: 240 | AG54: 0 | AH54: 0 | AI54: 0 | AJ54: 0 | AK54: SPLIT | AM54: 64.75 | AO54: 0 | AY54: 10 | AZ54: 200 | BA54: 40 | BB54: 20 - 80 | BC54: Bradford | BE54: =Q75 -> 70.24 | BF54: =AM75 -> 64.49
C55: Abertay | G55: 8 | H55: 8 | I55: 240 | K55: 0 | L55: 0 | M55: 0 | N55: 0 | O55: 50 - 50 | Q55: 63.44 | S55: 0 | Y55: Abertay | AC55: 8 | AD55: 8 | AE55: 240 | AG55: 0 | AH55: 0 | AI55: 0 | AJ55: 0 | AK55: 50 - 50 | AM55: 63.44 | AO55: 0 | AY55: 11 | AZ55: 180 | BA55: 60 | BB55: 20 - 80 | BC55: East London | BE55: =Q82 -> 71.13 | BF55: =AM82 -> 64.7
C56: Birmingham City | G56: 9 | H56: 14 | I56: 240 | K56: 0 | L56: 0 | M56: 0 | N56: 0 | O56: 40 - 60 | Q56: 65.23 | S56: 0 | Y56: Birmingham City | AC56: 9 | AD56: 14 | AE56: 240 | AG56: 0 | AH56: 0 | AI56: 0 | AJ56: 0 | AK56: 40 - 60 | AM56: 63.68 | AO56: 0 | AY56: 12 | AZ56: 160 | BA56: =$AJ$84 -> 80 | BB56: =AK83 -> 50 - 50 | BC56: Roehampton | BE56: =Q83 -> 76.78 | BF56: =AM83 -> 66.56
C57: Surrey | G57: 10 | H57: 1 | I57: 240 | K57: 0 | L57: 0 | M57: 0 | N57: 0 | O57: 35 - 65 | Q57: 66.12 | S57: 0 | T57: Range of marks | Y57: Surrey | AC57: 10 | AD57: 1 | AE57: 240 | AG57: 0 | AH57: 0 | AI57: 0 | AJ57: 0 | AK57: 35 - 65 | AM57: 63.8 | AO57: 0 | AP57: Range of marks | AY57: Year 3 only
C58: Bangor | G58: 11 | H58: 14 | I58: 240 | K58: 0 | L58: 0 | M58: 0 | N58: 0 | O58: 33 - 67 | Q58: 66.48 | S58: 0 | T58: n = 122 | Y58: Bangor | AC58: 11 | AD58: 14 | AE58: 240 | AG58: 0 | AH58: 0 | AI58: 0 | AJ58: 0 | AK58: 33 - 67 | AM58: 63.84 | AO58: 0 | AP58: n = 122 | AY58: 13 | AZ58: 120 | BA58: 0 | BC58: Bolton | BE58: =Q87 -> 72.38 | BF58: =AM87 -> 64.63
C59: Bath | G59: 12 | H59: 1 | I59: 240 | K59: 0 | L59: 0 | M59: 0 | N59: 0 | O59: 32 - 68 | Q59: 66.66 | S59: 0 | U59: Max | V59: 76.78 | Y59: Bath | AC59: 12 | AD59: 1 | AE59: 240 | AG59: 0 | AH59: 0 | AI59: 0 | AJ59: 0 | AK59: 32 - 68 | AM59: 63.87 | AO59: 0 | AQ59: Max | AR59: 66.56 | AY59: 14 | AZ59: 100 | BA59: 20 | BC59: Coventry | BE59: =Q88 -> 73.65 | BF59: =AM88 -> 64.95
C60: Liverpool | G60: 13 | H60: 11 | I60: 240 | K60: 0 | L60: 0 | M60: 0 | N60: 0 | O60: 30 - 70 | Q60: 67.02 | S60: 0 | U60: Min | V60: 63.44 | Y60: Liverpool | AC60: 13 | AD60: 11 | AE60: 240 | AG60: 0 | AH60: 0 | AI60: 0 | AJ60: 0 | AK60: 30 - 70 | AM60: 63.92 | AO60: 0 | AQ60: Min | AR60: 63.44 | BD60: Range in degree marks
C61: Manchester Met | G61: 14 | H61: 12 | I61: 240 | K61: 0 | L61: 0 | M61: 0 | N61: 0 | O61: 25 - 75 | Q61: 67.91 | S61: 0 | U61: Difference | V61: 13.34 | Y61: Manchester Met | AC61: 14 | AD61: 12 | AE61: 240 | AG61: 0 | AH61: 0 | AI61: 0 | AJ61: 0 | AK61: 25 - 75 | AM61: 64.04 | AO61: 0 | AQ61: Difference | AR61: 3.12 | BE61: =MAX(BE44:BE59) -> 76.78 | BF61: =MAX(BF44:BF59) -> 66.56
C62: Derby | G62: 15 | H62: 3 | I62: 240 | K62: 0 | L62: 0 | M62: 0 | N62: 0 | O62: 20 - 80 | Q62: 68.8 | S62: P | U62: Median | V62: 67.85 | Y62: Derby | AC62: 15 | AD62: 3 | AE62: 240 | AG62: 0 | AH62: 0 | AI62: 0 | AJ62: 0 | AK62: 20 - 80 | AM62: 64.15 | AO62: 0 | AQ62: Median | AR62: 64.12 | BE62: =MIN(BE44:BE59) -> 63.44 | BF62: =MIN(BF44:BF59) -> 63.44
C63: Westminster | G63: 17 | H63: 1 | I63: 220 | K63: 0 | L63: 0 | M63: 0 | N63: 20 | O63: 33 - 67 | Q63: 67.33 | S63: 0 | U63: Average | V63: 67.68 | Y63: Westminster | AC63: 17 | AD63: 1 | AE63: 220 | AG63: 0 | AH63: 0 | AI63: 0 | AJ63: 20 | AK63: 33 - 67 | AM63: 64.06 | AO63: 0 | AQ63: Average | AR63: 64.04 | BE63: =BE61-BE62 -> 13.34 | BF63: =BF61-BF62 -> 3.12
C64: Oxford Brookes | G64: 18 | H64: 1 | I64: 210 | K64: 0 | L64: 0 | M64: 0 | N64: 30 | O64: 50 - 50 | Q64: 73.44 | S64: 0 | T64: Boarderline | V64: 8 | Y64: Oxford Brookes | AC64: 18 | AD64: 1 | AE64: 210 | AG64: 0 | AH64: 0 | AI64: 0 | AJ64: 30 | AK64: 50 - 50 | AM64: 64.9 | AO64: 0 | AP64: Boarderline | AR64: 0 | BL64: 1
C65: Winchester | G65: 19 | H65: 1 | I65: 240 | K65: 0 | L65: 0 | M65: 30 | N65: 30 | O65: SPLIT | Q65: 67.77 | S65: 0 | Y65: Winchester | AC65: 19 | AD65: 1 | AE65: 240 | AG65: 0 | AH65: 0 | AI65: 30 | AJ65: 30 | AK65: SPLIT | AM65: 64.23 | AO65: 0
C66: De Montfort | G66: 20 | H66: 1 | I66: 210 | K66: 0 | L66: 15 | M66: 15 | N66: 30 | O66: 25 - 75 | Q66: 69 | S66: P | Y66: De Montfort | AC66: 20 | AD66: 1 | AE66: 210 | AG66: 0 | AH66: 15 | AI66: 15 | AJ66: 30 | AK66: 25 - 75 | AM66: 64.29 | AO66: 0
C67: Greenwich | G67: 21 | H67: 1 | I67: 210 | K67: 0 | L67: 0 | M67: 30 | N67: 30 | O67: 20 - 80 | Q67: 70.83 | S67: 0 | Y67: Greenwich | AC67: 21 | AD67: 1 | AE67: 210 | AG67: 0 | AH67: 0 | AI67: 30 | AJ67: 30 | AK67: 20 - 80 | AM67: 64.65 | AO67: 0
C68: Kingston | G68: 21 | H68: 1 | I68: 210 | K68: 0 | L68: 15 | M68: 15 | N68: 30 | O68: 20 - 80 | Q68: 69.86 | S68: P | Y68: Kingston | AC68: 21 | AD68: 1 | AE68: 210 | AG68: 0 | AH68: 15 | AI68: 15 | AJ68: 30 | AK68: 20 - 80 | AM68: 64.4 | AO68: 0
C69: Canterbury Christ Church | G69: 22 | H69: 3 | I69: 200 | K69: 0 | L69: 20 | M69: 20 | N69: 40 | O69: 40 - 60 | Q69: 66.83 | S69: 0 | Y69: Canterbury Christ Church | AC69: 22 | AD69: 3 | AE69: 200 | AG69: 0 | AH69: 20 | AI69: 20 | AJ69: 40 | AK69: 40 - 60 | AM69: 64.03 | AO69: 0
C70: West London | G70: 23 | H70: 1 | I70: 200 | K70: 0 | L70: 20 | M70: 20 | N70: 40 | O70: 35 - 65 | Q70: 67.68 | S70: 0 | Y70: West London | AC70: 23 | AD70: 1 | AE70: 200 | AG70: 0 | AH70: 20 | AI70: 20 | AJ70: 40 | AK70: 35 - 65 | AM70: 64.15 | AO70: 0
C71: Chester | G71: 24 | H71: 3 | I71: 200 | K71: 0 | L71: 20 | M71: 20 | N71: 40 | O71: 33 - 67 | Q71: 68.02 | S71: P | Y71: Chester | AC71: 24 | AD71: 3 | AE71: 200 | AG71: 0 | AH71: 20 | AI71: 20 | AJ71: 40 | AK71: 33 - 67 | AM71: 64.19 | AO71: 0
C72: Bath Spa | G72: 25 | H72: 5 | I72: 200 | K72: 0 | L72: 20 | M72: 20 | N72: 40 | O72: 30 - 70 | Q72: 68.54 | S72: P | Y72: Bath Spa | AC72: 25 | AD72: 5 | AE72: 200 | AG72: 0 | AH72: 20 | AI72: 20 | AJ72: 40 | AK72: 30 - 70 | AM72: 64.26 | AO72: 0
C73: UWE | G73: 26 | H73: 2 | I73: 200 | K73: 0 | L73: 20 | M73: 20 | N73: 40 | O73: 25 - 75 | Q73: 70.26 | S73: 0 | Y73: UWE | AC73: 26 | AD73: 2 | AE73: 200 | AG73: 0 | AH73: 20 | AI73: 20 | AJ73: 40 | AK73: 25 - 75 | AM73: 64.48 | AO73: 0
C74: Leeds Beckett | G74: 26 | H74: 3 | I74: 200 | L74: 20 | M74: 20 | N74: 40 | O74: 25 - 75 | Q74: 69.39 | S74: P | Y74: Leeds Beckett | AC74: 26 | AD74: 3 | AE74: 200 | AH74: 20 | AI74: 20 | AJ74: 40 | AK74: 25 - 75 | AM74: 64.38 | AO74: 0
C75: Bradford | G75: 27 | H75: 3 | I75: 200 | K75: 0 | L75: 20 | M75: 20 | N75: 40 | O75: 20 - 80 | Q75: 70.24 | S75: 0 | Y75: Bradford | AC75: 27 | AD75: 3 | AE75: 200 | AG75: 0 | AH75: 20 | AI75: 20 | AJ75: 40 | AK75: 20 - 80 | AM75: 64.49 | AO75: 0
C76: Anglia Ruskin | G76: 28 | H76: 1 | I76: 180 | K76: 0 | L76: 45 | M76: 15 | N76: 60 | O76: 50 - 50 | Q76: 66.24 | S76: 0 | Y76: Anglia Ruskin | AC76: 28 | AD76: 1 | AE76: 180 | AG76: 0 | AH76: 45 | AI76: 15 | AJ76: 60 | AK76: 50 - 50 | AM76: 64.03 | AO76: 0
C77: Edinburgh Napier | G77: 28 | H77: 1 | I77: 180 | K77: 0 | L77: 40 | M77: 20 | N77: 60 | O77: 50 - 50 | Q77: 66.14 | S77: 0 | Y77: Edinburgh Napier | AC77: 28 | AD77: 1 | AE77: 180 | AG77: 0 | AH77: 40 | AI77: 20 | AJ77: 60 | AK77: 50 - 50 | AM77: 64.01 | AO77: 0
C78: Glasgow Caledonian | G78: 28 | H78: 1 | I78: 180 | K78: 0 | L78: 30 | M78: 30 | N78: 60 | O78: 50 - 50 | Q78: 66.08 | S78: 0 | Y78: Glasgow Caledonian | AC78: 28 | AD78: 1 | AE78: 180 | AG78: 0 | AH78: 30 | AI78: 30 | AJ78: 60 | AK78: 50 - 50 | AM78: 64 | AO78: 0
C79: South Wales | G79: 28 | H79: 1 | I79: 180 | K79: 0 | L79: 60 | M79: 0 | N79: 60 | O79: 50 - 50 | Q79: 66.19 | S79: 0 | Y79: South Wales | AC79: 28 | AD79: 1 | AE79: 180 | AG79: 0 | AH79: 60 | AI79: 0 | AJ79: 60 | AK79: 50 - 50 | AM79: 64.19 | AO79: 0
C80: Wolverhampton | G80: 28 | H80: 1 | I80: 180 | K80: 0 | L80: 0 | M80: 0 | N80: 60 | O80: 50 - 50 | Q80: 66.83 | S80: 0 | Y80: Wolverhampton | AC80: 28 | AD80: 1 | AE80: 180 | AG80: 0 | AH80: 0 | AI80: 0 | AJ80: 60 | AK80: 50 - 50 | AM80: 64.73 | AO80: 0
C81: Hertfordshire | G81: 29 | H81: 2 | I81: 180 | K81: 0 | L81: 30 | M81: 30 | N81: 60 | O81: 25 - 75 | Q81: 70.29 | S81: 0 | Y81: Hertfordshire | AC81: 29 | AD81: 2 | AE81: 180 | AG81: 0 | AH81: 30 | AI81: 30 | AJ81: 60 | AK81: 25 - 75 | AM81: 64.58 | AO81: 0
C82: East London | G82: 30 | H82: 1 | I82: 180 | K82: 0 | L82: 30 | M82: 30 | N82: 60 | O82: 20 - 80 | Q82: 71.13 | S82: 0 | Y82: East London | AC82: 30 | AD82: 1 | AE82: 180 | AG82: 0 | AH82: 30 | AI82: 30 | AJ82: 60 | AK82: 20 - 80 | AM82: 64.7 | AO82: 0
C83: Roehampton | G83: 31 | H83: 1 | I83: 160 | N83: 80 | O83: 50 - 50 | Q83: 76.78 | S83: 0 | Y83: Roehampton | AC83: 31 | AD83: 1 | AE83: 160 | AJ83: 80 | AK83: 50 - 50 | AM83: 66.56 | AO83: 0
C84: Plymouth Marjon | G84: 32 | H84: 1 | I84: 160 | K84: 0 | L84: 80 | M84: 0 | N84: 80 | O84: SPLIT | Q84: 69.89 | S84: P | Y84: Plymouth Marjon | AC84: 32 | AD84: 1 | AE84: 160 | AG84: 0 | AH84: 80 | AI84: 0 | AJ84: 80 | AK84: SPLIT | AM84: 64.49 | AO84: 0
C85: Ravensbourne | G85: 33 | H85: 1 | I85: 120 | K85: - | L85: 90 | M85: 30 | N85: 120 | O85: 50 - 50 | Q85: 70.88 | S85: 0 | Y85: Ravensbourne | AC85: 33 | AD85: 1 | AE85: 120 | AG85: - | AH85: 90 | AI85: 30 | AJ85: 120 | AK85: 50 - 50 | AM85: 65.13 | AO85: 0
C86: Year 3 only algorithms | Y86: Year 3 only algorithms
C87: Bedfordshire | G87: 35 | H87: 10 | I87: 120 | K87: 0 | L87: 0 | M87: 0 | N87: 0 | O87: AVERAGE | Q87: 72.38 | S87: 0 | Y87: Bedfordshire | AC87: 35 | AD87: 10 | AE87: 120 | AG87: 0 | AH87: 0 | AI87: 0 | AJ87: 0 | AK87: AVERAGE | AM87: 64.63 | AO87: 0
C88: Coventry | G88: 36 | H88: 2 | I88: 100 | K88: 0 | L88: 0 | M88: 20 | N88: 20 | O88: AVERAGE | Q88: 73.65 | S88: 0 | Y88: Coventry | AC88: 36 | AD88: 2 | AE88: 100 | AG88: 0 | AH88: 0 | AI88: 20 | AJ88: 20 | AK88: AVERAGE | AM88: 64.95 | AO88: 0
C89: Uplift [P] | G89: Possible uplift depending on the university's regulations for borderline marks | Y89: Uplift [P] | AC89: Possible uplift depending on the university's regulations for borderline marks
C90: STUDENT Z (inconsistent marks - 20 credit structure) | Y90: STUDENT W (inconsistent marks - from a 2:2 to a 1st)
C91: YEAR 1 | J91: YEAR 2 | Q91: YEAR 3 | Y91: YEAR 1 | AF91: YEAR 2 | AM91: YEAR 3
C92: Module | F92: Credit | G92: Mark | H92: Grade | J92: Module | M92: Credit | N92: Mark | O92: Grade | Q92: Module | T92: Credit | U92: Mark | V92: Grade | Y92: Module | AB92: Credit | AC92: Mark | AD92: Grade | AF92: Module | AI92: Credit | AJ92: Mark | AK92: Grade | AM92: Module | AP92: Credit | AQ92: Mark | AR92: Grade
C93: Module 1 | F93: 20 | G93: 54 | H93: C2 | J93: Module 7 | M93: 20 | N93: 43 | O93: D2 | Q93: Module 13 | T93: 20 | U93: 66 | V93: B3 | Y93: Module 1 | AB93: 30 | AC93: 40 | AD93: D1 | AF93: Module 7 | AI93: 15 | AJ93: 50 | AK93: C1 | AM93: Module 13 | AP93: 30 | AQ93: 70 | AR93: A1
C94: Module 2 | F94: 20 | G94: 57 | H94: C3 | J94: Module 8 | M94: 20 | N94: 66 | O94: B3 | Q94: Module 14 | T94: 20 | U94: 71 | V94: A1 | Y94: Module 2 | AB94: 30 | AC94: 44 | AD94: D2 | AF94: Module 8 | AI94: 15 | AJ94: 51 | AK94: C1 | AM94: Module 14 | AP94: 30 | AQ94: 69 | AR94: B4
C95: Module 3 | F95: 20 | G95: 63 | H95: B2 | J95: Module 9 | M95: 20 | N95: 50 | O95: C1 | Q95: Module 15 | T95: 20 | U95: 74 | V95: A2 | Y95: Module 3 | AB95: 15 | AC95: 43 | AD95: D2 | AF95: Module 9 | AI95: 15 | AJ95: 52 | AK95: C1 | AM95: Module 15 | AP95: 15 | AQ95: 71 | AR95: A1
C96: Module 4 | F96: 20 | G96: 65 | H96: B3 | J96: Module 10 | M96: 20 | N96: 56 | O96: C3 | Q96: Module 16 | T96: 20 | U96: 75 | V96: A3 | Y96: Module 4 | AB96: 15 | AC96: 42 | AD96: D1 | AF96: Module 10 | AI96: 15 | AJ96: 53 | AK96: C2 | AM96: Module 16 | AP96: 15 | AQ96: 70 | AR96: A1
C97: Module 5 | F97: 20 | G97: 72 | H97: A1 | J97: Module 11 | M97: 20 | N97: 60 | O97: B1 | Q97: Module 17 | T97: 20 | U97: 75 | V97: A3 | Y97: Module 5 | AB97: 15 | AC97: 41 | AD97: D1 | AF97: Module 11 | AI97: 30 | AJ97: 54 | AK97: C2 | AM97: Module 17 | AP97: 15 | AQ97: 72 | AR97: A1
C98: Module 6 | F98: 20 | G98: 80 | H98: A*1 | J98: Module 12 | M98: 20 | N98: 60 | O98: B1 | Q98: Module 18 | T98: 20 | U98: 81 | V98: A*1 | Y98: Module 6 | AB98: 15 | AC98: 44 | AD98: D2 | AF98: Module 12 | AI98: 30 | AJ98: 55 | AK98: C3 | AM98: Module 18 | AP98: 15 | AQ98: 68 | AR98: B4
C105: Total Credits | F105: 120 | G105: P | J105: Total Credits | M105: 120 | N105: P | Q105: Total Credits | T105: 120 | U105: P | Y105: Total Credits | AB105: 120 | AC105: P | AF105: Total Credits | AI105: 120 | AJ105: P | AM105: Total Credits | AP105: 120 | AQ105: P
C106: Year 1 Average mark | G106: 65.17 | H106: B3 | J106: Year 2 Average mark | N106: 55.83 | O106: C3 | Q106: Year 3 average mark | U106: 73.67 | V106: A2 | Y106: Year 1 Average mark | AC106: 42.25 | AD106: D1 | AF106: Year 2 Average mark | AJ106: 53 | AK106: C2 | AM106: Year 3 average mark | AQ106: 69.88 | AR106: B4
C108: Y2/Y3 Average | F108: 64.75 | T108: National Degree Mark & Grade | U108: 64.89 | V108: B2 | Y108: Y2/Y3 Average | AB108: 61.44 | AP108: National Degree Mark & Grade | AQ108: 55.04 | AR108: C3
C110: A selection of UK University Degree Algorithms | K110: Discounts | O110: Weights | Q110: Degree Mark | S110: Uplift | Y110: A selection of UK University Degree Algorithms | AG110: Discounts | AK110: Weights | AM110: Degree Mark | AO110: Uplift
C111: University + Years used | G111: Alg No. | H111: Uni | I111: Credits | K111: Y1 | L111: Y2 | M111: Y3 | N111: TOT | Y111: University + Years used | AC111: Alg No. | AD111: Uni | AE111: Credits | AG111: Y1 | AH111: Y2 | AI111: Y3 | AJ111: TOT
C112: Year 1, 2 and 3 algorithms | U112: Number of Awarding Unversities | Y112: Year 1, 2 and 3 algorithms | AQ112: Number of Awarding Unversities
C113: King's College London | G113: 1 | H113: 1 | I113: 360 | K113: 0 | L113: 0 | M113: 0 | N113: 0 | O113: SPLIT | Q113: 68.68 | S113: P | Y113: King's College London | AC113: 1 | AD113: 1 | AE113: 360 | AG113: 0 | AH113: 0 | AI113: 0 | AJ113: 0 | AK113: SPLIT | AM113: 62.47 | AO113: 0
C114: Aberystwyth | G114: 1 | H114: 1 | I114: 360 | K114: 0 | L114: 0 | M114: 0 | N114: 0 | O114: SPLIT | Q114: 70.04 | S114: 0 | T114: 0 | Y114: Aberystwyth | AC114: 1 | AD114: 1 | AE114: 360 | AG114: 0 | AH114: 0 | AI114: 0 | AJ114: 0 | AK114: SPLIT | AM114: 63.51 | AO114: 0 | AP114: 0
C115: QU Belfast | G115: 2 | H115: 2 | I115: 360 | K115: 0 | L115: 0 | M115: 0 | N115: 0 | O115: 10/30/60 | Q115: 67.47 | S115: 0 | U115: 1st | V115: 40 | Y115: QU Belfast | AC115: 2 | AD115: 2 | AE115: 360 | AG115: 0 | AH115: 0 | AI115: 0 | AJ115: 0 | AK115: 10/30/60 | AM115: 62.05 | AO115: 0 | AQ115: 1st | AR115: 4
C116: Plymouth | G116: 3 | H116: 1 | I116: 320 | K116: 40 | L116: 0 | M116: 0 | N116: 40 | O116: 10/30/60 | Q116: 67.95 | S116: 0 | U116: 2:1 | V116: 82 | Y116: Plymouth | AC116: 3 | AD116: 1 | AE116: 320 | AG116: 40 | AH116: 0 | AI116: 0 | AJ116: 40 | AK116: 10/30/60 | AM116: 62.15 | AO116: 0 | AQ116: 2:1 | AR116: 117
C117: LSE | G117: 4 | H117: 1 | I117: 300 | K117: 60 | L117: 0 | M117: 0 | N117: 60 | O117: 1/1/1 | Q117: 67.28 | S117: 0 | U117: 2:2 | V117: 0 | Y117: LSE | AC117: 4 | AD117: 1 | AE117: 300 | AG117: 60 | AH117: 0 | AI117: 0 | AJ117: 60 | AK117: 1/1/1 | AM117: 55.54 | AO117: 0 | AQ117: 2:2 | AR117: 1
C118: Goldsmiths | G118: 5 | H118: 1 | I118: 300 | K118: 30 | L118: 15 | M118: 15 | N118: 60 | O118: 1/3/5 | Q118: 67.57 | S118: 0 | U118: 3rd | V118: 0 | Y118: Goldsmiths | AC118: 5 | AD118: 1 | AE118: 300 | AG118: 30 | AH118: 15 | AI118: 15 | AJ118: 60 | AK118: 1/3/5 | AM118: 61.36 | AO118: 0 | AQ118: 3rd | AR118: 0
C119: Year 2 and 3 algorithms | U119: Total | V119: 122 | Y119: Year 2 and 3 algorithms | AQ119: Total | AR119: 122
C120: Swansea | G120: 7 | H120: 1 | I120: 240 | K120: 0 | L120: 0 | M120: 0 | N120: 0 | O120: SPLIT | Q120: 68.75 | S120: P | Y120: Swansea | AC120: 7 | AD120: 1 | AE120: 240 | AG120: 0 | AH120: 0 | AI120: 0 | AJ120: 0 | AK120: SPLIT | AM120: 64.5 | AO120: 0
C121: London South Bank | G121: 7 | H121: 1 | I121: 240 | K121: 0 | L121: 0 | M121: 0 | N121: 0 | O121: SPLIT | Q121: 72.8 | S121: 0 | Y121: London South Bank | AC121: 7 | AD121: 1 | AE121: 240 | AG121: 0 | AH121: 0 | AI121: 0 | AJ121: 0 | AK121: SPLIT | AM121: 67.78 | AO121: 0
C122: Abertay | G122: 8 | H122: 8 | I122: 240 | K122: 0 | L122: 0 | M122: 0 | N122: 0 | O122: 50 - 50 | Q122: 64.75 | S122: 0 | Y122: Abertay | AC122: 8 | AD122: 8 | AE122: 240 | AG122: 0 | AH122: 0 | AI122: 0 | AJ122: 0 | AK122: 50 - 50 | AM122: 61.44 | AO122: 0
C123: Birmingham City | G123: 9 | H123: 14 | I123: 240 | K123: 0 | L123: 0 | M123: 0 | N123: 0 | O123: 40 - 60 | Q123: 66.53 | S123: 0 | Y123: Birmingham City | AC123: 9 | AD123: 14 | AE123: 240 | AG123: 0 | AH123: 0 | AI123: 0 | AJ123: 0 | AK123: 40 - 60 | AM123: 63.13 | AO123: 0
C124: Surrey | G124: 10 | H124: 1 | I124: 240 | K124: 0 | L124: 0 | M124: 0 | N124: 0 | O124: 35 - 65 | Q124: 67.43 | S124: 0 | T124: Range of marks | Y124: Surrey | AC124: 10 | AD124: 1 | AE124: 240 | AG124: 0 | AH124: 0 | AI124: 0 | AJ124: 0 | AK124: 35 - 65 | AM124: 63.97 | AO124: 0 | AP124: Range of marks
C125: Bangor | G125: 11 | H125: 14 | I125: 240 | K125: 0 | L125: 0 | M125: 0 | N125: 0 | O125: 33 - 67 | Q125: 67.78 | S125: 0 | T125: n = 122 | Y125: Bangor | AC125: 11 | AD125: 14 | AE125: 240 | AG125: 0 | AH125: 0 | AI125: 0 | AJ125: 0 | AK125: 33 - 67 | AM125: 64.31 | AO125: 0 | AP125: n = 122
C126: Bath | G126: 12 | H126: 1 | I126: 240 | K126: 0 | L126: 0 | M126: 0 | N126: 0 | O126: 32 - 68 | Q126: 67.96 | S126: 0 | U126: Max | V126: 75.2 | Y126: Bath | AC126: 12 | AD126: 1 | AE126: 240 | AG126: 0 | AH126: 0 | AI126: 0 | AJ126: 0 | AK126: 32 - 68 | AM126: 64.48 | AO126: 0 | AQ126: Max | AR126: 72.84
C127: Liverpool | G127: 13 | H127: 11 | I127: 240 | K127: 0 | L127: 0 | M127: 0 | N127: 0 | O127: 30 - 70 | Q127: 68.32 | S127: P | U127: Min | V127: 64.75 | Y127: Liverpool | AC127: 13 | AD127: 11 | AE127: 240 | AG127: 0 | AH127: 0 | AI127: 0 | AJ127: 0 | AK127: 30 - 70 | AM127: 64.82 | AO127: 0 | AQ127: Min | AR127: 55.54
C128: Manchester Met | G128: 14 | H128: 12 | I128: 240 | K128: 0 | L128: 0 | M128: 0 | N128: 0 | O128: 25 - 75 | Q128: 69.21 | S128: P | U128: Difference | V128: 10.45 | Y128: Manchester Met | AC128: 14 | AD128: 12 | AE128: 240 | AG128: 0 | AH128: 0 | AI128: 0 | AJ128: 0 | AK128: 25 - 75 | AM128: 65.66 | AO128: 0 | AQ128: Difference | AR128: 17.3
C129: Derby | G129: 15 | H129: 3 | I129: 240 | K129: 0 | L129: 0 | M129: 0 | N129: 0 | O129: 20 - 80 | Q129: 70.1 | S129: 0 | U129: Median | V129: 69.19 | Y129: Derby | AC129: 15 | AD129: 3 | AE129: 240 | AG129: 0 | AH129: 0 | AI129: 0 | AJ129: 0 | AK129: 20 - 80 | AM129: 66.5 | AO129: 0 | AQ129: Median | AR129: 65.03
C130: Westminster | G130: 17 | H130: 1 | I130: 220 | K130: 0 | L130: 0 | M130: 0 | N130: 20 | O130: 33 - 67 | Q130: 68.81 | S130: P | U130: Average | V130: 69.21 | Y130: Westminster | AC130: 17 | AD130: 1 | AE130: 220 | AG130: 0 | AH130: 0 | AI130: 0 | AJ130: 20 | AK130: 33 - 67 | AM130: 64.52 | AO130: 0 | AQ130: Average | AR130: 64.82
C131: Oxford Brookes | G131: 18 | H131: 1 | I131: 210 | K131: 0 | L131: 0 | M131: 0 | N131: 30 | O131: 50 - 50 | Q131: 74.67 | S131: 0 | T131: Boarderline | V131: 10 | Y131: Oxford Brookes | AC131: 18 | AD131: 1 | AE131: 210 | AG131: 0 | AH131: 0 | AI131: 0 | AJ131: 30 | AK131: 50 - 50 | AM131: 70.1 | AO131: 0 | AP131: Boarderline | AR131: 1
...

Sheet DEGREE MARK SIMULATOR
DY1: 20 | DZ1: 30 | EA1: 60 | EB1: Roehampton | EC1: 1 | ED1: 2 | EI1: ROUND | EL1: 80 | IR1: GRADE | IX1: D1 | IY1: D2 | IZ1: D3 | JA1: D4 | JB1: C1 | JC1: C2 | JD1: C3 | JE1: C4 | JF1: B1 | JG1: B2 | JH1: B3 | JI1: B4 | JJ1: A1 | JK1: A2 | JL1: A3 | JM1: A4 | JN1: A*1 | JO1: A*2 | JP1: A*3 | JQ1: A*4 | JR1: A*
EA2: Y2 | EB2: =DS36 -> 0 | EC2: =DT36 -> X | ED2: =DU36 -> X | EE2: 1 | EF2: =SMALL($EC$2:$EC$25,EE2) -> #NUM! | EG2: =VLOOKUP(EF2,$EC$2:$ED$25,2,0) -> #NUM! | EH2: =EG2 -> #NUM! | EI2: =ROUNDDOWN(EF2,0) -> #NUM! | EJ2: =COUNT(EF2) -> 0 | EK2: =IF(EJ2=1,EG2*EI2,0) -> 0 | EL2: =IF(EH2<=$EL$1,(EG2*EI2),0) -> #NUM! | EM2: =IF(EJ2=1,EL2,0) -> 0 | EO2: L3 | EP2: L2
DU3: COUNTING | EB3: =DS37 -> 0 | EC3: =DT37 -> X | ED3: =DU37 -> X | EE3: =EE2+1 -> 2 | EF3: =SMALL($EC$2:$EC$25,EE3) -> #NUM! | EG3: =VLOOKUP(EF3,$EC$2:$ED$25,2,0) -> #NUM! | EH3: =EH2+EG3 -> #NUM! | EI3: =ROUNDDOWN(EF3,0) -> #NUM! | EJ3: =COUNT(EF3) -> 0 | EK3: =IF(EJ3=1,EG3*EI3,0) -> 0 | EL3: =IF(EH3<=$EL$1,(EG3*EI3),0) -> #NUM! | EM3: =IF(EJ3=1,EL3,0) -> 0 | EO3: 15 | EP3: =180-EO3 -> 165 | GN3: COUNT
DU4: 120 | DV4: DISCOUNT | EB4: =DS38 -> 0 | EC4: =DT38 -> X | ED4: =DU38 -> X | EE4: =EE3+1 -> 3 | EF4: =SMALL($EC$2:$EC$25,EE4) -> #NUM! | EG4: =VLOOKUP(EF4,$EC$2:$ED$25,2,0) -> #NUM! | EH4: =EH3+EG4 -> #NUM! | EI4: =ROUNDDOWN(EF4,0) -> #NUM! | EJ4: =COUNT(EF4) -> 0 | EK4: =IF(EJ4=1,EG4*EI4,0) -> 0 | EL4: =IF(EH4<=$EL$1,(EG4*EI4),0) -> #NUM! | EM4: =IF(EJ4=1,EL4,0) -> 0 | EO4: =EO3+15 -> 30 | EP4: =180-EO4 -> 150 | GN4: 120 | GO4: DISCOUNT
DU5: =DU4-5 -> 115 | DV5: =$CD$13-DU5 -> 5 | EB5: =DS39 -> 0 | EC5: =DT39 -> X | ED5: =DU39 -> X | EE5: =EE4+1 -> 4 | EF5: =SMALL($EC$2:$EC$25,EE5) -> #NUM! | EG5: =VLOOKUP(EF5,$EC$2:$ED$25,2,0) -> #NUM! | EH5: =EH4+EG5 -> #NUM! | EI5: =ROUNDDOWN(EF5,0) -> #NUM! | EJ5: =COUNT(EF5) -> 0 | EK5: =IF(EJ5=1,EG5*EI5,0) -> 0 | EL5: =IF(EH5<=$EL$1,(EG5*EI5),0) -> #NUM! | EM5: =IF(EJ5=1,EL5,0) -> 0 | EO5: =EO4+15 -> 45 | EP5: =180-EO5 -> 135 | GN5: =GN4-5 -> 115 | GO5: =$CD$13-GN5 -> 5
DU6: =DU5-5 -> 110 | DV6: =$CD$13-DU6 -> 10 | EB6: =DS40 -> 0 | EC6: =DT40 -> X | ED6: =DU40 -> X | EE6: =EE5+1 -> 5 | EF6: =SMALL($EC$2:$EC$25,EE6) -> #NUM! | EG6: =VLOOKUP(EF6,$EC$2:$ED$25,2,0) -> #NUM! | EH6: =EH5+EG6 -> #NUM! | EI6: =ROUNDDOWN(EF6,0) -> #NUM! | EJ6: =COUNT(EF6) -> 0 | EK6: =IF(EJ6=1,EG6*EI6,0) -> 0 | EL6: =IF(EH6<=$EL$1,(EG6*EI6),0) -> #NUM! | EM6: =IF(EJ6=1,EL6,0) -> 0 | EO6: =EO5+15 -> 60 | EP6: =180-EO6 -> 120 | GN6: =GN5-5 -> 110 | GO6: =$CD$13-GN6 -> 10
DU7: =DU6-5 -> 105 | DV7: =$CD$13-DU7 -> 15 | DW7: 1 | EB7: =DS41 -> 0 | EC7: =DT41 -> X | ED7: =DU41 -> X | EE7: =EE6+1 -> 6 | EF7: =SMALL($EC$2:$EC$25,EE7) -> #NUM! | EG7: =VLOOKUP(EF7,$EC$2:$ED$25,2,0) -> #NUM! | EH7: =EH6+EG7 -> #NUM! | EI7: =ROUNDDOWN(EF7,0) -> #NUM! | EJ7: =COUNT(EF7) -> 0 | EK7: =IF(EJ7=1,EG7*EI7,0) -> 0 | EL7: =IF(EH7<=$EL$1,(EG7*EI7),0) -> #NUM! | EM7: =IF(EJ7=1,EL7,0) -> 0 | EO7: =EO6+15 -> 75 | EP7: =180-EO7 -> 105 | GN7: =GN6-5 -> 105 | GO7: =$CD$13-GN7 -> 15 | GP7: 1
DU8: =DU7-5 -> 100 | DV8: =$CD$13-DU8 -> 20 | DW8: 2 | EB8: =DS42 -> 0 | EC8: =DT42 -> X | ED8: =DU42 -> X | EE8: =EE7+1 -> 7 | EF8: =SMALL($EC$2:$EC$25,EE8) -> #NUM! | EG8: =VLOOKUP(EF8,$EC$2:$ED$25,2,0) -> #NUM! | EH8: =EH7+EG8 -> #NUM! | EI8: =ROUNDDOWN(EF8,0) -> #NUM! | EJ8: =COUNT(EF8) -> 0 | EK8: =IF(EJ8=1,EG8*EI8,0) -> 0 | EL8: =IF(EH8<=$EL$1,(EG8*EI8),0) -> #NUM! | EM8: =IF(EJ8=1,EL8,0) -> 0 | EO8: =EO7+15 -> 90 | EP8: =180-EO8 -> 90 | GN8: =GN7-5 -> 100 | GO8: =$CD$13-GN8 -> 20 | GP8: 2
DU9: =DU8-5 -> 95 | DV9: =$CD$13-DU9 -> 25 | EB9: =DS43 -> 0 | EC9: =DT43 -> X | ED9: =DU43 -> X | EE9: =EE8+1 -> 8 | EF9: =SMALL($EC$2:$EC$25,EE9) -> #NUM! | EG9: =VLOOKUP(EF9,$EC$2:$ED$25,2,0) -> #NUM! | EH9: =EH8+EG9 -> #NUM! | EI9: =ROUNDDOWN(EF9,0) -> #NUM! | EJ9: =COUNT(EF9) -> 0 | EK9: =IF(EJ9=1,EG9*EI9,0) -> 0 | EL9: =IF(EH9<=$EL$1,(EG9*EI9),0) -> #NUM! | EM9: =IF(EJ9=1,EL9,0) -> 0 | EO9: =EO8+15 -> 105 | EP9: =180-EO9 -> 75 | GN9: =GN8-5 -> 95 | GO9: =$CD$13-GN9 -> 25
DU10: =DU9-5 -> 90 | DV10: =$CD$13-DU10 -> 30 | DW10: 3 | EB10: =DS44 -> 0 | EC10: =DT44 -> X | ED10: =DU44 -> X | EE10: =EE9+1 -> 9 | EF10: =SMALL($EC$2:$EC$25,EE10) -> #NUM! | EG10: =VLOOKUP(EF10,$EC$2:$ED$25,2,0) -> #NUM! | EH10: =EH9+EG10 -> #NUM! | EI10: =ROUNDDOWN(EF10,0) -> #NUM! | EJ10: =COUNT(EF10) -> 0 | EK10: =IF(EJ10=1,EG10*EI10,0) -> 0 | EL10: =IF(EH10<=$EL$1,(EG10*EI10),0) -> #NUM! | EM10: =IF(EJ10=1,EL10,0) -> 0 | EO10: =EO9+15 -> 120 | EP10: =180-EO10 -> 60 | GN10: =GN9-5 -> 90 | GO10: =$CD$13-GN10 -> 30 | GP10: 3
DU11: =DU10-5 -> 85 | DV11: =$CD$13-DU11 -> 35 | EB11: =DS45 -> 0 | EC11: =DT45 -> X | ED11: =DU45 -> X | EE11: =EE10+1 -> 10 | EF11: =SMALL($EC$2:$EC$25,EE11) -> #NUM! | EG11: =VLOOKUP(EF11,$EC$2:$ED$25,2,0) -> #NUM! | EH11: =EH10+EG11 -> #NUM! | EI11: =ROUNDDOWN(EF11,0) -> #NUM! | EJ11: =COUNT(EF11) -> 0 | EK11: =IF(EJ11=1,EG11*EI11,0) -> 0 | EL11: =IF(EH11<=$EL$1,(EG11*EI11),0) -> #NUM! | EM11: =IF(EJ11=1,EL11,0) -> 0 | EO11: =EO10+15 -> 135 | EP11: =180-EO11 -> 45 | GN11: =GN10-5 -> 85 | GO11: =$CD$13-GN11 -> 35
DU12: =DU11-5 -> 80 | DV12: =$CD$13-DU12 -> 40 | DW12: 4 | EB12: =DS46 -> 0 | EC12: =DT46 -> X | ED12: =DU46 -> X | EE12: =EE11+1 -> 11 | EF12: =SMALL($EC$2:$EC$25,EE12) -> #NUM! | EG12: =VLOOKUP(EF12,$EC$2:$ED$25,2,0) -> #NUM! | EH12: =EH11+EG12 -> #NUM! | EI12: =ROUNDDOWN(EF12,0) -> #NUM! | EJ12: =COUNT(EF12) -> 0 | EK12: =IF(EJ12=1,EG12*EI12,0) -> 0 | EL12: =IF(EH12<=$EL$1,(EG12*EI12),0) -> #NUM! | EM12: =IF(EJ12=1,EL12,0) -> 0 | EO12: =EO11+15 -> 150 | EP12: =180-EO12 -> 30 | GN12: =GN11-5 -> 80 | GO12: =$CD$13-GN12 -> 40
U13: COMPARE YOUR DEGREE CLASSIFCATION © [For degress based on 360 credits only] | AW13: 2 | AY13: =U33 -> YEAR 1 | BD13: =AB33 -> YEAR 2 | CD13: 120 | DU13: =DU12-5 -> 75 | DV13: =$CD$13-DU13 -> 45 | DW13: 5 | EB13: =DS47 -> 0 | EC13: =DT47 -> X | ED13: =DU47 -> X | EE13: =EE12+1 -> 12 | EF13: =SMALL($EC$2:$EC$25,EE13) -> #NUM! | EG13: =VLOOKUP(EF13,$EC$2:$ED$25,2,0) -> #NUM! | EH13: =EH12+EG13 -> #NUM! | EI13: =ROUNDDOWN(EF13,0) -> #NUM! | EJ13: =COUNT(EF13) -> 0 | EK13: =IF(EJ13=1,EG13*EI13,0) -> 0 | EL13: =IF(EH13<=$EL$1,(EG13*EI13),0) -> #NUM! | EM13: =IF(EJ13=1,EL13,0) -> 0 | EO13: =EO12+15 -> 165 | EP13: =180-EO13 -> 15 | GN13: =GN12-5 -> 75 | GO13: =$CD$13-GN13 -> 45 | IR13: BAND | IX13: D | IY13: [3rd] | JB13: C | JC13: [2:2] | JF13: B | JG13: [2:1] | JJ13: A | JK13: 1st | JN13: A* | JO13: [1st *] | JR13: A*
AX14: 1 | AY14: =U34 -> Module | AZ14: =X34 -> Credit | BA14: =Y34 -> Mark | BB14: =Z34 -> Grade | BD14: =AB34 -> Module | BE14: =AE34 -> Credit | BF14: =AF34 -> Mark | BG14: =AG34 -> Grade | BI14: =AI34 -> Module | BJ14: =AL34 -> Credit | BK14: =AM34 -> Mark | BL14: =AN34 -> Grade | CB14: y1 | CD14: =CD13-5 -> 115 | CE14: =$CD$13-CD14 -> 5 | DS14: y2 | DU14: =DU13-5 -> 70 | DV14: =$CD$13-DU14 -> 50 | EA14: Y3 | EB14: =GL36 -> 0 | EC14: =GM36 -> X | ED14: =GN36 -> X | EE14: =EE13+1 -> 13 | EF14: =SMALL($EC$2:$EC$25,EE14) -> #NUM! | EG14: =VLOOKUP(EF14,$EC$2:$ED$25,2,0) -> #NUM! | EH14: =EH13+EG14 -> #NUM! | EI14: =ROUNDDOWN(EF14,0) -> #NUM! | EJ14: =COUNT(EF14) -> 0 | EK14: =IF(EJ14=1,EG14*EI14,0) -> 0 | EL14: =IF(EH14<=$EL$1,(EG14*EI14),0) -> #NUM! | EM14: =IF(EJ14=1,EL14,0) -> 0 | EO14: =EO13+15 -> 180 | EP14: =180-EO14 -> 0 | GL14: y3 | GN14: =GN13-5 -> 70 | GO14: =$CD$13-GN14 -> 50
U15: This calculator enables you to compare your actual or likely degree outcome across 41 different algorithms used by 122 universities (i.e. the simulator excludes universities that use profiling -see tab: 'Introduction'). The initial mark is a proposed 'National Degree Mark', which is the weighted average of all module marks across all years of study. The National Degree Grades (D1 to A*4) complement the current classifications (3rd to a 1st). See tab Register for the full set of degree marks for these 122 universities. | AX15: 1 | AY15: =U35 | AZ15: =X35 -> 0 | BA15: =Y35 -> 0 | BB15: =Z35 | BD15: =AB35 | BE15: =AE35 -> 0 | BF15: =AF35 -> 0 | BG15: =AG35 | BI15: =AI35 | BJ15: =AL35 -> 0 | BK15: =AM35 -> 0 | BL15: =AN35 | CB15: =ROUNDDOWN(BA15,0) -> 0 | CD15: =CD14-5 -> 110 | CE15: =$CD$13-CD15 -> 10 | DS15: =ROUNDDOWN(BF15,0) -> 0 | DU15: =DU14-5 -> 65 | DV15: =$CD$13-DU15 -> 55 | EB15: =GL37 -> 0 | EC15: =GM37 -> X | ED15: =GN37 -> X | EE15: =EE14+1 -> 14 | EF15: =SMALL($EC$2:$EC$25,EE15) -> #NUM! | EG15: =VLOOKUP(EF15,$EC$2:$ED$25,2,0) -> #NUM! | EH15: =EH14+EG15 -> #NUM! | EI15: =ROUNDDOWN(EF15,0) -> #NUM! | EJ15: =COUNT(EF15) -> 0 | EK15: =IF(EJ15=1,EG15*EI15,0) -> 0 | EL15: =IF(EH15<=$EL$1,(EG15*EI15),0) -> #NUM! | EM15: =IF(EJ15=1,EL15,0) -> 0 | GL15: =ROUNDDOWN(BK15,0) -> 0 | GN15: =GN14-5 -> 65 | GO15: =$CD$13-GN15 -> 55
AX16: =AX15+1 -> 2 | AY16: =U36 | AZ16: =X36 -> 0 | BA16: =Y36 -> 0 | BB16: =Z36 | BD16: =AB36 | BE16: =AE36 -> 0 | BF16: =AF36 -> 0 | BG16: =AG36 | BI16: =AI36 | BJ16: =AL36 -> 0 | BK16: =AM36 -> 0 | BL16: =AN36 | CB16: =ROUNDDOWN(BA16,0) -> 0 | CD16: =CD15-5 -> 105 | CE16: =$CD$13-CD16 -> 15 | DS16: =ROUNDDOWN(BF16,0) -> 0 | DU16: =DU15-5 -> 60 | DV16: =$CD$13-DU16 -> 60 | DW16: 6 | EB16: =GL38 -> 0 | EC16: =GM38 -> X | ED16: =GN38 -> X | EE16: =EE15+1 -> 15 | EF16: =SMALL($EC$2:$EC$25,EE16) -> #NUM! | EG16: =VLOOKUP(EF16,$EC$2:$ED$25,2,0) -> #NUM! | EH16: =EH15+EG16 -> #NUM! | EI16: =ROUNDDOWN(EF16,0) -> #NUM! | EJ16: =COUNT(EF16) -> 0 | EK16: =IF(EJ16=1,EG16*EI16,0) -> 0 | EL16: =IF(EH16<=$EL$1,(EG16*EI16),0) -> #NUM! | EM16: =IF(EJ16=1,EL16,0) -> 0 | GL16: =ROUNDDOWN(BK16,0) -> 0 | GN16: =GN15-5 -> 60 | GO16: =$CD$13-GN16 -> 60
AX17: =AX16+1 -> 3 | AY17: =U37 | AZ17: =X37 -> 0 | BA17: =Y37 -> 0 | BB17: =Z37 | BD17: =AB37 | BE17: =AE37 -> 0 | BF17: =AF37 -> 0 | BG17: =AG37 | BI17: =AI37 | BJ17: =AL37 -> 0 | BK17: =AM37 -> 0 | BL17: =AN37 | CB17: =ROUNDDOWN(BA17,0) -> 0 | CD17: =CD16-5 -> 100 | CE17: =$CD$13-CD17 -> 20 | DS17: =ROUNDDOWN(BF17,0) -> 0 | DU17: =DU16-5 -> 55 | DV17: =$CD$13-DU17 -> 65 | EB17: =GL39 -> 0 | EC17: =GM39 -> X | ED17: =GN39 -> X | EE17: =EE16+1 -> 16 | EF17: =SMALL($EC$2:$EC$25,EE17) -> #NUM! | EG17: =VLOOKUP(EF17,$EC$2:$ED$25,2,0) -> #NUM! | EH17: =EH16+EG17 -> #NUM! | EI17: =ROUNDDOWN(EF17,0) -> #NUM! | EJ17: =COUNT(EF17) -> 0 | EK17: =IF(EJ17=1,EG17*EI17,0) -> 0 | EL17: =IF(EH17<=$EL$1,(EG17*EI17),0) -> #NUM! | EM17: =IF(EJ17=1,EL17,0) -> 0 | GL17: =ROUNDDOWN(BK17,0) -> 0 | GN17: =GN16-5 -> 55 | GO17: =$CD$13-GN17 -> 65
AX18: =AX17+1 -> 4 | AY18: =U38 | AZ18: =X38 -> 0 | BA18: =Y38 -> 0 | BB18: =Z38 | BD18: =AB38 | BE18: =AE38 -> 0 | BF18: =AF38 -> 0 | BG18: =AG38 | BI18: =AI38 | BJ18: =AL38 -> 0 | BK18: =AM38 -> 0 | BL18: =AN38 | CB18: =ROUNDDOWN(BA18,0) -> 0 | CD18: =CD17-5 -> 95 | CE18: =$CD$13-CD18 -> 25 | DS18: =ROUNDDOWN(BF18,0) -> 0 | DU18: =DU17-5 -> 50 | DV18: =$CD$13-DU18 -> 70 | EB18: =GL40 -> 0 | EC18: =GM40 -> X | ED18: =GN40 -> X | EE18: =EE17+1 -> 17 | EF18: =SMALL($EC$2:$EC$25,EE18) -> #NUM! | EG18: =VLOOKUP(EF18,$EC$2:$ED$25,2,0) -> #NUM! | EH18: =EH17+EG18 -> #NUM! | EI18: =ROUNDDOWN(EF18,0) -> #NUM! | EJ18: =COUNT(EF18) -> 0 | EK18: =IF(EJ18=1,EG18*EI18,0) -> 0 | EL18: =IF(EH18<=$EL$1,(EG18*EI18),0) -> #NUM! | EM18: =IF(EJ18=1,EL18,0) -> 0 | GL18: =ROUNDDOWN(BK18,0) -> 0 | GN18: =GN17-5 -> 50 | GO18: =$CD$13-GN18 -> 70
U19: Before you use the simulator, its a good idea to look at the 'Calculating marks' tab (if you haven't done so already), this will help you to understand how an algorithm uses discounting and differential weighting to arrive at a degree mark. | AX19: =AX18+1 -> 5 | AY19: =U39 | AZ19: =X39 -> 0 | BA19: =Y39 -> 0 | BB19: =Z39 | BD19: =AB39 | BE19: =AE39 -> 0 | BF19: =AF39 -> 0 | BG19: =AG39 | BI19: =AI39 | BJ19: =AL39 -> 0 | BK19: =AM39 -> 0 | BL19: =AN39 | CB19: =ROUNDDOWN(BA19,0) -> 0 | CD19: =CD18-5 -> 90 | CE19: =$CD$13-CD19 -> 30 | DS19: =ROUNDDOWN(BF19,0) -> 0 | DU19: =DU18-5 -> 45 | DV19: =$CD$13-DU19 -> 75 | EB19: =GL41 -> 0 | EC19: =GM41 -> X | ED19: =GN41 -> X | EE19: =EE18+1 -> 18 | EF19: =SMALL($EC$2:$EC$25,EE19) -> #NUM! | EG19: =VLOOKUP(EF19,$EC$2:$ED$25,2,0) -> #NUM! | EH19: =EH18+EG19 -> #NUM! | EI19: =ROUNDDOWN(EF19,0) -> #NUM! | EJ19: =COUNT(EF19) -> 0 | EK19: =IF(EJ19=1,EG19*EI19,0) -> 0 | EL19: =IF(EH19<=$EL$1,(EG19*EI19),0) -> #NUM! | EM19: =IF(EJ19=1,EL19,0) -> 0 | GL19: =ROUNDDOWN(BK19,0) -> 0 | GN19: =GN18-5 -> 45 | GO19: =$CD$13-GN19 -> 75
AX20: =AX19+1 -> 6 | AY20: =U40 | AZ20: =X40 -> 0 | BA20: =Y40 -> 0 | BB20: =Z40 | BD20: =AB40 | BE20: =AE40 -> 0 | BF20: =AF40 -> 0 | BG20: =AG40 | BI20: =AI40 | BJ20: =AL40 -> 0 | BK20: =AM40 -> 0 | BL20: =AN40 | CB20: =ROUNDDOWN(BA20,0) -> 0 | CD20: =CD19-5 -> 85 | CE20: =$CD$13-CD20 -> 35 | DS20: =ROUNDDOWN(BF20,0) -> 0 | DU20: =DU19-5 -> 40 | DV20: =$CD$13-DU20 -> 80 | DW20: 7 | EB20: =GL42 -> 0 | EC20: =GM42 -> X | ED20: =GN42 -> X | EE20: =EE19+1 -> 19 | EF20: =SMALL($EC$2:$EC$25,EE20) -> #NUM! | EG20: =VLOOKUP(EF20,$EC$2:$ED$25,2,0) -> #NUM! | EH20: =EH19+EG20 -> #NUM! | EI20: =ROUNDDOWN(EF20,0) -> #NUM! | EJ20: =COUNT(EF20) -> 0 | EK20: =IF(EJ20=1,EG20*EI20,0) -> 0 | EL20: =IF(EH20<=$EL$1,(EG20*EI20),0) -> #NUM! | EM20: =IF(EJ20=1,EL20,0) -> 0 | GL20: =ROUNDDOWN(BK20,0) -> 0 | GN20: =GN19-5 -> 40 | GO20: =$CD$13-GN20 -> 80
AX21: =AX20+1 -> 7 | AY21: =U41 | AZ21: =X41 -> 0 | BA21: =Y41 -> 0 | BB21: =Z41 | BD21: =AB41 | BE21: =AE41 -> 0 | BF21: =AF41 -> 0 | BG21: =AG41 | BI21: =AI41 | BJ21: =AL41 -> 0 | BK21: =AM41 -> 0 | BL21: =AN41 | CB21: =ROUNDDOWN(BA21,0) -> 0 | CD21: =CD20-5 -> 80 | CE21: =$CD$13-CD21 -> 40 | DS21: =ROUNDDOWN(BF21,0) -> 0 | DU21: =DU20-5 -> 35 | DV21: =$CD$13-DU21 -> 85 | EB21: =GL43 -> 0 | EC21: =GM43 -> X | ED21: =GN43 -> X | EE21: =EE20+1 -> 20 | EF21: =SMALL($EC$2:$EC$25,EE21) -> #NUM! | EG21: =VLOOKUP(EF21,$EC$2:$ED$25,2,0) -> #NUM! | EH21: =EH20+EG21 -> #NUM! | EI21: =ROUNDDOWN(EF21,0) -> #NUM! | EJ21: =COUNT(EF21) -> 0 | EK21: =IF(EJ21=1,EG21*EI21,0) -> 0 | EL21: =IF(EH21<=$EL$1,(EG21*EI21),0) -> #NUM! | EM21: =IF(EJ21=1,EL21,0) -> 0 | GL21: =ROUNDDOWN(BK21,0) -> 0 | GN21: =GN20-5 -> 35 | GO21: =$CD$13-GN21 -> 85
AX22: =AX21+1 -> 8 | AY22: =U42 | AZ22: =X42 -> 0 | BA22: =Y42 -> 0 | BB22: =Z42 | BD22: =AB42 | BE22: =AE42 -> 0 | BF22: =AF42 -> 0 | BG22: =AG42 | BI22: =AI42 | BJ22: =AL42 -> 0 | BK22: =AM42 -> 0 | BL22: =AN42 | CB22: =ROUNDDOWN(BA22,0) -> 0 | CD22: =CD21-5 -> 75 | CE22: =$CD$13-CD22 -> 45 | DS22: =ROUNDDOWN(BF22,0) -> 0 | DU22: =DU21-5 -> 30 | DV22: =$CD$13-DU22 -> 90 | DW22: 8 | EB22: =GL44 -> 0 | EC22: =GM44 -> X | ED22: =GN44 -> X | EE22: =EE21+1 -> 21 | EF22: =SMALL($EC$2:$EC$25,EE22) -> #NUM! | EG22: =VLOOKUP(EF22,$EC$2:$ED$25,2,0) -> #NUM! | EH22: =EH21+EG22 -> #NUM! | EI22: =ROUNDDOWN(EF22,0) -> #NUM! | EJ22: =COUNT(EF22) -> 0 | EK22: =IF(EJ22=1,EG22*EI22,0) -> 0 | EL22: =IF(EH22<=$EL$1,(EG22*EI22),0) -> #NUM! | EM22: =IF(EJ22=1,EL22,0) -> 0 | GL22: =ROUNDDOWN(BK22,0) -> 0 | GN22: =GN21-5 -> 30 | GO22: =$CD$13-GN22 -> 90
AX23: =AX22+1 -> 9 | AY23: =U43 | AZ23: =X43 -> 0 | BA23: =Y43 -> 0 | BB23: =Z43 | BD23: =AB43 | BE23: =AE43 -> 0 | BF23: =AF43 -> 0 | BG23: =AG43 | BI23: =AI43 | BJ23: =AL43 -> 0 | BK23: =AM43 -> 0 | BL23: =AN43 | CB23: =ROUNDDOWN(BA23,0) -> 0 | CD23: =CD22-5 -> 70 | CE23: =$CD$13-CD23 -> 50 | DS23: =ROUNDDOWN(BF23,0) -> 0 | DU23: =DU22-5 -> 25 | DV23: =$CD$13-DU23 -> 95 | EB23: =GL45 -> 0 | EC23: =GM45 -> X | ED23: =GN45 -> X | EE23: =EE22+1 -> 22 | EF23: =SMALL($EC$2:$EC$25,EE23) -> #NUM! | EG23: =VLOOKUP(EF23,$EC$2:$ED$25,2,0) -> #NUM! | EH23: =EH22+EG23 -> #NUM! | EI23: =ROUNDDOWN(EF23,0) -> #NUM! | EJ23: =COUNT(EF23) -> 0 | EK23: =IF(EJ23=1,EG23*EI23,0) -> 0 | EL23: =IF(EH23<=$EL$1,(EG23*EI23),0) -> #NUM! | EM23: =IF(EJ23=1,EL23,0) -> 0 | GL23: =ROUNDDOWN(BK23,0) -> 0 | GN23: =GN22-5 -> 25 | GO23: =$CD$13-GN23 -> 95
AX24: =AX23+1 -> 10 | AY24: =U44 | AZ24: =X44 -> 0 | BA24: =Y44 -> 0 | BB24: =Z44 | BD24: =AB44 | BE24: =AE44 -> 0 | BF24: =AF44 -> 0 | BG24: =AG44 | BI24: =AI44 | BJ24: =AL44 -> 0 | BK24: =AM44 -> 0 | BL24: =AN44 | CB24: =ROUNDDOWN(BA24,0) -> 0 | CD24: =CD23-5 -> 65 | CE24: =$CD$13-CD24 -> 55 | DS24: =ROUNDDOWN(BF24,0) -> 0 | DU24: =DU23-5 -> 20 | DV24: =$CD$13-DU24 -> 100 | EB24: =GL46 -> 0 | EC24: =GM46 -> X | ED24: =GN46 -> X | EE24: =EE23+1 -> 23 | EF24: =SMALL($EC$2:$EC$25,EE24) -> #NUM! | EG24: =VLOOKUP(EF24,$EC$2:$ED$25,2,0) -> #NUM! | EH24: =EH23+EG24 -> #NUM! | EI24: =ROUNDDOWN(EF24,0) -> #NUM! | EJ24: =COUNT(EF24) -> 0 | EK24: =IF(EJ24=1,EG24*EI24,0) -> 0 | EL24: =IF(EH24<=$EL$1,(EG24*EI24),0) -> #NUM! | EM24: =IF(EJ24=1,EL24,0) -> 0 | GL24: =ROUNDDOWN(BK24,0) -> 0 | GN24: =GN23-5 -> 20 | GO24: =$CD$13-GN24 -> 100
AX25: =AX24+1 -> 11 | AY25: =U45 | AZ25: =X45 -> 0 | BA25: =Y45 -> 0 | BB25: =Z45 | BD25: =AB45 | BE25: =AE45 -> 0 | BF25: =AF45 -> 0 | BG25: =AG45 | BI25: =AI45 | BJ25: =AL45 -> 0 | BK25: =AM45 -> 0 | BL25: =AN45 | DS25: =ROUNDDOWN(BF25,0) -> 0 | DU25: =DU23-5 -> 20 | DV25: =$CD$13-DU25 -> 100 | EB25: =GL47 -> 0 | EC25: =GM47 -> X | ED25: =GN47 -> X | EE25: =EE24+1 -> 24 | EF25: =SMALL($EC$2:$EC$25,EE25) -> #NUM! | EG25: =VLOOKUP(EF25,$EC$2:$ED$25,2,0) -> #NUM! | EH25: =EH24+EG25 -> #NUM! | EI25: =ROUNDDOWN(EF25,0) -> #NUM! | EJ25: =COUNT(EF25) -> 0 | EK25: =IF(EJ25=1,EG25*EI25,0) -> 0 | EL25: =IF(EH25<=$EL$1,(EG25*EI25),0) -> #NUM! | EM25: =IF(EJ25=1,EL25,0) -> 0 | GL25: =ROUNDDOWN(BK25,0) -> 0 | GN25: =GN24-5 -> 15 | GO25: =$CD$13-GN25 -> 105
AX26: =AX25+1 -> 12 | AY26: =U46 | AZ26: =X46 -> 0 | BA26: =Y46 -> 0 | BB26: =Z46 | BD26: =AB46 | BE26: =AE46 -> 0 | BF26: =AF46 -> 0 | BG26: =AG46 | BI26: =AI46 | BJ26: =AL46 -> 0 | BK26: =AM46 -> 0 | BL26: =AN46 | DS26: =ROUNDDOWN(BF26,0) -> 0 | DU26: =DU24-5 -> 15 | DV26: =$CD$13-DU26 -> 105 | EK26: =SUM(EK2:EK25) -> 0 | EM26: =SUM(EM2:EM25) -> 0 | EN26: =EK26-EM26 -> 0 | GL26: =ROUNDDOWN(BK26,0) -> 0 | GN26: =GN25-5 -> 10 | GO26: =$CD$13-GN26 -> 110
U27: The 'calculator' can accommodate modules of 5 credit or above, the maximum number of credits per year is however 12. | CB27: =ROUNDDOWN(BA25,0) -> 0 | CD27: =CD24-5 -> 60 | CE27: =$CD$13-CD27 -> 60 | DU27: =DU25-5 -> 15 | DV27: =$CD$13-DU27 -> 105 | EK27: 240 | EM27: =EL1 -> 80 | EN27: =EK27-EM27 -> 160 | GN27: =GN26-5 -> 5 | GO27: =$CD$13-GN27 -> 115 | KJ27: 8.49
U28: 1. In the yellow cells, enter in your known or target module marks and credits (use whole numbers and always round down) | AX28: row H = 20 | CB28: =ROUNDDOWN(BA26,0) -> 0 | CD28: =CD27-5 -> 55 | CE28: =$CD$13-CD28 -> 65 | DU28: =DU26-5 -> 10 | DV28: =$CD$13-DU28 -> 110 | EK28: =EK26/EK27 -> 0 | EM28: =EM26/EM27 -> 0 | EN28: =EN26/EN27 -> 0 | GN28: =GN27-5 -> 0 | GO28: =$CD$13-GN28 -> 120 | KE28: DEFINATE UPLIFTS | KJ28: 8
U29: 2. Be careful when entering your marks and the related credit, incorrect entries will be very misleading | CD29: =CD28-5 -> 50 | CE29: =$CD$13-CD29 -> 70 | IR29: GRADE | IT29: E1 | IU29: E2 | IV29: E3 | IW29: E4 | IX29: D1 | IY29: D2 | IZ29: D3 | JA29: D4 | JB29: C1 | JC29: C2 | JD29: C3 | JE29: C4 | JF29: B1 | JG29: B2 | JH29: B3 | JI29: B4 | JJ29: A1 | JK29: A2 | JL29: A3 | JM29: A4 | JN29: A*1 | JO29: A*2 | JP29: A*3 | JQ29: A*4 | JR29: A** | KE29: =JX30 -> 50 | KF29: =JY30 -> 60 | KG29: =JZ30 -> 70 | KJ29: =KE29 -> 50 | KK29: =KF29 -> 60 | KL29: =KG29 -> 70
U30: 3. For each year check that all your credits add up to 120 and that overall your total credits are 360 | IR30: LOWER | IS30: 0 | IT30: 30 | IU30: =IT31+0.01 -> 32.5 | IV30: =IU31+0.01 -> 35 | IW30: =IV31+0.01 -> 37.5 | IX30: 40 | IY30: 42.5 | IZ30: 45 | JA30: 47.5 | JB30: 50 | JC30: 52.5 | JD30: 55 | JE30: 57.5 | JF30: 60 | JG30: 62.5 | JH30: 65 | JI30: 67.5 | JJ30: 70 | JK30: 72.5 | JL30: 75 | JM30: 77.5 | JN30: 80 | JO30: 82.5 | JP30: 85 | JQ30: 87.5 | JR30: 90 | JS30: 101 | JW30: =IX30 -> 40 | JX30: =JB30 -> 50 | JY30: =JF30 -> 60 | JZ30: =JJ30 -> 70 | KA30: =JN30 -> 80 | KB30: 101 | KE30: =JW30+9.49 -> 49.49 | KF30: =JX30+9.49 -> 59.49 | KG30: =JY30+9.49 -> 69.49 | KJ30: =IF(KJ13=1,(JW30+KJ27),IF(KJ13=0,(JW30+KJ28))) -> 48 | KK30: =IF(KJ13=1,(JX30+KJ27),IF(KJ13=0,(JX30+KJ28))) -> 58 | KL30: =IF(KJ13=1,(JY30+KJ27),IF(KJ13=0,(JY30+KJ28))) -> 68
U31: 4. The area below is formatted for printing, but check Page Break Preview before printing. | IR31: UPPER | IS31: 29.99 | IT31: =IT30+2.49 -> 32.49 | IU31: =IU30+2.49 -> 34.99 | IV31: =IV30+2.49 -> 37.49 | IW31: =IW30+2.49 -> 39.99 | IX31: 42.49 | IY31: 44.99 | IZ31: 47.49 | JA31: 49.99 | JB31: 52.49 | JC31: 54.99 | JD31: 57.49 | JE31: 59.99 | JF31: 62.49 | JG31: 64.99 | JH31: 67.49 | JI31: 69.99 | JJ31: 72.49 | JK31: 74.99 | JL31: 77.49 | JM31: 79.99 | JN31: 82.49 | JO31: 84.99 | JP31: 87.49 | JQ31: 89.99 | JR31: +
IS32: 1 | IT32: =IS32+1 -> 2 | IU32: =IT32+1 -> 3 | IV32: =IU32+1 -> 4 | IW32: =IV32+1 -> 5 | IX32: =IW32+1 -> 6 | IY32: =IX32+1 -> 7 | IZ32: =IY32+1 -> 8 | JA32: =IZ32+1 -> 9 | ... JR32: =JQ32+1 -> 26 | JV32: 1 | JW32: =JV32+1 -> 2 | JX32: =JW32+1 -> 3 | JY32: =JX32+1 -> 4 | JZ32: =JY32+1 -> 5 | KA32: =JZ32+1 -> 6 | KE32: 1 | KF32: 2 | KG32: 3 | KJ32: 1 | KK32: 2 | KL32: 3 | LB32: A selection of UK university algorithms [as of July 2017]
U33: YEAR 1 | AB33: YEAR 2 | AI33: YEAR 3 | CF33: degree of smallness | EE33: 105 | HL33: 1 | HM33: 2 | HN33: 3 | HO33: 4 | HP33: 5 | HQ33: 6 | HR33: 7 | HS33: 1 | HT33: 2 | HU33: 3 | HV33: 4 | HW33: 5 | HX33: 6 | HY33: 7 | HZ33: 1 | IA33: 2 | IB33: 3 | IC33: 4 | ID33: 5 | IE33: 6 | IF33: 7 | IR33: GRADE | IS33: F | IT33: E1 | IU33: E2 | IV33: E3 | IW33: E4 | IX33: D1 | IY33: D2 | IZ33: D3 | JA33: D4 | JB33: C1 | JC33: C2 | JD33: C3 | JE33: C4 | JF33: B1 | JG33: B2 | JH33: B3 | JI33: B4 | JJ33: A1 | JK33: A2 | JL33: A3 | JM33: A4 | JN33: A*1 | JO33: A*2 | JP33: A*3 | JQ33: A*4 | JR33: A** | JV33: F | JW33: 3rd | JX33: 2:2 | JY33: 2:1 | JZ33: 1st | KA33: 1st* | LB33: Algorithm | LC33: Years Used | LD33: Weights | LE33: UNIVERSITY
U34: Module | X34: Credit | Y34: Mark | Z34: Grade | AB34: Module | AE34: Credit | AF34: Mark | AG34: Grade | AI34: Module | AL34: Credit | AM34: Mark | AN34: Grade | AX34: 5 | AY34: 10 | AZ34: 15 | BA34: 20 | BB34: 25 | BC34: 30 | BD34: 35 | BE34: 40 | BF34: 45 | BG34: 50 | BH34: 55 | BI34: 60 | CE34: rank [1] | CG34: small | CH34: vlook | CJ34: rank [2] | CK34: R / Tot | CN34: 20 D | CU34: 30 D | DB34: 40 D | DI34: 40 D | DT34: rank [1] | DX34: small | DY34: vlook | EA34: rank [2] | EB34: R / Tot | EE34: 1 | EL34: =EE34+1 -> 2 | ES34: =EL34+1 -> 3 | EZ34: =ES34+1 -> 4 | FG34: =EZ34+1 -> 5 | FN34: =FG34+1 -> 6 | FU34: =FN34+1 -> 7 | GB34: =FU34+1 -> 8 | GN34: rank [1] | GP34: small | GQ34: vlook | GS34: rank [2] | GT34: R / Tot | GX34: 1 | HE34: =GX34+1 -> 2 | HL34: =HE34+1 -> 3 | HS34: =HL34+1 -> 4 | HZ34: =HS34+1 -> 5 | IZ34: =(COUNTIF(IS35:IS40,">0")+(COUNTIF(IS42:IS47,">0")+(COUNTIF(IS49:IS54,">0")))) -> 18 | JA34: =(COUNTIF(IT35:IT40,">0")+(COUNTIF(IT42:IT47,">0")+(COUNTIF(IT49:IT54,">0")))) -> 0 | JB34: =(COUNTIF(IU35:IU40,">0")+(COUNTIF(IU42:IU47,">0")+(COUNTIF(IU49:IU54,">0")))) -> 0 | JC34: =(COUNTIF(IV35:IV40,">0")+(COUNTIF(IV42:IV47,">0")+(COUNTIF(IV49:IV54,">0")))) -> 0 | JD34: =(COUNTIF(IW35:IW40,">0")+(COUNTIF(IW42:IW47,">0")+(COUNTIF(IW49:IW54,">0")))) -> 0 | JE34: =(COUNTIF(IX35:IX40,">0")+(COUNTIF(IX42:IX47,">0")+(COUNTIF(IX49:IX54,">0")))) -> 0 | JF34: =(COUNTIF(IY35:IY40,">0")+(COUNTIF(IY42:IY47,">0")+(COUNTIF(IY49:IY54,">0")))) -> 0 | JG34: =(COUNTIF(IZ35:IZ40,">0")+(COUNTIF(IZ42:IZ47,">0")+(COUNTIF(IZ49:IZ54,">0")))) -> 0 | ... JY34: =(COUNTIF(JR35:JR40,">0")+(COUNTIF(JR42:JR47,">0")+(COUNTIF(JR49:JR54,">0")))) -> 0 | JZ34: =SUM(IZ34:JY34) -> 18 | LI34: ALL CREDITS AND ALL YEARS USED [360 credits in total]
U35: =AY115 | Z35: =IP35 | AB35: =BA115 | AG35: =IP47 | AI35: =BC115 | AN35: =IP59 | AX35: =IF($X35=$AX$34,1,0) -> 0 | AY35: =IF($X35=$AY$34,1,0) -> 0 | AZ35: =IF($X35=$AZ$34,1,0) -> 0 | BA35: =IF($X35=$BA$34,1,0) -> 0 | BB35: =IF($X35=$BB$34,1,0) -> 0 | BC35: =IF($X35=$BC$34,1,0) -> 0 | BD35: =IF($X35=$BD$34,1,0) -> 0 | BE35: =IF($X35=$BE$34,1,0) -> 0 | BF35: =IF($X35=$BF$34,1,0) -> 0 | BG35: =IF($X35=$BG$34,1,0) -> 0 | BH35: =IF($X35=$BH$34,1,0) -> 0 | BI35: =IF($X35=$BI$34,1,0) -> 0 | BJ35: =SUM(AX35:BI35) -> 0 | BK35: =COUNT(X35) -> 0 | BT35: UWE | CB35: Y1 | CC35: 1 | CD35: 2 | CE35: 3 | CF35: 4 | CG35: 5 | CH35: 6 | CI35: 7 | CJ35: 8 | CK35: 100 | CM35: round mark | CN35: 80 | CO35: if y1 = 1 | CU35: 60 | CV35: if y1 = 1 | DB35: 105 | DC35: if y1 = 1 | DI35: 15 | DJ35: if y1 = 1 | DS35: Y2 | DT35: 1 | DU35: 2 | DV35: 3 | DW35: 4 | DX35: 5 | DY35: 6 | DZ35: 7 | EA35: 8 | EB35: 9 | EC35: 10 | ED35: round mark | EE35: 105 | EF35: if y2 = 1 | EL35: 100 | EM35: if y2 = 1 | ES35: 90 | ET35: if y2 = 1 | EZ35: 80 | FA35: if y2 = 1 | FG35: 75 | FH35: if y2 = 1 | FN35: 60 | FO35: if y2 = 1 | FU35: 40 | FV35: if y2 = 1 | GB35: 30 | GC35: if y2 = 1 | GL35: Y3 | GM35: 1 | GN35: 2 | GO35: 3 | GP35: 4 | GQ35: 5 | GR35: 6 | GS35: 7 | GT35: 8 | GU35: 100 | GW35: round mark | GX35: 105 | GY35: if y3 = 1 | HE35: 100 | HF35: if y3 = 1 | HL35: 90 | HM35: if y3 = 1 | HS35: 80 | HT35: if y3 = 1 | HZ35: 60 | IA35: if y3 = 1 | IH35: left over [FROM BEST 100] | IM35: 1 | IN35: =AA115 -> 0 | IO35: =IF(IN35=1,JT35," ") | IP35: =IF(IR35>100,"??",IO35) | IQ35: =IF(IR35>100,1,0) -> 0 | IR35: =Y35 -> 0 | IS35: =IF(AND($IR35>=$IS$30,$IR35<$IT$30),IS$32,0) -> 1 | IT35: =IF(AND($IR35>=$IT$30,$IR35<$IU$30),IT$32,0) -> 0 | IU35: =IF(AND($IR35>=$IU$30,$IR35<$IV$30),IU$32,0) -> 0 | IV35: =IF(AND($IR35>=$IV$30,$IR35<$IW$30),IV$32,0) -> 0 | IW35: =IF(AND($IR35>=$IW$30,$IR35<$IX$30),IW$32,0) -> 0 | IX35: =IF(AND($IR35>=$IX$30,$IR35<$IY$30),IX$32,0) -> 0 | IY35: =IF(AND($IR35>=$IY$30,$IR35<$IZ$30),IY$32,0) -> 0 | IZ35: =IF(AND($IR35>=$IZ$30,$IR35<$JA$30),IZ$32,0) -> 0 | JA35: =IF(AND($IR35>=$JA$30,$IR35<$JB$30),JA$32,0) -> 0 | JB35: =IF(AND($IR35>=$JB$30,$IR35<$JC$30),JB$32,0) -> 0 | JC35: =IF(AND($IR35>=$JC$30,$IR35<$JD$30),JC$32,0) -> 0 | JD35: =IF(AND($IR35>=$JD$30,$IR35<$JE$30),JD$32,0) -> 0 | JE35: =IF(AND($IR35>=$JE$30,$IR35<$JF$30),JE$32,0) -> 0 | JF35: =IF(AND($IR35>=$JF$30,$IR35<$JG$30),JF$32,0) -> 0 | JG35: =IF(AND($IR35>=$JG$30,$IR35<$JH$30),JG$32,0) -> 0 | JH35: =IF(AND($IR35>=$JH$30,$IR35<$JI$30),JH$32,0) -> 0 | JI35: =IF(AND($IR35>=$JI$30,$IR35<$JJ$30),JI$32,0) -> 0 | JJ35: =IF(AND($IR35>=$JJ$30,$IR35<$JK$30),JJ$32,0) -> 0 | JK35: =IF(AND($IR35>=$JK$30,$IR35<$JL$30),JK$32,0) -> 0 | JL35: =IF(AND($IR35>=$JL$30,$IR35<$JM$30),JL$32,0) -> 0 | JM35: =IF(AND($IR35>=$JM$30,$IR35<$JN$30),JM$32,0) -> 0 | JN35: =IF(AND($IR35>=$JN$30,$IR35<$JO$30),JN$32,0) -> 0 | JO35: =IF(AND($IR35>=$JO$30,$IR35<$JP$30),JO$32,0) -> 0 | JP35: =IF(AND($IR35>=$JP$30,$IR35<$JQ$30),JP$32,0) -> 0 | JQ35: =IF(AND($IR35>=$JQ$30,$IR35<$JR$30),JQ$32,0) -> 0 | JR35: =IF(AND($IR35>=$JR$30,$IR35<$JS$30),JR$32,0) -> 0 | JS35: =SUM(IS35:JR35) -> 1 | JT35: =HLOOKUP(JS35,$IS$32:$JR$33,2,0) -> F | JV35: =IF(AND($IR35>=$JV$30,$IR35<$JW$30),JV$32,0) -> 1 | JW35: =IF(AND($IR35>=$JW$30,$IR35<$JX$30),JW$32,0) -> 0 | JX35: =IF(AND($IR35>=$JX$30,$IR35<$JY$30),JX$32,0) -> 0 | JY35: =IF(AND($IR35>=$JY$30,$IR35<$JZ$30),JY$32,0) -> 0 | JZ35: =IF(AND($IR35>=$JZ$30,$IR35<$KA$30),JZ$32,0) -> 0 | KA35: =IF(AND($IR35>=$KA$30,$IR35<$KB$30),KA$32,0) -> 0 | KB35: =SUM(JV35:KA35) -> 1 | KC35: =HLOOKUP(KB35,$JV$32:$KB$33,2,0) -> F | LB35: 1 | LC35: Y1 / Y2 / Y3 | LD35: EVEN | LE35: London School of Economics
U36: =AY116 | Z36: =IP36 | AB36: =BA116 | AG36: =IP48 | AI36: =BC116 | AN36: =IP60 | AX36: =IF($X36=$AX$34,1,0) -> 0 | AY36: =IF($X36=$AY$34,1,0) -> 0 | AZ36: =IF($X36=$AZ$34,1,0) -> 0 | BA36: =IF($X36=$BA$34,1,0) -> 0 | BB36: =IF($X36=$BB$34,1,0) -> 0 | BC36: =IF($X36=$BC$34,1,0) -> 0 | BD36: =IF($X36=$BD$34,1,0) -> 0 | BE36: =IF($X36=$BE$34,1,0) -> 0 | BF36: =IF($X36=$BF$34,1,0) -> 0 | BG36: =IF($X36=$BG$34,1,0) -> 0 | BH36: =IF($X36=$BH$34,1,0) -> 0 | BI36: =IF($X36=$BI$34,1,0) -> 0 | BJ36: =SUM(AX36:BI36) -> 0 | BK36: =COUNT(X36) -> 0 | BQ36: Y1 | BR36: Y2 | BS36: Y3 | BT36: Y1 | BU36: Y2 | BV36: Y3 | BW36: SWANSEA [Y3] | BZ36: 1 | CA36: 0.0001 | CB36: =AA115 -> 0 | CC36: =IF(CB36=1,(CB15+CA36),"X") -> X | CD36: =IF(CB36=1,X35,"X") -> X | CE36: =RANK(CC36,$CC$36:$CC$47,2) -> #VALUE! | CF36: 1 | CG36: =SMALL($CC$36:$CC$47,CF36) -> #NUM! | CH36: =VLOOKUP(CG36,$CC$36:$CD$47,2,0) -> #NUM! | CI36: =IF(CB36=1,CH36,0) -> 0 | CJ36: =RANK(CG36,$CG$36:$CG$47,2) -> #NUM! | CK36: =CI36+CK37 -> 0 | CL36: =CI36 -> 0 | CM36: =ROUND(CG36,0) -> #NUM! | CN36: =IF(CK36>CN$35,0,CI36) -> 0 | CO36: =IF(CB36=1,CN36,"x") -> x | CP36: =IF(CO36=0,1,0) -> 0 | CQ36: =CP36+CQ37 -> 0 | CR36: =IF(CQ36=1,$CN$49,0) -> 0 | CS36: =CR36+CN36 -> 0 | CT36: =CS36*CM36 -> #NUM! | CU36: =IF(CK36>CU$35,0,CI36) -> 0 | CV36: =IF(CB36=1,CU36,"x") -> x | CW36: =IF(CV36=0,1,0) -> 0 | CX36: =CW36+CX37 -> 0 | CY36: =IF(CX36=1,$CU$49,0) -> 0 | CZ36: =CY36+CU36 -> 0 | DA36: =CZ36*CM36 -> #NUM! | DB36: =IF(CK36>DB$35,0,CI36) -> 0 | DC36: =IF(CB36=1,DB36,"x") -> x | DD36: =IF(DC36=0,1,0) -> 0 | DE36: =DD36+DE37 -> 0 | DF36: =IF(DE36=1,$DB$49,0) -> 0 | DG36: =DF36+DB36 -> 0 | DH36: =DG36*CM36 -> #NUM! | DI36: =IF(CK36>DI$35,0,CI36) -> 0 | DJ36: =IF(CB36=1,DI36,"x") -> x | DK36: =IF(DJ36=0,1,0) -> 0 | DL36: =DK36+DL37 -> 0 | DM36: =IF(DL36=1,$DI$49,0) -> 0 | DN36: =DM36+DI36 -> 0 | DO36: =DN36*CM36 -> #NUM! | DQ36: 1 | DR36: 0.0001 | DS36: =AH115 -> 0 | DT36: =IF(DS36=1,(DS15+DR36),"X") -> X | DU36: =IF(DS36=1,AE35,"X") -> X | DV36: =RANK(DT36,$DT$36:$DT$47,2) -> #VALUE! | DW36: 1 | DX36: =SMALL($DT$36:$DT$47,DW36) -> #NUM! | DY36: =VLOOKUP(DX36,$DT$36:$DU$47,2,0) -> #NUM! | DZ36: =IF(DS36=1,DY36,0) -> 0 | EA36: =RANK(DX36,$DX$36:$DX$47,2) -> #NUM! | EB36: =DZ36+EB37 -> 0 | EC36: =DZ36 -> 0 | ED36: =ROUND(DX36,0) -> #NUM! | EE36: =IF($EB36>EE$35,0,$DZ36) -> 0 | EF36: =IF($DS36=1,EE36,"x") -> x | EG36: =IF(EF36=0,1,0) -> 0 | EH36: =EG36+EH37 -> 0 | EI36: =IF(EH36=1,EE49,0) -> 0 | EJ36: =EI36+EE36 -> 0 | EK36: =EJ36*$ED36 -> #NUM! | EL36: =IF($EB36>EL$35,0,$DZ36) -> 0 | EM36: =IF($DS36=1,EL36,"x") -> x | EN36: =IF(EM36=0,1,0) -> 0 | EO36: =EN36+EO37 -> 0 | EP36: =IF(EO36=1,EL49,0) -> 0 | EQ36: =EP36+EL36 -> 0 | ER36: =EQ36*$ED36 -> #NUM! | ES36: =IF($EB36>ES$35,0,$DZ36) -> 0 | ET36: =IF($DS36=1,ES36,"x") -> x | EU36: =IF(ET36=0,1,0) -> 0 | EV36: =EU36+EV37 -> 0 | EW36: =IF(EV36=1,ES49,0) -> 0 | EX36: =EW36+ES36 -> 0 | EY36: =EX36*$ED36 -> #NUM! | EZ36: =IF($EB36>EZ$35,0,$DZ36) -> 0 | FA36: =IF($DS36=1,EZ36,"x") -> x | FB36: =IF(FA36=0,1,0) -> 0 | FC36: =FB36+FC37 -> 0 | FD36: =IF(FC36=1,EZ49,0) -> 0 | FE36: =FD36+EZ36 -> 0 | FF36: =FE36*$ED36 -> #NUM! | FG36: =IF($EB36>FG$35,0,$DZ36) -> 0 | FH36: =IF($DS36=1,FG36,"x") -> x | FI36: =IF(FH36=0,1,0) -> 0 | FJ36: =FI36+FJ37 -> 0 | FK36: =IF(FJ36=1,FG49,0) -> 0 | FL36: =FK36+FG36 -> 0 | FM36: =FL36*$ED36 -> #NUM! | FN36: =IF($EB36>FN$35,0,$DZ36) -> 0 | FO36: =IF($DS36=1,FN36,"x") -> x | FP36: =IF(FO36=0,1,0) -> 0 | FQ36: =FP36+FQ37 -> 0 | FR36: =IF(FQ36=1,FN49,0) -> 0 | FS36: =FR36+FN36 -> 0 | FT36: =FS36*$ED36 -> #NUM! | FU36: =IF($EB36>FU$35,0,$DZ36) -> 0 | FV36: =IF($DS36=1,FU36,"x") -> x | FW36: =IF(FV36=0,1,0) -> 0 | FX36: =FW36+FX37 -> 0 | FY36: =IF(FX36=1,FU49,0) -> 0 | FZ36: =FY36+FU36 -> 0 | GA36: =FZ36*$ED36 -> #NUM! | GB36: =IF($EB36>GB$35,0,$DZ36) -> 0 | GC36: =IF($DS36=1,GB36,"x") -> x | GD36: =IF(GC36=0,1,0) -> 0 | GE36: =GD36+GE37 -> 0 | GF36: =IF(GE36=1,GB49,0) -> 0 | GG36: =GF36+GB36 -> 0 | GH36: =GG36*$ED36 -> #NUM! | GK36: 0.0001 | GL36: =AO115 -> 0 | GM36: =IF(GL36=1,(GL15+GK36),"X") -> X | GN36: =IF(GL36=1,AL35,"X") -> X | GO36: =RANK(GM36,$GM$36:$GM$47,2) -> #VALUE! | GP36: 1 | GQ36: =SMALL($GM$36:$GM$47,GP36) -> #NUM! | GR36: =VLOOKUP(GQ36,$GM$36:$GN$47,2,0) -> #NUM! | GS36: =IF(GL36=1,GR36,0) -> 0 | GT36: =RANK(GQ36,$GQ$36:$GQ$47,2) -> #NUM! | GU36: =GS36+GU37 -> 0 | GV36: =GS36 -> 0 | GW36: =ROUND(GQ36,0) -> #NUM! | GX36: =IF($GU36>GX$35,0,$GS36) -> 0 | GY36: =IF($GL36=1,GX36,"x") -> x | GZ36: =IF(GY36=0,1,0) -> 0 | HA36: =GZ36+HA37 -> 0 | HB36: =IF(HA36=1,$GX$49,0) -> 0 | HC36: =HB36+GX36 -> 0 | HD36: =HC36*GW36 -> #NUM! | HE36: =IF(GU36>100,0,GS36) -> 0 | HF36: =IF(GL36=1,HE36,"x") -> x | HG36: =IF(HF36=0,1,0) -> 0 | HH36: =HG36+HH37 -> 0 | HI36: =IF(HH36=1,$HE$49,0) -> 0 | HJ36: =HI36+HE36 -> 0 | HK36: =HJ36*GW36 -> #NUM! | HL36: =IF(GU36>90,0,GS36) -> 0 | HM36: =IF(GL36=1,HL36,"x") -> x | HN36: =IF(HM36=0,1,0) -> 0 | HO36: =HN36+HO37 -> 0 | HP36: =IF(HO36=1,$HL$49,0) -> 0 | HQ36: =HP36+HL36 -> 0 | HR36: =HQ36*GW36 -> #NUM! | HS36: =IF($GU36>HS$35,0,$GS36) -> 0 | HT36: =IF(GL36=1,HS36,"x") -> x | HU36: =IF(HT36=0,1,0) -> 0 | HV36: =HU36+HV37 -> 0 | HW36: =IF(HV36=1,$HS$49,0) -> 0 | HX36: =HW36+HS36 -> 0 | HY36: =HX36*GW36 -> #NUM! | HZ36: =IF($GU36>HZ$35,0,$GS36) -> 0 | IA36: =IF(GL36=1,HZ36,"x") -> x | IB36: =IF(IA36=0,1,0) -> 0 | IC36: =IB36+IC37 -> 0 | ID36: =IF(IC36=1,$HZ$49,0) -> 0 | IE36: =ID36+HZ36 -> 0 | IF36: =IE36*GW36 -> #NUM! | IH36: =IF(HG36=1,GV36-HJ36,0) -> 0 | II36: =IF(HG36=1,GW36,0) -> 0 | IJ36: =IF(IH36>0,1,0) -> 0 | IM36: =IM35+1 -> 2 | IN36: =AA116 -> 0 | IO36: =IF(IN36=1,JT36," ") | IP36: =IF(IR36>100,"??",IO36) | IQ36: =IF(IR36>100,1,0) -> 0 | IR36: =Y36 -> 0 | IS36: =IF(AND($IR36>=$IS$30,$IR36<$IT$30),IS$32,0) -> 1 | IT36: =IF(AND($IR36>=$IT$30,$IR36<$IU$30),IT$32,0) -> 0 | IU36: =IF(AND($IR36>=$IU$30,$IR36<$IV$30),IU$32,0) -> 0 | IV36: =IF(AND($IR36>=$IV$30,$IR36<$IW$30),IV$32,0) -> 0 | IW36: =IF(AND($IR36>=$IW$30,$IR36<$IX$30),IW$32,0) -> 0 | IX36: =IF(AND($IR36>=$IX$30,$IR36<$IY$30),IX$32,0) -> 0 | IY36: =IF(AND($IR36>=$IY$30,$IR36<$IZ$30),IY$32,0) -> 0 | IZ36: =IF(AND($IR36>=$IZ$30,$IR36<$JA$30),IZ$32,0) -> 0 | JA36: =IF(AND($IR36>=$JA$30,$IR36<$JB$30),JA$32,0) -> 0 | JB36: =IF(AND($IR36>=$JB$30,$IR36<$JC$30),JB$32,0) -> 0 | JC36: =IF(AND($IR36>=$JC$30,$IR36<$JD$30),JC$32,0) -> 0 | JD36: =IF(AND($IR36>=$JD$30,$IR36<$JE$30),JD$32,0) -> 0 | JE36: =IF(AND($IR36>=$JE$30,$IR36<$JF$30),JE$32,0) -> 0 | JF36: =IF(AND($IR36>=$JF$30,$IR36<$JG$30),JF$32,0) -> 0 | JG36: =IF(AND($IR36>=$JG$30,$IR36<$JH$30),JG$32,0) -> 0 | JH36: =IF(AND($IR36>=$JH$30,$IR36<$JI$30),JH$32,0) -> 0 | JI36: =IF(AND($IR36>=$JI$30,$IR36<$JJ$30),JI$32,0) -> 0 | JJ36: =IF(AND($IR36>=$JJ$30,$IR36<$JK$30),JJ$32,0) -> 0 | JK36: =IF(AND($IR36>=$JK$30,$IR36<$JL$30),JK$32,0) -> 0 | JL36: =IF(AND($IR36>=$JL$30,$IR36<$JM$30),JL$32,0) -> 0 | JM36: =IF(AND($IR36>=$JM$30,$IR36<$JN$30),JM$32,0) -> 0 | JN36: =IF(AND($IR36>=$JN$30,$IR36<$JO$30),JN$32,0) -> 0 | JO36: =IF(AND($IR36>=$JO$30,$IR36<$JP$30),JO$32,0) -> 0 | JP36: =IF(AND($IR36>=$JP$30,$IR36<$JQ$30),JP$32,0) -> 0 | JQ36: =IF(AND($IR36>=$JQ$30,$IR36<$JR$30),JQ$32,0) -> 0 | JR36: =IF(AND($IR36>=$JR$30,$IR36<$JS$30),JR$32,0) -> 0 | JS36: =SUM(IS36:JR36) -> 1 | JT36: =HLOOKUP(JS36,$IS$32:$JR$33,2,0) -> F | JV36: =IF(AND($IR36>=$JV$30,$IR36<$JW$30),JV$32,0) -> 1 | JW36: =IF(AND($IR36>=$JW$30,$IR36<$JX$30),JW$32,0) -> 0 | JX36: =IF(AND($IR36>=$JX$30,$IR36<$JY$30),JX$32,0) -> 0 | JY36: =IF(AND($IR36>=$JY$30,$IR36<$JZ$30),JY$32,0) -> 0 | JZ36: =IF(AND($IR36>=$JZ$30,$IR36<$KA$30),JZ$32,0) -> 0 | KA36: =IF(AND($IR36>=$KA$30,$IR36<$KB$30),KA$32,0) -> 0 | KB36: =SUM(JV36:KA36) -> 1 | KC36: =HLOOKUP(KB36,$JV$32:$KB$33,2,0) -> F | LB36: 2 | LC36: Y1 / Y2 / Y3 | LD36: 10 / 30 / 60 | LE36: Warwick, QU Belfast, Queen Mary
U37: =AY117 | Z37: =IP37 | AB37: =BA117 | AG37: =IP49 | AI37: =BC117 | AN37: =IP61 | AX37: =IF($X37=$AX$34,1,0) -> 0 | AY37: =IF($X37=$AY$34,1,0) -> 0 | AZ37: =IF($X37=$AZ$34,1,0) -> 0 | BA37: =IF($X37=$BA$34,1,0) -> 0 | BB37: =IF($X37=$BB$34,1,0) -> 0 | BC37: =IF($X37=$BC$34,1,0) -> 0 | BD37: =IF($X37=$BD$34,1,0) -> 0 | BE37: =IF($X37=$BE$34,1,0) -> 0 | BF37: =IF($X37=$BF$34,1,0) -> 0 | BG37: =IF($X37=$BG$34,1,0) -> 0 | BH37: =IF($X37=$BH$34,1,0) -> 0 | BI37: =IF($X37=$BI$34,1,0) -> 0 | BJ37: =SUM(AX37:BI37) -> 0 | BK37: =COUNT(X37) -> 0 | BP37: 120 | BQ37: =Y144 -> 0 | BR37: =AF144 -> 0 | BS37: =AM144 -> 0 | BW37: 100 | BX37: =HD59 -> #NUM! | BZ37: =BZ36+1 -> 2 | CA37: 0.00011 | CB37: =AA116 -> 0 | CC37: =IF(CB37=1,(CB16+CA37),"X") -> X | CD37: =IF(CB37=1,X36,"X") -> X | CE37: =RANK(CC37,$CC$36:$CC$47,2) -> #VALUE! | CF37: =CF36+CB37 -> 1 | CG37: =SMALL($CC$36:$CC$47,CF37) -> #NUM! | CH37: =VLOOKUP(CG37,$CC$36:$CD$47,2,0) -> #NUM! | CI37: =IF(CB37=1,CH37,0) -> 0 | CJ37: =RANK(CG37,$CG$36:$CG$47,2) -> #NUM! | CK37: =CI37+CK38 -> 0 | CL37: =CI37 -> 0 | CM37: =ROUND(CG37,0) -> #NUM! | CN37: =IF(CK37>CN$35,0,CI37) -> 0 | CO37: =IF(CB37=1,CN37,"x") -> x | CP37: =IF(CO37=0,1,0) -> 0 | CQ37: =CP37+CQ38 -> 0 | CR37: =IF(CQ37=1,$CN$49,0) -> 0 | CS37: =CR37+CN37 -> 0 | CT37: =CS37*CM37 -> #NUM! | CU37: =IF(CK37>CU$35,0,CI37) -> 0 | CV37: =IF(CB37=1,CU37,"x") -> x | CW37: =IF(CV37=0,1,0) -> 0 | CX37: =CW37+CX38 -> 0 | CY37: =IF(CX37=1,$CU$49,0) -> 0 | CZ37: =CY37+CU37 -> 0 | DA37: =CZ37*CM37 -> #NUM! | DB37: =IF(CK37>DB$35,0,CI37) -> 0 | DC37: =IF(CB37=1,DB37,"x") -> x | DD37: =IF(DC37=0,1,0) -> 0 | DE37: =DD37+DE38 -> 0 | DF37: =IF(DE37=1,$DB$49,0) -> 0 | DG37: =DF37+DB37 -> 0 | DH37: =DG37*CM37 -> #NUM! | DI37: =IF(CK37>DI$35,0,CI37) -> 0 | DJ37: =IF(CB37=1,DI37,"x") -> x | DK37: =IF(DJ37=0,1,0) -> 0 | DL37: =DK37+DL38 -> 0 | DM37: =IF(DL37=1,$DB$49,0) -> 0 | DN37: =DM37+DI37 -> 0 | DO37: =DN37*CM37 -> #NUM! | DQ37: =DQ36+1 -> 2 | DR37: 0.00011 | DS37: =AH116 -> 0 | DT37: =IF(DS37=1,(DS16+DR37),"X") -> X | DU37: =IF(DS37=1,AE36,"X") -> X | DV37: =RANK(DT37,$DT$36:$DT$47,2) -> #VALUE! | DW37: =DW36+DS37 -> 1 | DX37: =SMALL($DT$36:$DT$47,DW37) -> #NUM! | DY37: =VLOOKUP(DX37,$DT$36:$DU$47,2,0) -> #NUM! | DZ37: =IF(DS37=1,DY37,0) -> 0 | EA37: =RANK(DX37,$DX$36:$DX$47,2) -> #NUM! | EB37: =DZ37+EB38 -> 0 | EC37: =DZ37 -> 0 | ED37: =ROUND(DX37,0) -> #NUM! | EE37: =IF($EB37>EE$35,0,$DZ37) -> 0 | EF37: =IF($DS37=1,EE37,"x") -> x | EG37: =IF(EF37=0,1,0) -> 0 | EH37: =EG37+EH38 -> 0 | EI37: =IF(EH37=1,EE49,0) -> 0 | EJ37: =EI37+EE37 -> 0 | EK37: =EJ37*$ED37 -> #NUM! | EL37: =IF($EB37>EL$35,0,$DZ37) -> 0 | EM37: =IF($DS37=1,EL37,"x") -> x | EN37: =IF(EM37=0,1,0) -> 0 | EO37: =EN37+EO38 -> 0 | EP37: =IF(EO37=1,EL49,0) -> 0 | EQ37: =EP37+EL37 -> 0 | ER37: =EQ37*$ED37 -> #NUM! | ES37: =IF($EB37>ES$35,0,$DZ37) -> 0 | ET37: =IF($DS37=1,ES37,"x") -> x | EU37: =IF(ET37=0,1,0) -> 0 | EV37: =EU37+EV38 -> 0 | EW37: =IF(EV37=1,ES49,0) -> 0 | EX37: =EW37+ES37 -> 0 | EY37: =EX37*$ED37 -> #NUM! | EZ37: =IF($EB37>EZ$35,0,$DZ37) -> 0 | FA37: =IF($DS37=1,EZ37,"x") -> x | FB37: =IF(FA37=0,1,0) -> 0 | FC37: =FB37+FC38 -> 0 | FD37: =IF(FC37=1,EZ49,0) -> 0 | FE37: =FD37+EZ37 -> 0 | FF37: =FE37*$ED37 -> #NUM! | FG37: =IF($EB37>FG$35,0,$DZ37) -> 0 | FH37: =IF($DS37=1,FG37,"x") -> x | FI37: =IF(FH37=0,1,0) -> 0 | FJ37: =FI37+FJ38 -> 0 | FK37: =IF(FJ37=1,FG49,0) -> 0 | FL37: =FK37+FG37 -> 0 | FM37: =FL37*$ED37 -> #NUM! | FN37: =IF($EB37>FN$35,0,$DZ37) -> 0 | FO37: =IF($DS37=1,FN37,"x") -> x | FP37: =IF(FO37=0,1,0) -> 0 | FQ37: =FP37+FQ38 -> 0 | FR37: =IF(FQ37=1,FN49,0) -> 0 | FS37: =FR37+FN37 -> 0 | FT37: =FS37*$ED37 -> #NUM! | FU37: =IF($EB37>FU$35,0,$DZ37) -> 0 | FV37: =IF($DS37=1,FU37,"x") -> x | FW37: =IF(FV37=0,1,0) -> 0 | FX37: =FW37+FX38 -> 0 | FY37: =IF(FX37=1,FU49,0) -> 0 | FZ37: =FY37+FU37 -> 0 | GA37: =FZ37*$ED37 -> #NUM! | GB37: =IF($EB37>GB$35,0,$DZ37) -> 0 | GC37: =IF($DS37=1,GB37,"x") -> x | GD37: =IF(GC37=0,1,0) -> 0 | GE37: =GD37+GE38 -> 0 | GF37: =IF(GE37=1,GB49,0) -> 0 | GG37: =GF37+GB37 -> 0 | GH37: =GG37*$ED37 -> #NUM! | GK37: 0.00011 | GL37: =AO116 -> 0 | GM37: =IF(GL37=1,(GL16+GK37),"X") -> X | GN37: =IF(GL37=1,AL36,"X") -> X | GO37: =RANK(GM37,$GM$36:$GM$47,2) -> #VALUE! | GP37: =GP36+GL37 -> 1 | GQ37: =SMALL($GM$36:$GM$47,GP37) -> #NUM! | GR37: =VLOOKUP(GQ37,$GM$36:$GN$47,2,0) -> #NUM! | GS37: =IF(GL37=1,GR37,0) -> 0 | GT37: =RANK(GQ37,$GQ$36:$GQ$47,2) -> #NUM! | GU37: =GS37+GU38 -> 0 | GV37: =GS37 -> 0 | GW37: =ROUND(GQ37,0) -> #NUM! | GX37: =IF($GU37>GX$35,0,$GS37) -> 0 | GY37: =IF($GL37=1,GX37,"x") -> x | GZ37: =IF(GY37=0,1,0) -> 0 | HA37: =GZ37+HA38 -> 0 | HB37: =IF(HA37=1,$GX$49,0) -> 0 | HC37: =HB37+GX37 -> 0 | HD37: =HC37*GW37 -> #NUM! | HE37: =IF(GU37>100,0,GS37) -> 0 | HF37: =IF(GL37=1,HE37,"x") -> x | HG37: =IF(HF37=0,1,0) -> 0 | HH37: =HG37+HH38 -> 0 | HI37: =IF(HH37=1,$HE$49,0) -> 0 | HJ37: =HI37+HE37 -> 0 | HK37: =HJ37*GW37 -> #NUM! | HL37: =IF(GU37>90,0,GS37) -> 0 | HM37: =IF(GL37=1,HL37,"x") -> x | HN37: =IF(HM37=0,1,0) -> 0 | HO37: =HN37+HO38 -> 0 | HP37: =IF(HO37=1,$HL$49,0) -> 0 | HQ37: =HP37+HL37 -> 0 | HR37: =HQ37*GW37 -> #NUM! | HS37: =IF($GU37>HS$35,0,$GS37) -> 0 | HT37: =IF(GL37=1,HS37,"x") -> x | HU37: =IF(HT37=0,1,0) -> 0 | HV37: =HU37+HV38 -> 0 | HW37: =IF(HV37=1,$HS$49,0) -> 0 | HX37: =HW37+HS37 -> 0 | HY37: =HX37*GW37 -> #NUM! | HZ37: =IF($GU37>HZ$35,0,$GS37) -> 0 | IA37: =IF(GL37=1,HZ37,"x") -> x | IB37: =IF(IA37=0,1,0) -> 0 | IC37: =IB37+IC38 -> 0 | ID37: =IF(IC37=1,$HZ$49,0) -> 0 | IE37: =ID37+HZ37 -> 0 | IF37: =IE37*GW37 -> #NUM! | IH37: =IF(HG37=1,GV37-HJ37,0) -> 0 | II37: =IF(HG37=1,GW37,0) -> 0 | IJ37: =IF(IH37>0,1,0) -> 0 | IM37: =IM36+1 -> 3 | IN37: =AA117 -> 0 | IO37: =IF(IN37=1,JT37," ") | IP37: =IF(IR37>100,"??",IO37) | IQ37: =IF(IR37>100,1,0) -> 0 | IR37: =Y37 -> 0 | IS37: =IF(AND($IR37>=$IS$30,$IR37<$IT$30),IS$32,0) -> 1 | IT37: =IF(AND($IR37>=$IT$30,$IR37<$IU$30),IT$32,0) -> 0 | IU37: =IF(AND($IR37>=$IU$30,$IR37<$IV$30),IU$32,0) -> 0 | IV37: =IF(AND($IR37>=$IV$30,$IR37<$IW$30),IV$32,0) -> 0 | IW37: =IF(AND($IR37>=$IW$30,$IR37<$IX$30),IW$32,0) -> 0 | IX37: =IF(AND($IR37>=$IX$30,$IR37<$IY$30),IX$32,0) -> 0 | IY37: =IF(AND($IR37>=$IY$30,$IR37<$IZ$30),IY$32,0) -> 0 | IZ37: =IF(AND($IR37>=$IZ$30,$IR37<$JA$30),IZ$32,0) -> 0 | JA37: =IF(AND($IR37>=$JA$30,$IR37<$JB$30),JA$32,0) -> 0 | JB37: =IF(AND($IR37>=$JB$30,$IR37<$JC$30),JB$32,0) -> 0 | JC37: =IF(AND($IR37>=$JC$30,$IR37<$JD$30),JC$32,0) -> 0 | JD37: =IF(AND($IR37>=$JD$30,$IR37<$JE$30),JD$32,0) -> 0 | JE37: =IF(AND($IR37>=$JE$30,$IR37<$JF$30),JE$32,0) -> 0 | JF37: =IF(AND($IR37>=$JF$30,$IR37<$JG$30),JF$32,0) -> 0 | JG37: =IF(AND($IR37>=$JG$30,$IR37<$JH$30),JG$32,0) -> 0 | JH37: =IF(AND($IR37>=$JH$30,$IR37<$JI$30),JH$32,0) -> 0 | JI37: =IF(AND($IR37>=$JI$30,$IR37<$JJ$30),JI$32,0) -> 0 | JJ37: =IF(AND($IR37>=$JJ$30,$IR37<$JK$30),JJ$32,0) -> 0 | JK37: =IF(AND($IR37>=$JK$30,$IR37<$JL$30),JK$32,0) -> 0 | JL37: =IF(AND($IR37>=$JL$30,$IR37<$JM$30),JL$32,0) -> 0 | JM37: =IF(AND($IR37>=$JM$30,$IR37<$JN$30),JM$32,0) -> 0 | JN37: =IF(AND($IR37>=$JN$30,$IR37<$JO$30),JN$32,0) -> 0 | JO37: =IF(AND($IR37>=$JO$30,$IR37<$JP$30),JO$32,0) -> 0 | JP37: =IF(AND($IR37>=$JP$30,$IR37<$JQ$30),JP$32,0) -> 0 | JQ37: =IF(AND($IR37>=$JQ$30,$IR37<$JR$30),JQ$32,0) -> 0 | JR37: =IF(AND($IR37>=$JR$30,$IR37<$JS$30),JR$32,0) -> 0 | JS37: =SUM(IS37:JR37) -> 1 | JT37: =HLOOKUP(JS37,$IS$32:$JR$33,2,0) -> F | JV37: =IF(AND($IR37>=$JV$30,$IR37<$JW$30),JV$32,0) -> 1 | JW37: =IF(AND($IR37>=$JW$30,$IR37<$JX$30),JW$32,0) -> 0 | JX37: =IF(AND($IR37>=$JX$30,$IR37<$JY$30),JX$32,0) -> 0 | JY37: =IF(AND($IR37>=$JY$30,$IR37<$JZ$30),JY$32,0) -> 0 | JZ37: =IF(AND($IR37>=$JZ$30,$IR37<$KA$30),JZ$32,0) -> 0 | KA37: =IF(AND($IR37>=$KA$30,$IR37<$KB$30),KA$32,0) -> 0 | KB37: =SUM(JV37:KA37) -> 1 | KC37: =HLOOKUP(KB37,$JV$32:$KB$33,2,0) -> F | LB37: NO DISCOUNTING ALL CREDITS USED [240 in total]
U38: =AY118 | Z38: =IP38 | AB38: =BA118 | AG38: =IP50 | AI38: =BC118 | AN38: =IP62 | AX38: =IF($X38=$AX$34,1,0) -> 0 | AY38: =IF($X38=$AY$34,1,0) -> 0 | AZ38: =IF($X38=$AZ$34,1,0) -> 0 | BA38: =IF($X38=$BA$34,1,0) -> 0 | BB38: =IF($X38=$BB$34,1,0) -> 0 | BC38: =IF($X38=$BC$34,1,0) -> 0 | BD38: =IF($X38=$BD$34,1,0) -> 0 | BE38: =IF($X38=$BE$34,1,0) -> 0 | BF38: =IF($X38=$BF$34,1,0) -> 0 | BG38: =IF($X38=$BG$34,1,0) -> 0 | BH38: =IF($X38=$BH$34,1,0) -> 0 | BI38: =IF($X38=$BI$34,1,0) -> 0 | BJ38: =SUM(AX38:BI38) -> 0 | BK38: =COUNT(X38) -> 0 | BO38: 20 d | BP38: 100 | BQ38: =$CT$49 -> #NUM! | BR38: =$EK$49 -> #NUM! | BS38: =$HK$49 -> #NUM! | BT38: =BQ37 -> 0 | BU38: =$EL$71 -> #NUM! | BV38: =BS38 -> #NUM! | BW38: 20 | BX38: =HD60 -> 0 | BZ38: =BZ37+1 -> 3 | CA38: 0.00021 | CB38: =AA117 -> 0 | CC38: =IF(CB38=1,(CB17+CA38),"X") -> X | CD38: =IF(CB38=1,X37,"X") -> X | CE38: =RANK(CC38,$CC$36:$CC$47,2) -> #VALUE! | CF38: =CF37+CB38 -> 1 | CG38: =SMALL($CC$36:$CC$47,CF38) -> #NUM! | CH38: =VLOOKUP(CG38,$CC$36:$CD$47,2,0) -> #NUM! | CI38: =IF(CB38=1,CH38,0) -> 0 | CJ38: =RANK(CG38,$CG$36:$CG$47,2) -> #NUM! | CK38: =CI38+CK39 -> 0 | CL38: =CI38 -> 0 | CM38: =ROUND(CG38,0) -> #NUM! | CN38: =IF(CK38>CN$35,0,CI38) -> 0 | CO38: =IF(CB38=1,CN38,"x") -> x | CP38: =IF(CO38=0,1,0) -> 0 | CQ38: =CP38+CQ39 -> 0 | CR38: =IF(CQ38=1,$CN$49,0) -> 0 | CS38: =CR38+CN38 -> 0 | CT38: =CS38*CM38 -> #NUM! | CU38: =IF(CK38>CU$35,0,CI38) -> 0 | CV38: =IF(CB38=1,CU38,"x") -> x | CW38: =IF(CV38=0,1,0) -> 0 | CX38: =CW38+CX39 -> 0 | CY38: =IF(CX38=1,$CU$49,0) -> 0 | CZ38: =CY38+CU38 -> 0 | DA38: =CZ38*CM38 -> #NUM! | DB38: =IF(CK38>DB$35,0,CI38) -> 0 | DC38: =IF(CB38=1,DB38,"x") -> x | DD38: =IF(DC38=0,1,0) -> 0 | DE38: =DD38+DE39 -> 0 | DF38: =IF(DE38=1,$DB$49,0) -> 0 | DG38: =DF38+DB38 -> 0 | DH38: =DG38*CM38 -> #NUM! | DI38: =IF(CK38>DI$35,0,CI38) -> 0 | DJ38: =IF(CB38=1,DI38,"x") -> x | DK38: =IF(DJ38=0,1,0) -> 0 | DL38: =DK38+DL39 -> 0 | DM38: =IF(DL38=1,$DB$49,0) -> 0 | DN38: =DM38+DI38 -> 0 | DO38: =DN38*CM38 -> #NUM! | DQ38: =DQ37+1 -> 3 | DR38: 0.00021 | DS38: =AH117 -> 0 | DT38: =IF(DS38=1,(DS17+DR38),"X") -> X | DU38: =IF(DS38=1,AE37,"X") -> X | DV38: =RANK(DT38,$DT$36:$DT$47,2) -> #VALUE! | DW38: =DW37+DS38 -> 1 | DX38: =SMALL($DT$36:$DT$47,DW38) -> #NUM! | DY38: =VLOOKUP(DX38,$DT$36:$DU$47,2,0) -> #NUM! | DZ38: =IF(DS38=1,DY38,0) -> 0 | EA38: =RANK(DX38,$DX$36:$DX$47,2) -> #NUM! | EB38: =DZ38+EB39 -> 0 | EC38: =DZ38 -> 0 | ED38: =ROUND(DX38,0) -> #NUM! | EE38: =IF($EB38>EE$35,0,$DZ38) -> 0 | EF38: =IF($DS38=1,EE38,"x") -> x | EG38: =IF(EF38=0,1,0) -> 0 | EH38: =EG38+EH39 -> 0 | EI38: =IF(EH38=1,EE49,0) -> 0 | EJ38: =EI38+EE38 -> 0 | EK38: =EJ38*$ED38 -> #NUM! | EL38: =IF($EB38>EL$35,0,$DZ38) -> 0 | EM38: =IF($DS38=1,EL38,"x") -> x | EN38: =IF(EM38=0,1,0) -> 0 | EO38: =EN38+EO39 -> 0 | EP38: =IF(EO38=1,EL49,0) -> 0 | EQ38: =EP38+EL38 -> 0 | ER38: =EQ38*$ED38 -> #NUM! | ES38: =IF($EB38>ES$35,0,$DZ38) -> 0 | ET38: =IF($DS38=1,ES38,"x") -> x | EU38: =IF(ET38=0,1,0) -> 0 | EV38: =EU38+EV39 -> 0 | EW38: =IF(EV38=1,ES49,0) -> 0 | EX38: =EW38+ES38 -> 0 | EY38: =EX38*$ED38 -> #NUM! | EZ38: =IF($EB38>EZ$35,0,$DZ38) -> 0 | FA38: =IF($DS38=1,EZ38,"x") -> x | FB38: =IF(FA38=0,1,0) -> 0 | FC38: =FB38+FC39 -> 0 | FD38: =IF(FC38=1,EZ49,0) -> 0 | FE38: =FD38+EZ38 -> 0 | FF38: =FE38*$ED38 -> #NUM! | FG38: =IF($EB38>FG$35,0,$DZ38) -> 0 | FH38: =IF($DS38=1,FG38,"x") -> x | FI38: =IF(FH38=0,1,0) -> 0 | FJ38: =FI38+FJ39 -> 0 | FK38: =IF(FJ38=1,FG49,0) -> 0 | FL38: =FK38+FG38 -> 0 | FM38: =FL38*$ED38 -> #NUM! | FN38: =IF($EB38>FN$35,0,$DZ38) -> 0 | FO38: =IF($DS38=1,FN38,"x") -> x | FP38: =IF(FO38=0,1,0) -> 0 | FQ38: =FP38+FQ39 -> 0 | FR38: =IF(FQ38=1,FN49,0) -> 0 | FS38: =FR38+FN38 -> 0 | FT38: =FS38*$ED38 -> #NUM! | FU38: =IF($EB38>FU$35,0,$DZ38) -> 0 | FV38: =IF($DS38=1,FU38,"x") -> x | FW38: =IF(FV38=0,1,0) -> 0 | FX38: =FW38+FX39 -> 0 | FY38: =IF(FX38=1,FU49,0) -> 0 | FZ38: =FY38+FU38 -> 0 | GA38: =FZ38*$ED38 -> #NUM! | GB38: =IF($EB38>GB$35,0,$DZ38) -> 0 | GC38: =IF($DS38=1,GB38,"x") -> x | GD38: =IF(GC38=0,1,0) -> 0 | GE38: =GD38+GE39 -> 0 | GF38: =IF(GE38=1,GB49,0) -> 0 | GG38: =GF38+GB38 -> 0 | GH38: =GG38*$ED38 -> #NUM! | GK38: 0.00021 | GL38: =AO117 -> 0 | GM38: =IF(GL38=1,(GL17+GK38),"X") -> X | GN38: =IF(GL38=1,AL37,"X") -> X | GO38: =RANK(GM38,$GM$36:$GM$47,2) -> #VALUE! | GP38: =GP37+GL38 -> 1 | GQ38: =SMALL($GM$36:$GM$47,GP38) -> #NUM! | GR38: =VLOOKUP(GQ38,$GM$36:$GN$47,2,0) -> #NUM! | GS38: =IF(GL38=1,GR38,0) -> 0 | GT38: =RANK(GQ38,$GQ$36:$GQ$47,2) -> #NUM! | GU38: =GS38+GU39 -> 0 | GV38: =GS38 -> 0 | GW38: =ROUND(GQ38,0) -> #NUM! | GX38: =IF($GU38>GX$35,0,$GS38) -> 0 | GY38: =IF($GL38=1,GX38,"x") -> x | GZ38: =IF(GY38=0,1,0) -> 0 | HA38: =GZ38+HA39 -> 0 | HB38: =IF(HA38=1,$GX$49,0) -> 0 | HC38: =HB38+GX38 -> 0 | HD38: =HC38*GW38 -> #NUM! | HE38: =IF(GU38>100,0,GS38) -> 0 | HF38: =IF(GL38=1,HE38,"x") -> x | HG38: =IF(HF38=0,1,0) -> 0 | HH38: =HG38+HH39 -> 0 | HI38: =IF(HH38=1,$HE$49,0) -> 0 | HJ38: =HI38+HE38 -> 0 | HK38: =HJ38*GW38 -> #NUM! | HL38: =IF(GU38>90,0,GS38) -> 0 | HM38: =IF(GL38=1,HL38,"x") -> x | HN38: =IF(HM38=0,1,0) -> 0 | HO38: =HN38+HO39 -> 0 | HP38: =IF(HO38=1,$HL$49,0) -> 0 | HQ38: =HP38+HL38 -> 0 | HR38: =HQ38*GW38 -> #NUM! | HS38: =IF($GU38>HS$35,0,$GS38) -> 0 | HT38: =IF(GL38=1,HS38,"x") -> x | HU38: =IF(HT38=0,1,0) -> 0 | HV38: =HU38+HV39 -> 0 | HW38: =IF(HV38=1,$HS$49,0) -> 0 | HX38: =HW38+HS38 -> 0 | HY38: =HX38*GW38 -> #NUM! | HZ38: =IF($GU38>HZ$35,0,$GS38) -> 0 | IA38: =IF(GL38=1,HZ38,"x") -> x | IB38: =IF(IA38=0,1,0) -> 0 | IC38: =IB38+IC39 -> 0 | ID38: =IF(IC38=1,$HZ$49,0) -> 0 | IE38: =ID38+HZ38 -> 0 | IF38: =IE38*GW38 -> #NUM! | IH38: =IF(HG38=1,GV38-HQ38,0) -> 0 | II38: =IF(HG38=1,GW38,0) -> 0 | IJ38: =IF(IH38>0,1,0) -> 0 | IM38: =IM37+1 -> 4 | IN38: =AA118 -> 0 | IO38: =IF(IN38=1,JT38," ") | IP38: =IF(IR38>100,"??",IO38) | IQ38: =IF(IR38>100,1,0) -> 0 | IR38: =Y38 -> 0 | IS38: =IF(AND($IR38>=$IS$30,$IR38<$IT$30),IS$32,0) -> 1 | IT38: =IF(AND($IR38>=$IT$30,$IR38<$IU$30),IT$32,0) -> 0 | IU38: =IF(AND($IR38>=$IU$30,$IR38<$IV$30),IU$32,0) -> 0 | IV38: =IF(AND($IR38>=$IV$30,$IR38<$IW$30),IV$32,0) -> 0 | IW38: =IF(AND($IR38>=$IW$30,$IR38<$IX$30),IW$32,0) -> 0 | IX38: =IF(AND($IR38>=$IX$30,$IR38<$IY$30),IX$32,0) -> 0 | IY38: =IF(AND($IR38>=$IY$30,$IR38<$IZ$30),IY$32,0) -> 0 | IZ38: =IF(AND($IR38>=$IZ$30,$IR38<$JA$30),IZ$32,0) -> 0 | JA38: =IF(AND($IR38>=$JA$30,$IR38<$JB$30),JA$32,0) -> 0 | JB38: =IF(AND($IR38>=$JB$30,$IR38<$JC$30),JB$32,0) -> 0 | JC38: =IF(AND($IR38>=$JC$30,$IR38<$JD$30),JC$32,0) -> 0 | JD38: =IF(AND($IR38>=$JD$30,$IR38<$JE$30),JD$32,0) -> 0 | JE38: =IF(AND($IR38>=$JE$30,$IR38<$JF$30),JE$32,0) -> 0 | JF38: =IF(AND($IR38>=$JF$30,$IR38<$JG$30),JF$32,0) -> 0 | JG38: =IF(AND($IR38>=$JG$30,$IR38<$JH$30),JG$32,0) -> 0 | JH38: =IF(AND($IR38>=$JH$30,$IR38<$JI$30),JH$32,0) -> 0 | JI38: =IF(AND($IR38>=$JI$30,$IR38<$JJ$30),JI$32,0) -> 0 | JJ38: =IF(AND($IR38>=$JJ$30,$IR38<$JK$30),JJ$32,0) -> 0 | JK38: =IF(AND($IR38>=$JK$30,$IR38<$JL$30),JK$32,0) -> 0 | JL38: =IF(AND($IR38>=$JL$30,$IR38<$JM$30),JL$32,0) -> 0 | JM38: =IF(AND($IR38>=$JM$30,$IR38<$JN$30),JM$32,0) -> 0 | JN38: =IF(AND($IR38>=$JN$30,$IR38<$JO$30),JN$32,0) -> 0 | JO38: =IF(AND($IR38>=$JO$30,$IR38<$JP$30),JO$32,0) -> 0 | JP38: =IF(AND($IR38>=$JP$30,$IR38<$JQ$30),JP$32,0) -> 0 | JQ38: =IF(AND($IR38>=$JQ$30,$IR38<$JR$30),JQ$32,0) -> 0 | JR38: =IF(AND($IR38>=$JR$30,$IR38<$JS$30),JR$32,0) -> 0 | JS38: =SUM(IS38:JR38) -> 1 | JT38: =HLOOKUP(JS38,$IS$32:$JR$33,2,0) -> F | JV38: =IF(AND($IR38>=$JV$30,$IR38<$JW$30),JV$32,0) -> 1 | JW38: =IF(AND($IR38>=$JW$30,$IR38<$JX$30),JW$32,0) -> 0 | JX38: =IF(AND($IR38>=$JX$30,$IR38<$JY$30),JX$32,0) -> 0 | JY38: =IF(AND($IR38>=$JY$30,$IR38<$JZ$30),JY$32,0) -> 0 | JZ38: =IF(AND($IR38>=$JZ$30,$IR38<$KA$30),JZ$32,0) -> 0 | KA38: =IF(AND($IR38>=$KA$30,$IR38<$KB$30),KA$32,0) -> 0 | KB38: =SUM(JV38:KA38) -> 1 | KC38: =HLOOKUP(KB38,$JV$32:$KB$33,2,0) -> F | LB38: 3 | LC38: Y2 / Y3 | LD38: 50 - 50 | LE38: Oxford Brookes, Newcastle, Bishop Grosseteste
U39: =AY119 | Z39: =IP39 | AB39: =BA119 | AG39: =IP51 | AI39: =BC119 | AN39: =IP63 | AX39: =IF($X39=$AX$34,1,0) -> 0 | AY39: =IF($X39=$AY$34,1,0) -> 0 | AZ39: =IF($X39=$AZ$34,1,0) -> 0 | BA39: =IF($X39=$BA$34,1,0) -> 0 | BB39: =IF($X39=$BB$34,1,0) -> 0 | BC39: =IF($X39=$BC$34,1,0) -> 0 | BD39: =IF($X39=$BD$34,1,0) -> 0 | BE39: =IF($X39=$BE$34,1,0) -> 0 | BF39: =IF($X39=$BF$34,1,0) -> 0 | BG39: =IF($X39=$BG$34,1,0) -> 0 | BH39: =IF($X39=$BH$34,1,0) -> 0 | BI39: =IF($X39=$BI$34,1,0) -> 0 | BJ39: =SUM(AX39:BI39) -> 0 | BK39: =COUNT(X39) -> 0 | BO39: 30 d | BP39: 90 | BQ39: =$DA$49 -> #NUM! | BR39: =$ER$49 -> #NUM! | BS39: =$HR$49 -> #NUM! | BZ39: =BZ38+1 -> 4 | CA39: 0.00031 | CB39: =AA118 -> 0 | CC39: =IF(CB39=1,(CB18+CA39),"X") -> X | CD39: =IF(CB39=1,X38,"X") -> X | CE39: =RANK(CC39,$CC$36:$CC$47,2) -> #VALUE! | CF39: =CF38+CB39 -> 1 | CG39: =SMALL($CC$36:$CC$47,CF39) -> #NUM! | CH39: =VLOOKUP(CG39,$CC$36:$CD$47,2,0) -> #NUM! | CI39: =IF(CB39=1,CH39,0) -> 0 | CJ39: =RANK(CG39,$CG$36:$CG$47,2) -> #NUM! | CK39: =CI39+CK40 -> 0 | CL39: =CI39 -> 0 | CM39: =ROUND(CG39,0) -> #NUM! | CN39: =IF(CK39>CN$35,0,CI39) -> 0 | CO39: =IF(CB39=1,CN39,"x") -> x | CP39: =IF(CO39=0,1,0) -> 0 | CQ39: =CP39+CQ40 -> 0 | CR39: =IF(CQ39=1,$CN$49,0) -> 0 | CS39: =CR39+CN39 -> 0 | CT39: =CS39*CM39 -> #NUM! | CU39: =IF(CK39>CU$35,0,CI39) -> 0 | CV39: =IF(CB39=1,CU39,"x") -> x | CW39: =IF(CV39=0,1,0) -> 0 | CX39: =CW39+CX40 -> 0 | CY39: =IF(CX39=1,$CU$49,0) -> 0 | CZ39: =CY39+CU39 -> 0 | DA39: =CZ39*CM39 -> #NUM! | DB39: =IF(CK39>DB$35,0,CI39) -> 0 | DC39: =IF(CB39=1,DB39,"x") -> x | DD39: =IF(DC39=0,1,0) -> 0 | DE39: =DD39+DE40 -> 0 | DF39: =IF(DE39=1,$DB$49,0) -> 0 | DG39: =DF39+DB39 -> 0 | DH39: =DG39*CM39 -> #NUM! | DI39: =IF(CK39>DI$35,0,CI39) -> 0 | DJ39: =IF(CB39=1,DI39,"x") -> x | DK39: =IF(DJ39=0,1,0) -> 0 | DL39: =DK39+DL40 -> 0 | DM39: =IF(DL39=1,$DB$49,0) -> 0 | DN39: =DM39+DI39 -> 0 | DO39: =DN39*CM39 -> #NUM! | DQ39: =DQ38+1 -> 4 | DR39: 0.00031 | DS39: =AH118 -> 0 | DT39: =IF(DS39=1,(DS18+DR39),"X") -> X | DU39: =IF(DS39=1,AE38,"X") -> X | DV39: =RANK(DT39,$DT$36:$DT$47,2) -> #VALUE! | DW39: =DW38+DS39 -> 1 | DX39: =SMALL($DT$36:$DT$47,DW39) -> #NUM! | DY39: =VLOOKUP(DX39,$DT$36:$DU$47,2,0) -> #NUM! | DZ39: =IF(DS39=1,DY39,0) -> 0 | EA39: =RANK(DX39,$DX$36:$DX$47,2) -> #NUM! | EB39: =DZ39+EB40 -> 0 | EC39: =DZ39 -> 0 | ED39: =ROUND(DX39,0) -> #NUM! | EE39: =IF($EB39>EE$35,0,$DZ39) -> 0 | EF39: =IF($DS39=1,EE39,"x") -> x | EG39: =IF(EF39=0,1,0) -> 0 | EH39: =EG39+EH40 -> 0 | EI39: =IF(EH39=1,EE49,0) -> 0 | EJ39: =EI39+EE39 -> 0 | EK39: =EJ39*$ED39 -> #NUM! | EL39: =IF($EB39>EL$35,0,$DZ39) -> 0 | EM39: =IF($DS39=1,EL39,"x") -> x | EN39: =IF(EM39=0,1,0) -> 0 | EO39: =EN39+EO40 -> 0 | EP39: =IF(EO39=1,EL49,0) -> 0 | EQ39: =EP39+EL39 -> 0 | ER39: =EQ39*$ED39 -> #NUM! | ES39: =IF($EB39>ES$35,0,$DZ39) -> 0 | ET39: =IF($DS39=1,ES39,"x") -> x | EU39: =IF(ET39=0,1,0) -> 0 | EV39: =EU39+EV40 -> 0 | EW39: =IF(EV39=1,ES49,0) -> 0 | EX39: =EW39+ES39 -> 0 | EY39: =EX39*$ED39 -> #NUM! | EZ39: =IF($EB39>EZ$35,0,$DZ39) -> 0 | FA39: =IF($DS39=1,EZ39,"x") -> x | FB39: =IF(FA39=0,1,0) -> 0 | FC39: =FB39+FC40 -> 0 | FD39: =IF(FC39=1,EZ49,0) -> 0 | FE39: =FD39+EZ39 -> 0 | FF39: =FE39*$ED39 -> #NUM! | FG39: =IF($EB39>FG$35,0,$DZ39) -> 0 | FH39: =IF($DS39=1,FG39,"x") -> x | FI39: =IF(FH39=0,1,0) -> 0 | FJ39: =FI39+FJ40 -> 0 | FK39: =IF(FJ39=1,FG49,0) -> 0 | FL39: =FK39+FG39 -> 0 | FM39: =FL39*$ED39 -> #NUM! | FN39: =IF($EB39>FN$35,0,$DZ39) -> 0 | FO39: =IF($DS39=1,FN39,"x") -> x | FP39: =IF(FO39=0,1,0) -> 0 | FQ39: =FP39+FQ40 -> 0 | FR39: =IF(FQ39=1,FN49,0) -> 0 | FS39: =FR39+FN39 -> 0 | FT39: =FS39*$ED39 -> #NUM! | FU39: =IF($EB39>FU$35,0,$DZ39) -> 0 | FV39: =IF($DS39=1,FU39,"x") -> x | FW39: =IF(FV39=0,1,0) -> 0 | FX39: =FW39+FX40 -> 0 | FY39: =IF(FX39=1,FU49,0) -> 0 | FZ39: =FY39+FU39 -> 0 | GA39: =FZ39*$ED39 -> #NUM! | GB39: =IF($EB39>GB$35,0,$DZ39) -> 0 | GC39: =IF($DS39=1,GB39,"x") -> x | GD39: =IF(GC39=0,1,0) -> 0 | GE39: =GD39+GE40 -> 0 | GF39: =IF(GE39=1,GB49,0) -> 0 | GG39: =GF39+GB39 -> 0 | GH39: =GG39*$ED39 -> #NUM! | GK39: 0.00031 | GL39: =AO118 -> 0 | GM39: =IF(GL39=1,(GL18+GK39),"X") -> X | GN39: =IF(GL39=1,AL38,"X") -> X | GO39: =RANK(GM39,$GM$36:$GM$47,2) -> #VALUE! | GP39: =GP38+GL39 -> 1 | GQ39: =SMALL($GM$36:$GM$47,GP39) -> #NUM! | GR39: =VLOOKUP(GQ39,$GM$36:$GN$47,2,0) -> #NUM! | GS39: =IF(GL39=1,GR39,0) -> 0 | GT39: =RANK(GQ39,$GQ$36:$GQ$47,2) -> #NUM! | GU39: =GS39+GU40 -> 0 | GV39: =GS39 -> 0 | GW39: =ROUND(GQ39,0) -> #NUM! | GX39: =IF($GU39>GX$35,0,$GS39) -> 0 | GY39: =IF($GL39=1,GX39,"x") -> x | GZ39: =IF(GY39=0,1,0) -> 0 | HA39: =GZ39+HA40 -> 0 | HB39: =IF(HA39=1,$GX$49,0) -> 0 | HC39: =HB39+GX39 -> 0 | HD39: =HC39*GW39 -> #NUM! | HE39: =IF(GU39>100,0,GS39) -> 0 | HF39: =IF(GL39=1,HE39,"x") -> x | HG39: =IF(HF39=0,1,0) -> 0 | HH39: =HG39+HH40 -> 0 | HI39: =IF(HH39=1,$HE$49,0) -> 0 | HJ39: =HI39+HE39 -> 0 | HK39: =HJ39*GW39 -> #NUM! | HL39: =IF(GU39>90,0,GS39) -> 0 | HM39: =IF(GL39=1,HL39,"x") -> x | HN39: =IF(HM39=0,1,0) -> 0 | HO39: =HN39+HO40 -> 0 | HP39: =IF(HO39=1,$HL$49,0) -> 0 | HQ39: =HP39+HL39 -> 0 | HR39: =HQ39*GW39 -> #NUM! | HS39: =IF($GU39>HS$35,0,$GS39) -> 0 | HT39: =IF(GL39=1,HS39,"x") -> x | HU39: =IF(HT39=0,1,0) -> 0 | HV39: =HU39+HV40 -> 0 | HW39: =IF(HV39=1,$HS$49,0) -> 0 | HX39: =HW39+HS39 -> 0 | HY39: =HX39*GW39 -> #NUM! | HZ39: =IF($GU39>HZ$35,0,$GS39) -> 0 | IA39: =IF(GL39=1,HZ39,"x") -> x | IB39: =IF(IA39=0,1,0) -> 0 | IC39: =IB39+IC40 -> 0 | ID39: =IF(IC39=1,$HZ$49,0) -> 0 | IE39: =ID39+HZ39 -> 0 | IF39: =IE39*GW39 -> #NUM! | IH39: =IF(HG39=1,GV39-HQ39,0) -> 0 | II39: =IF(HG39=1,GW39,0) -> 0 | IJ39: =IF(IH39>0,1,0) -> 0 | IM39: =IM38+1 -> 5 | IN39: =AA119 -> 0 | IO39: =IF(IN39=1,JT39," ") | IP39: =IF(IR39>100,"??",IO39) | IQ39: =IF(IR39>100,1,0) -> 0 | IR39: =Y39 -> 0 | IS39: =IF(AND($IR39>=$IS$30,$IR39<$IT$30),IS$32,0) -> 1 | IT39: =IF(AND($IR39>=$IT$30,$IR39<$IU$30),IT$32,0) -> 0 | IU39: =IF(AND($IR39>=$IU$30,$IR39<$IV$30),IU$32,0) -> 0 | IV39: =IF(AND($IR39>=$IV$30,$IR39<$IW$30),IV$32,0) -> 0 | IW39: =IF(AND($IR39>=$IW$30,$IR39<$IX$30),IW$32,0) -> 0 | IX39: =IF(AND($IR39>=$IX$30,$IR39<$IY$30),IX$32,0) -> 0 | IY39: =IF(AND($IR39>=$IY$30,$IR39<$IZ$30),IY$32,0) -> 0 | IZ39: =IF(AND($IR39>=$IZ$30,$IR39<$JA$30),IZ$32,0) -> 0 | JA39: =IF(AND($IR39>=$JA$30,$IR39<$JB$30),JA$32,0) -> 0 | JB39: =IF(AND($IR39>=$JB$30,$IR39<$JC$30),JB$32,0) -> 0 | JC39: =IF(AND($IR39>=$JC$30,$IR39<$JD$30),JC$32,0) -> 0 | JD39: =IF(AND($IR39>=$JD$30,$IR39<$JE$30),JD$32,0) -> 0 | JE39: =IF(AND($IR39>=$JE$30,$IR39<$JF$30),JE$32,0) -> 0 | JF39: =IF(AND($IR39>=$JF$30,$IR39<$JG$30),JF$32,0) -> 0 | JG39: =IF(AND($IR39>=$JG$30,$IR39<$JH$30),JG$32,0) -> 0 | JH39: =IF(AND($IR39>=$JH$30,$IR39<$JI$30),JH$32,0) -> 0 | JI39: =IF(AND($IR39>=$JI$30,$IR39<$JJ$30),JI$32,0) -> 0 | JJ39: =IF(AND($IR39>=$JJ$30,$IR39<$JK$30),JJ$32,0) -> 0 | JK39: =IF(AND($IR39>=$JK$30,$IR39<$JL$30),JK$32,0) -> 0 | JL39: =IF(AND($IR39>=$JL$30,$IR39<$JM$30),JL$32,0) -> 0 | JM39: =IF(AND($IR39>=$JM$30,$IR39<$JN$30),JM$32,0) -> 0 | JN39: =IF(AND($IR39>=$JN$30,$IR39<$JO$30),JN$32,0) -> 0 | JO39: =IF(AND($IR39>=$JO$30,$IR39<$JP$30),JO$32,0) -> 0 | JP39: =IF(AND($IR39>=$JP$30,$IR39<$JQ$30),JP$32,0) -> 0 | JQ39: =IF(AND($IR39>=$JQ$30,$IR39<$JR$30),JQ$32,0) -> 0 | JR39: =IF(AND($IR39>=$JR$30,$IR39<$JS$30),JR$32,0) -> 0 | JS39: =SUM(IS39:JR39) -> 1 | JT39: =HLOOKUP(JS39,$IS$32:$JR$33,2,0) -> F | JV39: =IF(AND($IR39>=$JV$30,$IR39<$JW$30),JV$32,0) -> 1 | JW39: =IF(AND($IR39>=$JW$30,$IR39<$JX$30),JW$32,0) -> 0 | JX39: =IF(AND($IR39>=$JX$30,$IR39<$JY$30),JX$32,0) -> 0 | JY39: =IF(AND($IR39>=$JY$30,$IR39<$JZ$30),JY$32,0) -> 0 | JZ39: =IF(AND($IR39>=$JZ$30,$IR39<$KA$30),JZ$32,0) -> 0 | KA39: =IF(AND($IR39>=$KA$30,$IR39<$KB$30),KA$32,0) -> 0 | KB39: =SUM(JV39:KA39) -> 1 | KC39: =HLOOKUP(KB39,$JV$32:$KB$33,2,0) -> F | LB39: 4 | LC39: Y2 / Y3 | LD39: 40 - 60 | LE39: UAE, Kent, York, Leicester, Essex, Durham
U40: =AY120 | Z40: =IP40 | AB40: =BA120 | AG40: =IP52 | AI40: =BC120 | AN40: =IP64 | AX40: =IF($X40=$AX$34,1,0) -> 0 | AY40: =IF($X40=$AY$34,1,0) -> 0 | AZ40: =IF($X40=$AZ$34,1,0) -> 0 | BA40: =IF($X40=$BA$34,1,0) -> 0 | BB40: =IF($X40=$BB$34,1,0) -> 0 | BC40: =IF($X40=$BC$34,1,0) -> 0 | BD40: =IF($X40=$BD$34,1,0) -> 0 | BE40: =IF($X40=$BE$34,1,0) -> 0 | BF40: =IF($X40=$BF$34,1,0) -> 0 | BG40: =IF($X40=$BG$34,1,0) -> 0 | BH40: =IF($X40=$BH$34,1,0) -> 0 | BI40: =IF($X40=$BI$34,1,0) -> 0 | BJ40: =SUM(AX40:BI40) -> 0 | BK40: =COUNT(X40) -> 0 | BZ40: =BZ39+1 -> 5 | CA40: 0.00041 | CB40: =AA119 -> 0 | CC40: =IF(CB40=1,(CB19+CA40),"X") -> X | CD40: =IF(CB40=1,X39,"X") -> X | CE40: =RANK(CC40,$CC$36:$CC$47,2) -> #VALUE! | CF40: =CF39+CB40 -> 1 | CG40: =SMALL($CC$36:$CC$47,CF40) -> #NUM! | CH40: =VLOOKUP(CG40,$CC$36:$CD$47,2,0) -> #NUM! | CI40: =IF(CB40=1,CH40,0) -> 0 | CJ40: =RANK(CG40,$CG$36:$CG$47,2) -> #NUM! | CK40: =CI40+CK41 -> 0 | CL40: =CI40 -> 0 | CM40: =ROUND(CG40,0) -> #NUM! | CN40: =IF(CK40>CN$35,0,CI40) -> 0 | CO40: =IF(CB40=1,CN40,"x") -> x | CP40: =IF(CO40=0,1,0) -> 0 | CQ40: =CP40+CQ41 -> 0 | CR40: =IF(CQ40=1,$CN$49,0) -> 0 | CS40: =CR40+CN40 -> 0 | CT40: =CS40*CM40 -> #NUM! | CU40: =IF(CK40>CU$35,0,CI40) -> 0 | CV40: =IF(CB40=1,CU40,"x") -> x | CW40: =IF(CV40=0,1,0) -> 0 | CX40: =CW40+CX41 -> 0 | CY40: =IF(CX40=1,$CU$49,0) -> 0 | CZ40: =CY40+CU40 -> 0 | DA40: =CZ40*CM40 -> #NUM! | DB40: =IF(CK40>DB$35,0,CI40) -> 0 | DC40: =IF(CB40=1,DB40,"x") -> x | DD40: =IF(DC40=0,1,0) -> 0 | DE40: =DD40+DE41 -> 0 | DF40: =IF(DE40=1,$DB$49,0) -> 0 | DG40: =DF40+DB40 -> 0 | DH40: =DG40*CM40 -> #NUM! | DI40: =IF(CK40>DI$35,0,CI40) -> 0 | DJ40: =IF(CB40=1,DI40,"x") -> x | DK40: =IF(DJ40=0,1,0) -> 0 | DL40: =DK40+DL41 -> 0 | DM40: =IF(DL40=1,$DB$49,0) -> 0 | DN40: =DM40+DI40 -> 0 | DO40: =DN40*CM40 -> #NUM! | DQ40: =DQ39+1 -> 5 | DR40: 0.00041 | DS40: =AH119 -> 0 | DT40: =IF(DS40=1,(DS19+DR40),"X") -> X | DU40: =IF(DS40=1,AE39,"X") -> X | DV40: =RANK(DT40,$DT$36:$DT$47,2) -> #VALUE! | DW40: =DW39+DS40 -> 1 | DX40: =SMALL($DT$36:$DT$47,DW40) -> #NUM! | DY40: =VLOOKUP(DX40,$DT$36:$DU$47,2,0) -> #NUM! | DZ40: =IF(DS40=1,DY40,0) -> 0 | EA40: =RANK(DX40,$DX$36:$DX$47,2) -> #NUM! | EB40: =DZ40+EB41 -> 0 | EC40: =DZ40 -> 0 | ED40: =ROUND(DX40,0) -> #NUM! | EE40: =IF($EB40>EE$35,0,$DZ40) -> 0 | EF40: =IF($DS40=1,EE40,"x") -> x | EG40: =IF(EF40=0,1,0) -> 0 | EH40: =EG40+EH41 -> 0 | EI40: =IF(EH40=1,EE49,0) -> 0 | EJ40: =EI40+EE40 -> 0 | EK40: =EJ40*$ED40 -> #NUM! | EL40: =IF($EB40>EL$35,0,$DZ40) -> 0 | EM40: =IF($DS40=1,EL40,"x") -> x | EN40: =IF(EM40=0,1,0) -> 0 | EO40: =EN40+EO41 -> 0 | EP40: =IF(EO40=1,EL49,0) -> 0 | EQ40: =EP40+EL40 -> 0 | ER40: =EQ40*$ED40 -> #NUM! | ES40: =IF($EB40>ES$35,0,$DZ40) -> 0 | ET40: =IF($DS40=1,ES40,"x") -> x | EU40: =IF(ET40=0,1,0) -> 0 | EV40: =EU40+EV41 -> 0 | EW40: =IF(EV40=1,ES49,0) -> 0 | EX40: =EW40+ES40 -> 0 | EY40: =EX40*$ED40 -> #NUM! | EZ40: =IF($EB40>EZ$35,0,$DZ40) -> 0 | FA40: =IF($DS40=1,EZ40,"x") -> x | FB40: =IF(FA40=0,1,0) -> 0 | FC40: =FB40+FC41 -> 0 | FD40: =IF(FC40=1,EZ49,0) -> 0 | FE40: =FD40+EZ40 -> 0 | FF40: =FE40*$ED40 -> #NUM! | FG40: =IF($EB40>FG$35,0,$DZ40) -> 0 | FH40: =IF($DS40=1,FG40,"x") -> x | FI40: =IF(FH40=0,1,0) -> 0 | FJ40: =FI40+FJ41 -> 0 | FK40: =IF(FJ40=1,FG49,0) -> 0 | FL40: =FK40+FG40 -> 0 | FM40: =FL40*$ED40 -> #NUM! | FN40: =IF($EB40>FN$35,0,$DZ40) -> 0 | FO40: =IF($DS40=1,FN40,"x") -> x | FP40: =IF(FO40=0,1,0) -> 0 | FQ40: =FP40+FQ41 -> 0 | FR40: =IF(FQ40=1,FN49,0) -> 0 | FS40: =FR40+FN40 -> 0 | FT40: =FS40*$ED40 -> #NUM! | FU40: =IF($EB40>FU$35,0,$DZ40) -> 0 | FV40: =IF($DS40=1,FU40,"x") -> x | FW40: =IF(FV40=0,1,0) -> 0 | FX40: =FW40+FX41 -> 0 | FY40: =IF(FX40=1,FU49,0) -> 0 | FZ40: =FY40+FU40 -> 0 | GA40: =FZ40*$ED40 -> #NUM! | GB40: =IF($EB40>GB$35,0,$DZ40) -> 0 | GC40: =IF($DS40=1,GB40,"x") -> x | GD40: =IF(GC40=0,1,0) -> 0 | GE40: =GD40+GE41 -> 0 | GF40: =IF(GE40=1,GB49,0) -> 0 | GG40: =GF40+GB40 -> 0 | GH40: =GG40*$ED40 -> #NUM! | GK40: 0.00041 | GL40: =AO119 -> 0 | GM40: =IF(GL40=1,(GL19+GK40),"X") -> X | GN40: =IF(GL40=1,AL39,"X") -> X | GO40: =RANK(GM40,$GM$36:$GM$47,2) -> #VALUE! | GP40: =GP39+GL40 -> 1 | GQ40: =SMALL($GM$36:$GM$47,GP40) -> #NUM! | GR40: =VLOOKUP(GQ40,$GM$36:$GN$47,2,0) -> #NUM! | GS40: =IF(GL40=1,GR40,0) -> 0 | GT40: =RANK(GQ40,$GQ$36:$GQ$47,2) -> #NUM! | GU40: =GS40+GU41 -> 0 | GV40: =GS40 -> 0 | GW40: =ROUND(GQ40,0) -> #NUM! | GX40: =IF($GU40>GX$35,0,$GS40) -> 0 | GY40: =IF($GL40=1,GX40,"x") -> x | GZ40: =IF(GY40=0,1,0) -> 0 | HA40: =GZ40+HA41 -> 0 | HB40: =IF(HA40=1,$GX$49,0) -> 0 | HC40: =HB40+GX40 -> 0 | HD40: =HC40*GW40 -> #NUM! | HE40: =IF(GU40>100,0,GS40) -> 0 | HF40: =IF(GL40=1,HE40,"x") -> x | HG40: =IF(HF40=0,1,0) -> 0 | HH40: =HG40+HH41 -> 0 | HI40: =IF(HH40=1,$HE$49,0) -> 0 | HJ40: =HI40+HE40 -> 0 | HK40: =HJ40*GW40 -> #NUM! | HL40: =IF(GU40>90,0,GS40) -> 0 | HM40: =IF(GL40=1,HL40,"x") -> x | HN40: =IF(HM40=0,1,0) -> 0 | HO40: =HN40+HO41 -> 0 | HP40: =IF(HO40=1,$HL$49,0) -> 0 | HQ40: =HP40+HL40 -> 0 | HR40: =HQ40*GW40 -> #NUM! | HS40: =IF($GU40>HS$35,0,$GS40) -> 0 | HT40: =IF(GL40=1,HS40,"x") -> x | HU40: =IF(HT40=0,1,0) -> 0 | HV40: =HU40+HV41 -> 0 | HW40: =IF(HV40=1,$HS$49,0) -> 0 | HX40: =HW40+HS40 -> 0 | HY40: =HX40*GW40 -> #NUM! | HZ40: =IF($GU40>HZ$35,0,$GS40) -> 0 | IA40: =IF(GL40=1,HZ40,"x") -> x | IB40: =IF(IA40=0,1,0) -> 0 | IC40: =IB40+IC41 -> 0 | ID40: =IF(IC40=1,$HZ$49,0) -> 0 | IE40: =ID40+HZ40 -> 0 | IF40: =IE40*GW40 -> #NUM! | IH40: =IF(HG40=1,GV40-HQ40,0) -> 0 | II40: =IF(HG40=1,GW40,0) -> 0 | IM40: =IM39+1 -> 6 | IN40: =AA120 -> 0 | IO40: =IF(IN40=1,JT40," ") | IP40: =IF(IR40>100,"??",IO40) | IQ40: =IF(IR40>100,1,0) -> 0 | IR40: =Y40 -> 0 | IS40: =IF(AND($IR40>=$IS$30,$IR40<$IT$30),IS$32,0) -> 1 | IT40: =IF(AND($IR40>=$IT$30,$IR40<$IU$30),IT$32,0) -> 0 | IU40: =IF(AND($IR40>=$IU$30,$IR40<$IV$30),IU$32,0) -> 0 | IV40: =IF(AND($IR40>=$IV$30,$IR40<$IW$30),IV$32,0) -> 0 | IW40: =IF(AND($IR40>=$IW$30,$IR40<$IX$30),IW$32,0) -> 0 | IX40: =IF(AND($IR40>=$IX$30,$IR40<$IY$30),IX$32,0) -> 0 | IY40: =IF(AND($IR40>=$IY$30,$IR40<$IZ$30),IY$32,0) -> 0 | IZ40: =IF(AND($IR40>=$IZ$30,$IR40<$JA$30),IZ$32,0) -> 0 | JA40: =IF(AND($IR40>=$JA$30,$IR40<$JB$30),JA$32,0) -> 0 | JB40: =IF(AND($IR40>=$JB$30,$IR40<$JC$30),JB$32,0) -> 0 | JC40: =IF(AND($IR40>=$JC$30,$IR40<$JD$30),JC$32,0) -> 0 | JD40: =IF(AND($IR40>=$JD$30,$IR40<$JE$30),JD$32,0) -> 0 | JE40: =IF(AND($IR40>=$JE$30,$IR40<$JF$30),JE$32,0) -> 0 | JF40: =IF(AND($IR40>=$JF$30,$IR40<$JG$30),JF$32,0) -> 0 | JG40: =IF(AND($IR40>=$JG$30,$IR40<$JH$30),JG$32,0) -> 0 | JH40: =IF(AND($IR40>=$JH$30,$IR40<$JI$30),JH$32,0) -> 0 | JI40: =IF(AND($IR40>=$JI$30,$IR40<$JJ$30),JI$32,0) -> 0 | JJ40: =IF(AND($IR40>=$JJ$30,$IR40<$JK$30),JJ$32,0) -> 0 | JK40: =IF(AND($IR40>=$JK$30,$IR40<$JL$30),JK$32,0) -> 0 | JL40: =IF(AND($IR40>=$JL$30,$IR40<$JM$30),JL$32,0) -> 0 | JM40: =IF(AND($IR40>=$JM$30,$IR40<$JN$30),JM$32,0) -> 0 | JN40: =IF(AND($IR40>=$JN$30,$IR40<$JO$30),JN$32,0) -> 0 | JO40: =IF(AND($IR40>=$JO$30,$IR40<$JP$30),JO$32,0) -> 0 | JP40: =IF(AND($IR40>=$JP$30,$IR40<$JQ$30),JP$32,0) -> 0 | JQ40: =IF(AND($IR40>=$JQ$30,$IR40<$JR$30),JQ$32,0) -> 0 | JR40: =IF(AND($IR40>=$JR$30,$IR40<$JS$30),JR$32,0) -> 0 | JS40: =SUM(IS40:JR40) -> 1 | JT40: =HLOOKUP(JS40,$IS$32:$JR$33,2,0) -> F | JV40: =IF(AND($IR40>=$JV$30,$IR40<$JW$30),JV$32,0) -> 1 | JW40: =IF(AND($IR40>=$JW$30,$IR40<$JX$30),JW$32,0) -> 0 | JX40: =IF(AND($IR40>=$JX$30,$IR40<$JY$30),JX$32,0) -> 0 | JY40: =IF(AND($IR40>=$JY$30,$IR40<$JZ$30),JY$32,0) -> 0 | JZ40: =IF(AND($IR40>=$JZ$30,$IR40<$KA$30),JZ$32,0) -> 0 | KA40: =IF(AND($IR40>=$KA$30,$IR40<$KB$30),KA$32,0) -> 0 | KB40: =SUM(JV40:KA40) -> 1 | KC40: =HLOOKUP(KB40,$JV$32:$KB$33,2,0) -> F | LB40: 5 | LC40: Y2 / Y3 | LD40: 33 - 67 | LE40: Reading, Exeter, Manchester, Sheffield, Buckingham [New]
U41: =AY121 | Z41: =IP41 | AB41: =BA121 | AG41: =IP53 | AI41: =BC121 | AN41: =IP65 | AX41: =IF($X41=$AX$34,1,0) -> 0 | AY41: =IF($X41=$AY$34,1,0) -> 0 | AZ41: =IF($X41=$AZ$34,1,0) -> 0 | BA41: =IF($X41=$BA$34,1,0) -> 0 | BB41: =IF($X41=$BB$34,1,0) -> 0 | BC41: =IF($X41=$BC$34,1,0) -> 0 | BD41: =IF($X41=$BD$34,1,0) -> 0 | BE41: =IF($X41=$BE$34,1,0) -> 0 | BF41: =IF($X41=$BF$34,1,0) -> 0 | BG41: =IF($X41=$BG$34,1,0) -> 0 | BH41: =IF($X41=$BH$34,1,0) -> 0 | BI41: =IF($X41=$BI$34,1,0) -> 0 | BJ41: =SUM(AX41:BI41) -> 0 | BK41: =COUNT(X41) -> 0 | BU41: =$BU$38*0.25 -> #NUM! | BV41: =$BV$38*0.75 -> #NUM! | BX41: =BW41+BV41+BU41 -> #NUM! | BZ41: =BZ40+1 -> 6 | CA41: 0.00051 | CB41: =AA120 -> 0 | CC41: =IF(CB41=1,(CB20+CA41),"X") -> X | CD41: =IF(CB41=1,X40,"X") -> X | CE41: =RANK(CC41,$CC$36:$CC$47,2) -> #VALUE! | CF41: =CF40+CB41 -> 1 | CG41: =SMALL($CC$36:$CC$47,CF41) -> #NUM! | CH41: =VLOOKUP(CG41,$CC$36:$CD$47,2,0) -> #NUM! | CI41: =IF(CB41=1,CH41,0) -> 0 | CJ41: =RANK(CG41,$CG$36:$CG$47,2) -> #NUM! | CK41: =CI41+CK42 -> 0 | CL41: =CI41 -> 0 | CM41: =ROUND(CG41,0) -> #NUM! | CN41: =IF(CK41>CN$35,0,CI41) -> 0 | CO41: =IF(CB41=1,CN41,"x") -> x | CP41: =IF(CO41=0,1,0) -> 0 | CQ41: =CP41+CQ42 -> 0 | CR41: =IF(CQ41=1,$CN$49,0) -> 0 | CS41: =CR41+CN41 -> 0 | CT41: =CS41*CM41 -> #NUM! | CU41: =IF(CK41>CU$35,0,CI41) -> 0 | CV41: =IF(CB41=1,CU41,"x") -> x | CW41: =IF(CV41=0,1,0) -> 0 | CX41: =CW41+CX42 -> 0 | CY41: =IF(CX41=1,$CU$49,0) -> 0 | CZ41: =CY41+CU41 -> 0 | DA41: =CZ41*CM41 -> #NUM! | DB41: =IF(CK41>DB$35,0,CI41) -> 0 | DC41: =IF(CB41=1,DB41,"x") -> x | DD41: =IF(DC41=0,1,0) -> 0 | DE41: =DD41+DE42 -> 0 | DF41: =IF(DE41=1,$DB$49,0) -> 0 | DG41: =DF41+DB41 -> 0 | DH41: =DG41*CM41 -> #NUM! | DI41: =IF(CK41>DI$35,0,CI41) -> 0 | DJ41: =IF(CB41=1,DI41,"x") -> x | DK41: =IF(DJ41=0,1,0) -> 0 | DL41: =DK41+DL42 -> 0 | DM41: =IF(DL41=1,$DB$49,0) -> 0 | DN41: =DM41+DI41 -> 0 | DO41: =DN41*CM41 -> #NUM! | DQ41: =DQ40+1 -> 6 | DR41: 0.00051 | DS41: =AH120 -> 0 | DT41: =IF(DS41=1,(DS20+DR41),"X") -> X | DU41: =IF(DS41=1,AE40,"X") -> X | DV41: =RANK(DT41,$DT$36:$DT$47,2) -> #VALUE! | DW41: =DW40+DS41 -> 1 | DX41: =SMALL($DT$36:$DT$47,DW41) -> #NUM! | DY41: =VLOOKUP(DX41,$DT$36:$DU$47,2,0) -> #NUM! | DZ41: =IF(DS41=1,DY41,0) -> 0 | EA41: =RANK(DX41,$DX$36:$DX$47,2) -> #NUM! | EB41: =DZ41+EB42 -> 0 | EC41: =DZ41 -> 0 | ED41: =ROUND(DX41,0) -> #NUM! | EE41: =IF($EB41>EE$35,0,$DZ41) -> 0 | EF41: =IF($DS41=1,EE41,"x") -> x | EG41: =IF(EF41=0,1,0) -> 0 | EH41: =EG41+EH42 -> 0 | EI41: =IF(EH41=1,EE49,0) -> 0 | EJ41: =EI41+EE41 -> 0 | EK41: =EJ41*$ED41 -> #NUM! | EL41: =IF($EB41>EL$35,0,$DZ41) -> 0 | EM41: =IF($DS41=1,EL41,"x") -> x | EN41: =IF(EM41=0,1,0) -> 0 | EO41: =EN41+EO42 -> 0 | EP41: =IF(EO41=1,EL49,0) -> 0 | EQ41: =EP41+EL41 -> 0 | ER41: =EQ41*$ED41 -> #NUM! | ES41: =IF($EB41>ES$35,0,$DZ41) -> 0 | ET41: =IF($DS41=1,ES41,"x") -> x | EU41: =IF(ET41=0,1,0) -> 0 | EV41: =EU41+EV42 -> 0 | EW41: =IF(EV41=1,ES49,0) -> 0 | EX41: =EW41+ES41 -> 0 | EY41: =EX41*$ED41 -> #NUM! | EZ41: =IF($EB41>EZ$35,0,$DZ41) -> 0 | FA41: =IF($DS41=1,EZ41,"x") -> x | FB41: =IF(FA41=0,1,0) -> 0 | FC41: =FB41+FC42 -> 0 | FD41: =IF(FC41=1,EZ49,0) -> 0 | FE41: =FD41+EZ41 -> 0 | FF41: =FE41*$ED41 -> #NUM! | FG41: =IF($EB41>FG$35,0,$DZ41) -> 0 | FH41: =IF($DS41=1,FG41,"x") -> x | FI41: =IF(FH41=0,1,0) -> 0 | FJ41: =FI41+FJ42 -> 0 | FK41: =IF(FJ41=1,FG49,0) -> 0 | FL41: =FK41+FG41 -> 0 | FM41: =FL41*$ED41 -> #NUM! | FN41: =IF($EB41>FN$35,0,$DZ41) -> 0 | FO41: =IF($DS41=1,FN41,"x") -> x | FP41: =IF(FO41=0,1,0) -> 0 | FQ41: =FP41+FQ42 -> 0 | FR41: =IF(FQ41=1,FN49,0) -> 0 | FS41: =FR41+FN41 -> 0 | FT41: =FS41*$ED41 -> #NUM! | FU41: =IF($EB41>FU$35,0,$DZ41) -> 0 | FV41: =IF($DS41=1,FU41,"x") -> x | FW41: =IF(FV41=0,1,0) -> 0 | FX41: =FW41+FX42 -> 0 | FY41: =IF(FX41=1,FU49,0) -> 0 | FZ41: =FY41+FU41 -> 0 | GA41: =FZ41*$ED41 -> #NUM! | GB41: =IF($EB41>GB$35,0,$DZ41) -> 0 | GC41: =IF($DS41=1,GB41,"x") -> x | GD41: =IF(GC41=0,1,0) -> 0 | GE41: =GD41+GE42 -> 0 | GF41: =IF(GE41=1,GB49,0) -> 0 | GG41: =GF41+GB41 -> 0 | GH41: =GG41*$ED41 -> #NUM! | GK41: 0.00051 | GL41: =AO120 -> 0 | GM41: =IF(GL41=1,(GL20+GK41),"X") -> X | GN41: =IF(GL41=1,AL40,"X") -> X | GO41: =RANK(GM41,$GM$36:$GM$47,2) -> #VALUE! | GP41: =GP40+GL41 -> 1 | GQ41: =SMALL($GM$36:$GM$47,GP41) -> #NUM! | GR41: =VLOOKUP(GQ41,$GM$36:$GN$47,2,0) -> #NUM! | GS41: =IF(GL41=1,GR41,0) -> 0 | GT41: =RANK(GQ41,$GQ$36:$GQ$47,2) -> #NUM! | GU41: =GS41+GU42 -> 0 | GV41: =GS41 -> 0 | GW41: =ROUND(GQ41,0) -> #NUM! | GX41: =IF($GU41>GX$35,0,$GS41) -> 0 | GY41: =IF($GL41=1,GX41,"x") -> x | GZ41: =IF(GY41=0,1,0) -> 0 | HA41: =GZ41+HA42 -> 0 | HB41: =IF(HA41=1,$GX$49,0) -> 0 | HC41: =HB41+GX41 -> 0 | HD41: =HC41*GW41 -> #NUM! | HE41: =IF(GU41>100,0,GS41) -> 0 | HF41: =IF(GL41=1,HE41,"x") -> x | HG41: =IF(HF41=0,1,0) -> 0 | HH41: =HG41+HH42 -> 0 | HI41: =IF(HH41=1,$HE$49,0) -> 0 | HJ41: =HI41+HE41 -> 0 | HK41: =HJ41*GW41 -> #NUM! | HL41: =IF(GU41>90,0,GS41) -> 0 | HM41: =IF(GL41=1,HL41,"x") -> x | HN41: =IF(HM41=0,1,0) -> 0 | HO41: =HN41+HO42 -> 0 | HP41: =IF(HO41=1,$HL$49,0) -> 0 | HQ41: =HP41+HL41 -> 0 | HR41: =HQ41*GW41 -> #NUM! | HS41: =IF($GU41>HS$35,0,$GS41) -> 0 | HT41: =IF(GL41=1,HS41,"x") -> x | HU41: =IF(HT41=0,1,0) -> 0 | HV41: =HU41+HV42 -> 0 | HW41: =IF(HV41=1,$HS$49,0) -> 0 | HX41: =HW41+HS41 -> 0 | HY41: =HX41*GW41 -> #NUM! | HZ41: =IF($GU41>HZ$35,0,$GS41) -> 0 | IA41: =IF(GL41=1,HZ41,"x") -> x | IB41: =IF(IA41=0,1,0) -> 0 | IC41: =IB41+IC42 -> 0 | ID41: =IF(IC41=1,$HZ$49,0) -> 0 | IE41: =ID41+HZ41 -> 0 | IF41: =IE41*GW41 -> #NUM! | IH41: =IF(HG41=1,GV41-HQ41,0) -> 0 | II41: =IF(HG41=1,GW41,0) -> 0 | IM41: =IM40+1 -> 7 | IN41: =AA121 -> 0 | IO41: =IF(IN41=1,JT41," ") | IP41: =IF(IR41>100,"??",IO41) | IQ41: =IF(IR41>100,1,0) -> 0 | IR41: =Y41 -> 0 | IS41: =IF(AND($IR41>=$IS$30,$IR41<$IT$30),IS$32,0) -> 1 | IT41: =IF(AND($IR41>=$IT$30,$IR41<$IU$30),IT$32,0) -> 0 | IU41: =IF(AND($IR41>=$IU$30,$IR41<$IV$30),IU$32,0) -> 0 | IV41: =IF(AND($IR41>=$IV$30,$IR41<$IW$30),IV$32,0) -> 0 | IW41: =IF(AND($IR41>=$IW$30,$IR41<$IX$30),IW$32,0) -> 0 | IX41: =IF(AND($IR41>=$IX$30,$IR41<$IY$30),IX$32,0) -> 0 | IY41: =IF(AND($IR41>=$IY$30,$IR41<$IZ$30),IY$32,0) -> 0 | IZ41: =IF(AND($IR41>=$IZ$30,$IR41<$JA$30),IZ$32,0) -> 0 | JA41: =IF(AND($IR41>=$JA$30,$IR41<$JB$30),JA$32,0) -> 0 | JB41: =IF(AND($IR41>=$JB$30,$IR41<$JC$30),JB$32,0) -> 0 | JC41: =IF(AND($IR41>=$JC$30,$IR41<$JD$30),JC$32,0) -> 0 | JD41: =IF(AND($IR41>=$JD$30,$IR41<$JE$30),JD$32,0) -> 0 | JE41: =IF(AND($IR41>=$JE$30,$IR41<$JF$30),JE$32,0) -> 0 | JF41: =IF(AND($IR41>=$JF$30,$IR41<$JG$30),JF$32,0) -> 0 | JG41: =IF(AND($IR41>=$JG$30,$IR41<$JH$30),JG$32,0) -> 0 | JH41: =IF(AND($IR41>=$JH$30,$IR41<$JI$30),JH$32,0) -> 0 | JI41: =IF(AND($IR41>=$JI$30,$IR41<$JJ$30),JI$32,0) -> 0 | JJ41: =IF(AND($IR41>=$JJ$30,$IR41<$JK$30),JJ$32,0) -> 0 | JK41: =IF(AND($IR41>=$JK$30,$IR41<$JL$30),JK$32,0) -> 0 | JL41: =IF(AND($IR41>=$JL$30,$IR41<$JM$30),JL$32,0) -> 0 | JM41: =IF(AND($IR41>=$JM$30,$IR41<$JN$30),JM$32,0) -> 0 | JN41: =IF(AND($IR41>=$JN$30,$IR41<$JO$30),JN$32,0) -> 0 | JO41: =IF(AND($IR41>=$JO$30,$IR41<$JP$30),JO$32,0) -> 0 | JP41: =IF(AND($IR41>=$JP$30,$IR41<$JQ$30),JP$32,0) -> 0 | JQ41: =IF(AND($IR41>=$JQ$30,$IR41<$JR$30),JQ$32,0) -> 0 | JR41: =IF(AND($IR41>=$JR$30,$IR41<$JS$30),JR$32,0) -> 0 | JS41: =SUM(IS41:JR41) -> 1 | JT41: =HLOOKUP(JS41,$IS$32:$JR$33,2,0) -> F | JV41: =IF(AND($IR41>=$JV$30,$IR41<$JW$30),JV$32,0) -> 1 | JW41: =IF(AND($IR41>=$JW$30,$IR41<$JX$30),JW$32,0) -> 0 | JX41: =IF(AND($IR41>=$JX$30,$IR41<$JY$30),JX$32,0) -> 0 | JY41: =IF(AND($IR41>=$JY$30,$IR41<$JZ$30),JY$32,0) -> 0 | JZ41: =IF(AND($IR41>=$JZ$30,$IR41<$KA$30),JZ$32,0) -> 0 | KA41: =IF(AND($IR41>=$KA$30,$IR41<$KB$30),KA$32,0) -> 0 | KB41: =SUM(JV41:KA41) -> 1 | KC41: =HLOOKUP(KB41,$JV$32:$KB$33,2,0) -> F | LB41: 6 | LC41: Y2 / Y3 | LD41: 30 - 70 | LE41: Nottingham Trent, Liverpool, Cardiff, Bournemouth, Harper Adams, Staffordshire, Ulster
U42: =AY122 | Z42: =IP42 | AB42: =BA122 | AG42: =IP54 | AI42: =BC122 | AN42: =IP66 | AX42: =IF($X42=$AX$34,1,0) -> 0 | AY42: =IF($X42=$AY$34,1,0) -> 0 | AZ42: =IF($X42=$AZ$34,1,0) -> 0 | BA42: =IF($X42=$BA$34,1,0) -> 0 | BB42: =IF($X42=$BB$34,1,0) -> 0 | BC42: =IF($X42=$BC$34,1,0) -> 0 | BD42: =IF($X42=$BD$34,1,0) -> 0 | BE42: =IF($X42=$BE$34,1,0) -> 0 | BF42: =IF($X42=$BF$34,1,0) -> 0 | BG42: =IF($X42=$BG$34,1,0) -> 0 | BH42: =IF($X42=$BH$34,1,0) -> 0 | BI42: =IF($X42=$BI$34,1,0) -> 0 | BJ42: =SUM(AX42:BI42) -> 0 | BK42: =COUNT(X42) -> 0 | BV42: =BV41+BU41 -> #NUM! | BX42: =ROUND(BX41,2) -> #NUM! | BZ42: =BZ41+1 -> 7 | CA42: 0.00061 | CB42: =AA121 -> 0 | CC42: =IF(CB42=1,(CB21+CA42),"X") -> X | CD42: =IF(CB42=1,X41,"X") -> X | CE42: =RANK(CC42,$CC$36:$CC$47,2) -> #VALUE! | CF42: =CF41+CB42 -> 1 | CG42: =SMALL($CC$36:$CC$47,CF42) -> #NUM! | CH42: =VLOOKUP(CG42,$CC$36:$CD$47,2,0) -> #NUM! | CI42: =IF(CB42=1,CH42,0) -> 0 | CJ42: =RANK(CG42,$CG$36:$CG$47,2) -> #NUM! | CK42: =CI42+CK43 -> 0 | CL42: =CI42 -> 0 | CM42: =ROUND(CG42,0) -> #NUM! | CN42: =IF(CK42>CN$35,0,CI42) -> 0 | CO42: =IF(CB42=1,CN42,"x") -> x | CP42: =IF(CO42=0,1,0) -> 0 | CQ42: =CP42+CQ43 -> 0 | CR42: =IF(CQ42=1,$CN$49,0) -> 0 | CS42: =CR42+CN42 -> 0 | CT42: =CS42*CM42 -> #NUM! | CU42: =IF(CK42>CU$35,0,CI42) -> 0 | CV42: =IF(CB42=1,CU42,"x") -> x | CW42: =IF(CV42=0,1,0) -> 0 | CX42: =CW42+CX43 -> 0 | CY42: =IF(CX42=1,$CU$49,0) -> 0 | CZ42: =CY42+CU42 -> 0 | DA42: =CZ42*CM42 -> #NUM! | DB42: =IF(CK42>DB$35,0,CI42) -> 0 | DC42: =IF(CB42=1,DB42,"x") -> x | DD42: =IF(DC42=0,1,0) -> 0 | DE42: =DD42+DE43 -> 0 | DF42: =IF(DE42=1,$DB$49,0) -> 0 | DG42: =DF42+DB42 -> 0 | DH42: =DG42*CM42 -> #NUM! | DI42: =IF(CK42>DI$35,0,CI42) -> 0 | DJ42: =IF(CB42=1,DI42,"x") -> x | DK42: =IF(DJ42=0,1,0) -> 0 | DL42: =DK42+DL43 -> 0 | DM42: =IF(DL42=1,$DB$49,0) -> 0 | DN42: =DM42+DI42 -> 0 | DO42: =DN42*CM42 -> #NUM! | DQ42: =DQ41+1 -> 7 | DR42: 0.00061 | DS42: =AH121 -> 0 | DT42: =IF(DS42=1,(DS21+DR42),"X") -> X | DU42: =IF(DS42=1,AE41,"X") -> X | DV42: =RANK(DT42,$DT$36:$DT$47,2) -> #VALUE! | DW42: =DW41+DS42 -> 1 | DX42: =SMALL($DT$36:$DT$47,DW42) -> #NUM! | DY42: =VLOOKUP(DX42,$DT$36:$DU$47,2,0) -> #NUM! | DZ42: =IF(DS42=1,DY42,0) -> 0 | EA42: =RANK(DX42,$DX$36:$DX$47,2) -> #NUM! | EB42: =DZ42+EB43 -> 0 | EC42: =DZ42 -> 0 | ED42: =ROUND(DX42,0) -> #NUM! | EE42: =IF($EB42>EE$35,0,$DZ42) -> 0 | EF42: =IF($DS42=1,EE42,"x") -> x | EG42: =IF(EF42=0,1,0) -> 0 | EH42: =EG42+EH43 -> 0 | EI42: =IF(EH42=1,EE49,0) -> 0 | EJ42: =EI42+EE42 -> 0 | EK42: =EJ42*$ED42 -> #NUM! | EL42: =IF($EB42>EL$35,0,$DZ42) -> 0 | EM42: =IF($DS42=1,EL42,"x") -> x | EN42: =IF(EM42=0,1,0) -> 0 | EO42: =EN42+EO43 -> 0 | EP42: =IF(EO42=1,EL49,0) -> 0 | EQ42: =EP42+EL42 -> 0 | ER42: =EQ42*$ED42 -> #NUM! | ES42: =IF($EB42>ES$35,0,$DZ42) -> 0 | ET42: =IF($DS42=1,ES42,"x") -> x | EU42: =IF(ET42=0,1,0) -> 0 | EV42: =EU42+EV43 -> 0 | EW42: =IF(EV42=1,ES49,0) -> 0 | EX42: =EW42+ES42 -> 0 | EY42: =EX42*$ED42 -> #NUM! | EZ42: =IF($EB42>EZ$35,0,$DZ42) -> 0 | FA42: =IF($DS42=1,EZ42,"x") -> x | FB42: =IF(FA42=0,1,0) -> 0 | FC42: =FB42+FC43 -> 0 | FD42: =IF(FC42=1,EZ49,0) -> 0 | FE42: =FD42+EZ42 -> 0 | FF42: =FE42*$ED42 -> #NUM! | FG42: =IF($EB42>FG$35,0,$DZ42) -> 0 | FH42: =IF($DS42=1,FG42,"x") -> x | FI42: =IF(FH42=0,1,0) -> 0 | FJ42: =FI42+FJ43 -> 0 | FK42: =IF(FJ42=1,FG49,0) -> 0 | FL42: =FK42+FG42 -> 0 | FM42: =FL42*$ED42 -> #NUM! | FN42: =IF($EB42>FN$35,0,$DZ42) -> 0 | FO42: =IF($DS42=1,FN42,"x") -> x | FP42: =IF(FO42=0,1,0) -> 0 | FQ42: =FP42+FQ43 -> 0 | FR42: =IF(FQ42=1,FN49,0) -> 0 | FS42: =FR42+FN42 -> 0 | FT42: =FS42*$ED42 -> #NUM! | FU42: =IF($EB42>FU$35,0,$DZ42) -> 0 | FV42: =IF($DS42=1,FU42,"x") -> x | FW42: =IF(FV42=0,1,0) -> 0 | FX42: =FW42+FX43 -> 0 | FY42: =IF(FX42=1,FU49,0) -> 0 | FZ42: =FY42+FU42 -> 0 | GA42: =FZ42*$ED42 -> #NUM! | GB42: =IF($EB42>GB$35,0,$DZ42) -> 0 | GC42: =IF($DS42=1,GB42,"x") -> x | GD42: =IF(GC42=0,1,0) -> 0 | GE42: =GD42+GE43 -> 0 | GF42: =IF(GE42=1,GB49,0) -> 0 | GG42: =GF42+GB42 -> 0 | GH42: =GG42*$ED42 -> #NUM! | GK42: 0.00061 | GL42: =AO121 -> 0 | GM42: =IF(GL42=1,(GL21+GK42),"X") -> X | GN42: =IF(GL42=1,AL41,"X") -> X | GO42: =RANK(GM42,$GM$36:$GM$47,2) -> #VALUE! | GP42: =GP41+GL42 -> 1 | GQ42: =SMALL($GM$36:$GM$47,GP42) -> #NUM! | GR42: =VLOOKUP(GQ42,$GM$36:$GN$47,2,0) -> #NUM! | GS42: =IF(GL42=1,GR42,0) -> 0 | GT42: =RANK(GQ42,$GQ$36:$GQ$47,2) -> #NUM! | GU42: =GS42+GU43 -> 0 | GV42: =GS42 -> 0 | GW42: =ROUND(GQ42,0) -> #NUM! | GX42: =IF($GU42>GX$35,0,$GS42) -> 0 | GY42: =IF($GL42=1,GX42,"x") -> x | GZ42: =IF(GY42=0,1,0) -> 0 | HA42: =GZ42+HA43 -> 0 | HB42: =IF(HA42=1,$GX$49,0) -> 0 | HC42: =HB42+GX42 -> 0 | HD42: =HC42*GW42 -> #NUM! | HE42: =IF(GU42>100,0,GS42) -> 0 | HF42: =IF(GL42=1,HE42,"x") -> x | HG42: =IF(HF42=0,1,0) -> 0 | HH42: =HG42+HH43 -> 0 | HI42: =IF(HH42=1,$HE$49,0) -> 0 | HJ42: =HI42+HE42 -> 0 | HK42: =HJ42*GW42 -> #NUM! | HL42: =IF(GU42>90,0,GS42) -> 0 | HM42: =IF(GL42=1,HL42,"x") -> x | HN42: =IF(HM42=0,1,0) -> 0 | HO42: =HN42+HO43 -> 0 | HP42: =IF(HO42=1,$HL$49,0) -> 0 | HQ42: =HP42+HL42 -> 0 | HR42: =HQ42*GW42 -> #NUM! | HS42: =IF($GU42>HS$35,0,$GS42) -> 0 | HT42: =IF(GL42=1,HS42,"x") -> x | HU42: =IF(HT42=0,1,0) -> 0 | HV42: =HU42+HV43 -> 0 | HW42: =IF(HV42=1,$HS$49,0) -> 0 | HX42: =HW42+HS42 -> 0 | HY42: =HX42*GW42 -> #NUM! | HZ42: =IF($GU42>HZ$35,0,$GS42) -> 0 | IA42: =IF(GL42=1,HZ42,"x") -> x | IB42: =IF(IA42=0,1,0) -> 0 | IC42: =IB42+IC43 -> 0 | ID42: =IF(IC42=1,$HZ$49,0) -> 0 | IE42: =ID42+HZ42 -> 0 | IF42: =IE42*GW42 -> #NUM! | IH42: =IF(HG42=1,GV42-HQ42,0) -> 0 | II42: =IF(HG42=1,GW42,0) -> 0 | IM42: =IM41+1 -> 8 | IN42: =AA122 -> 0 | IO42: =IF(IN42=1,JT42," ") | IP42: =IF(IR42>100,"??",IO42) | IQ42: =IF(IR42>100,1,0) -> 0 | IR42: =Y42 -> 0 | IS42: =IF(AND($IR42>=$IS$30,$IR42<$IT$30),IS$32,0) -> 1 | IT42: =IF(AND($IR42>=$IT$30,$IR42<$IU$30),IT$32,0) -> 0 | IU42: =IF(AND($IR42>=$IU$30,$IR42<$IV$30),IU$32,0) -> 0 | IV42: =IF(AND($IR42>=$IV$30,$IR42<$IW$30),IV$32,0) -> 0 | IW42: =IF(AND($IR42>=$IW$30,$IR42<$IX$30),IW$32,0) -> 0 | IX42: =IF(AND($IR42>=$IX$30,$IR42<$IY$30),IX$32,0) -> 0 | IY42: =IF(AND($IR42>=$IY$30,$IR42<$IZ$30),IY$32,0) -> 0 | IZ42: =IF(AND($IR42>=$IZ$30,$IR42<$JA$30),IZ$32,0) -> 0 | JA42: =IF(AND($IR42>=$JA$30,$IR42<$JB$30),JA$32,0) -> 0 | JB42: =IF(AND($IR42>=$JB$30,$IR42<$JC$30),JB$32,0) -> 0 | JC42: =IF(AND($IR42>=$JC$30,$IR42<$JD$30),JC$32,0) -> 0 | JD42: =IF(AND($IR42>=$JD$30,$IR42<$JE$30),JD$32,0) -> 0 | JE42: =IF(AND($IR42>=$JE$30,$IR42<$JF$30),JE$32,0) -> 0 | JF42: =IF(AND($IR42>=$JF$30,$IR42<$JG$30),JF$32,0) -> 0 | JG42: =IF(AND($IR42>=$JG$30,$IR42<$JH$30),JG$32,0) -> 0 | JH42: =IF(AND($IR42>=$JH$30,$IR42<$JI$30),JH$32,0) -> 0 | JI42: =IF(AND($IR42>=$JI$30,$IR42<$JJ$30),JI$32,0) -> 0 | JJ42: =IF(AND($IR42>=$JJ$30,$IR42<$JK$30),JJ$32,0) -> 0 | JK42: =IF(AND($IR42>=$JK$30,$IR42<$JL$30),JK$32,0) -> 0 | JL42: =IF(AND($IR42>=$JL$30,$IR42<$JM$30),JL$32,0) -> 0 | JM42: =IF(AND($IR42>=$JM$30,$IR42<$JN$30),JM$32,0) -> 0 | JN42: =IF(AND($IR42>=$JN$30,$IR42<$JO$30),JN$32,0) -> 0 | JO42: =IF(AND($IR42>=$JO$30,$IR42<$JP$30),JO$32,0) -> 0 | JP42: =IF(AND($IR42>=$JP$30,$IR42<$JQ$30),JP$32,0) -> 0 | JQ42: =IF(AND($IR42>=$JQ$30,$IR42<$JR$30),JQ$32,0) -> 0 | JR42: =IF(AND($IR42>=$JR$30,$IR42<$JS$30),JR$32,0) -> 0 | JS42: =SUM(IS42:JR42) -> 1 | JT42: =HLOOKUP(JS42,$IS$32:$JR$33,2,0) -> F | JV42: =IF(AND($IR42>=$JV$30,$IR42<$JW$30),JV$32,0) -> 1 | JW42: =IF(AND($IR42>=$JW$30,$IR42<$JX$30),JW$32,0) -> 0 | JX42: =IF(AND($IR42>=$JX$30,$IR42<$JY$30),JX$32,0) -> 0 | JY42: =IF(AND($IR42>=$JY$30,$IR42<$JZ$30),JY$32,0) -> 0 | JZ42: =IF(AND($IR42>=$JZ$30,$IR42<$KA$30),JZ$32,0) -> 0 | KA42: =IF(AND($IR42>=$KA$30,$IR42<$KB$30),KA$32,0) -> 0 | KB42: =SUM(JV42:KA42) -> 1 | KC42: =HLOOKUP(KB42,$JV$32:$KB$33,2,0) -> F | LA42: 70 | LC42: 7 | LD42: Y2 / Y3 | LE42: 25 - 75 | LF42: Aston, Manchester Met,
U43: =AY123 | Z43: =IP43 | AB43: =BA123 | AG43: =IP55 | AI43: =BC123 | AN43: =IP67 | AX43: =IF($X43=$AX$34,1,0) -> 0 | AY43: =IF($X43=$AY$34,1,0) -> 0 | AZ43: =IF($X43=$AZ$34,1,0) -> 0 | BA43: =IF($X43=$BA$34,1,0) -> 0 | BB43: =IF($X43=$BB$34,1,0) -> 0 | BC43: =IF($X43=$BC$34,1,0) -> 0 | BD43: =IF($X43=$BD$34,1,0) -> 0 | BE43: =IF($X43=$BE$34,1,0) -> 0 | BF43: =IF($X43=$BF$34,1,0) -> 0 | BG43: =IF($X43=$BG$34,1,0) -> 0 | BH43: =IF($X43=$BH$34,1,0) -> 0 | BI43: =IF($X43=$BI$34,1,0) -> 0 | BJ43: =SUM(AX43:BI43) -> 0 | BK43: =COUNT(X43) -> 0 | BX43: =BX42 -> #NUM! | BZ43: =BZ42+1 -> 8 | CA43: 0.00071 | CB43: =AA122 -> 0 | CC43: =IF(CB43=1,(CB22+CA43),"X") -> X | CD43: =IF(CB43=1,X42,"X") -> X | CE43: =RANK(CC43,$CC$36:$CC$47,2) -> #VALUE! | CF43: =CF42+CB43 -> 1 | CG43: =SMALL($CC$36:$CC$47,CF43) -> #NUM! | CH43: =VLOOKUP(CG43,$CC$36:$CD$47,2,0) -> #NUM! | CI43: =IF(CB43=1,CH43,0) -> 0 | CJ43: =RANK(CG43,$CG$36:$CG$47,2) -> #NUM! | CK43: =CI43+CK44 -> 0 | CL43: =CI43 -> 0 | CM43: =ROUND(CG43,0) -> #NUM! | CN43: =IF(CK43>CN$35,0,CI43) -> 0 | CO43: =IF(CB43=1,CN43,"x") -> x | CP43: =IF(CO43=0,1,0) -> 0 | CQ43: =CP43+CQ44 -> 0 | CR43: =IF(CQ43=1,$CN$49,0) -> 0 | CS43: =CR43+CN43 -> 0 | CT43: =CS43*CM43 -> #NUM! | CU43: =IF(CK43>CU$35,0,CI43) -> 0 | CV43: =IF(CB43=1,CU43,"x") -> x | CW43: =IF(CV43=0,1,0) -> 0 | CX43: =CW43+CX44 -> 0 | CY43: =IF(CX43=1,$CU$49,0) -> 0 | CZ43: =CY43+CU43 -> 0 | DA43: =CZ43*CM43 -> #NUM! | DB43: =IF(CK43>DB$35,0,CI43) -> 0 | DC43: =IF(CB43=1,DB43,"x") -> x | DD43: =IF(DC43=0,1,0) -> 0 | DE43: =DD43+DE44 -> 0 | DF43: =IF(DE43=1,$DB$49,0) -> 0 | DG43: =DF43+DB43 -> 0 | DH43: =DG43*CM43 -> #NUM! | DI43: =IF(CK43>DI$35,0,CI43) -> 0 | DJ43: =IF(CB43=1,DI43,"x") -> x | DK43: =IF(DJ43=0,1,0) -> 0 | DL43: =DK43+DL44 -> 0 | DM43: =IF(DL43=1,$DB$49,0) -> 0 | DN43: =DM43+DI43 -> 0 | DO43: =DN43*CM43 -> #NUM! | DQ43: =DQ42+1 -> 8 | DR43: 0.00071 | DS43: =AH122 -> 0 | DT43: =IF(DS43=1,(DS22+DR43),"X") -> X | DU43: =IF(DS43=1,AE42,"X") -> X | DV43: =RANK(DT43,$DT$36:$DT$47,2) -> #VALUE! | DW43: =DW42+DS43 -> 1 | DX43: =SMALL($DT$36:$DT$47,DW43) -> #NUM! | DY43: =VLOOKUP(DX43,$DT$36:$DU$47,2,0) -> #NUM! | DZ43: =IF(DS43=1,DY43,0) -> 0 | EA43: =RANK(DX43,$DX$36:$DX$47,2) -> #NUM! | EB43: =DZ43+EB44 -> 0 | EC43: =DZ43 -> 0 | ED43: =ROUND(DX43,0) -> #NUM! | EE43: =IF($EB43>EE$35,0,$DZ43) -> 0 | EF43: =IF($DS43=1,EE43,"x") -> x | EG43: =IF(EF43=0,1,0) -> 0 | EH43: =EG43+EH44 -> 0 | EI43: =IF(EH43=1,EE49,0) -> 0 | EJ43: =EI43+EE43 -> 0 | EK43: =EJ43*$ED43 -> #NUM! | EL43: =IF($EB43>EL$35,0,$DZ43) -> 0 | EM43: =IF($DS43=1,EL43,"x") -> x | EN43: =IF(EM43=0,1,0) -> 0 | EO43: =EN43+EO44 -> 0 | EP43: =IF(EO43=1,EL49,0) -> 0 | EQ43: =EP43+EL43 -> 0 | ER43: =EQ43*$ED43 -> #NUM! | ES43: =IF($EB43>ES$35,0,$DZ43) -> 0 | ET43: =IF($DS43=1,ES43,"x") -> x | EU43: =IF(ET43=0,1,0) -> 0 | EV43: =EU43+EV44 -> 0 | EW43: =IF(EV43=1,ES49,0) -> 0 | EX43: =EW43+ES43 -> 0 | EY43: =EX43*$ED43 -> #NUM! | EZ43: =IF($EB43>EZ$35,0,$DZ43) -> 0 | FA43: =IF($DS43=1,EZ43,"x") -> x | FB43: =IF(FA43=0,1,0) -> 0 | FC43: =FB43+FC44 -> 0 | FD43: =IF(FC43=1,EZ49,0) -> 0 | FE43: =FD43+EZ43 -> 0 | FF43: =FE43*$ED43 -> #NUM! | FG43: =IF($EB43>FG$35,0,$DZ43) -> 0 | FH43: =IF($DS43=1,FG43,"x") -> x | FI43: =IF(FH43=0,1,0) -> 0 | FJ43: =FI43+FJ44 -> 0 | FK43: =IF(FJ43=1,FG49,0) -> 0 | FL43: =FK43+FG43 -> 0 | FM43: =FL43*$ED43 -> #NUM! | FN43: =IF($EB43>FN$35,0,$DZ43) -> 0 | FO43: =IF($DS43=1,FN43,"x") -> x | FP43: =IF(FO43=0,1,0) -> 0 | FQ43: =FP43+FQ44 -> 0 | FR43: =IF(FQ43=1,FN49,0) -> 0 | FS43: =FR43+FN43 -> 0 | FT43: =FS43*$ED43 -> #NUM! | FU43: =IF($EB43>FU$35,0,$DZ43) -> 0 | FV43: =IF($DS43=1,FU43,"x") -> x | FW43: =IF(FV43=0,1,0) -> 0 | FX43: =FW43+FX44 -> 0 | FY43: =IF(FX43=1,FU49,0) -> 0 | FZ43: =FY43+FU43 -> 0 | GA43: =FZ43*$ED43 -> #NUM! | GB43: =IF($EB43>GB$35,0,$DZ43) -> 0 | GC43: =IF($DS43=1,GB43,"x") -> x | GD43: =IF(GC43=0,1,0) -> 0 | GE43: =GD43+GE44 -> 0 | GF43: =IF(GE43=1,GB49,0) -> 0 | GG43: =GF43+GB43 -> 0 | GH43: =GG43*$ED43 -> #NUM! | GK43: 0.00071 | GL43: =AO122 -> 0 | GM43: =IF(GL43=1,(GL22+GK43),"X") -> X | GN43: =IF(GL43=1,AL42,"X") -> X | GO43: =RANK(GM43,$GM$36:$GM$47,2) -> #VALUE! | GP43: =GP42+GL43 -> 1 | GQ43: =SMALL($GM$36:$GM$47,GP43) -> #NUM! | GR43: =VLOOKUP(GQ43,$GM$36:$GN$47,2,0) -> #NUM! | GS43: =IF(GL43=1,GR43,0) -> 0 | GT43: =RANK(GQ43,$GQ$36:$GQ$47,2) -> #NUM! | GU43: =GS43+GU44 -> 0 | GV43: =GS43 -> 0 | GW43: =ROUND(GQ43,0) -> #NUM! | GX43: =IF($GU43>GX$35,0,$GS43) -> 0 | GY43: =IF($GL43=1,GX43,"x") -> x | GZ43: =IF(GY43=0,1,0) -> 0 | HA43: =GZ43+HA44 -> 0 | HB43: =IF(HA43=1,$GX$49,0) -> 0 | HC43: =HB43+GX43 -> 0 | HD43: =HC43*GW43 -> #NUM! | HE43: =IF(GU43>100,0,GS43) -> 0 | HF43: =IF(GL43=1,HE43,"x") -> x | HG43: =IF(HF43=0,1,0) -> 0 | HH43: =HG43+HH44 -> 0 | HI43: =IF(HH43=1,$HE$49,0) -> 0 | HJ43: =HI43+HE43 -> 0 | HK43: =HJ43*GW43 -> #NUM! | HL43: =IF(GU43>90,0,GS43) -> 0 | HM43: =IF(GL43=1,HL43,"x") -> x | HN43: =IF(HM43=0,1,0) -> 0 | HO43: =HN43+HO44 -> 0 | HP43: =IF(HO43=1,$HL$49,0) -> 0 | HQ43: =HP43+HL43 -> 0 | HR43: =HQ43*GW43 -> #NUM! | HS43: =IF($GU43>HS$35,0,$GS43) -> 0 | HT43: =IF(GL43=1,HS43,"x") -> x | HU43: =IF(HT43=0,1,0) -> 0 | HV43: =HU43+HV44 -> 0 | HW43: =IF(HV43=1,$HS$49,0) -> 0 | HX43: =HW43+HS43 -> 0 | HY43: =HX43*GW43 -> #NUM! | HZ43: =IF($GU43>HZ$35,0,$GS43) -> 0 | IA43: =IF(GL43=1,HZ43,"x") -> x | IB43: =IF(IA43=0,1,0) -> 0 | IC43: =IB43+IC44 -> 0 | ID43: =IF(IC43=1,$HZ$49,0) -> 0 | IE43: =ID43+HZ43 -> 0 | IF43: =IE43*GW43 -> #NUM! | IH43: =IF(HG43=1,GV43-HQ43,0) -> 0 | II43: =IF(HG43=1,GW43,0) -> 0 | IM43: =IM42+1 -> 9 | IN43: =AA123 -> 0 | IO43: =IF(IN43=1,JT43," ") | IP43: =IF(IR43>100,"??",IO43) | IQ43: =IF(IR43>100,1,0) -> 0 | IR43: =Y43 -> 0 | IS43: =IF(AND($IR43>=$IS$30,$IR43<$IT$30),IS$32,0) -> 1 | IT43: =IF(AND($IR43>=$IT$30,$IR43<$IU$30),IT$32,0) -> 0 | IU43: =IF(AND($IR43>=$IU$30,$IR43<$IV$30),IU$32,0) -> 0 | IV43: =IF(AND($IR43>=$IV$30,$IR43<$IW$30),IV$32,0) -> 0 | IW43: =IF(AND($IR43>=$IW$30,$IR43<$IX$30),IW$32,0) -> 0 | IX43: =IF(AND($IR43>=$IX$30,$IR43<$IY$30),IX$32,0) -> 0 | IY43: =IF(AND($IR43>=$IY$30,$IR43<$IZ$30),IY$32,0) -> 0 | IZ43: =IF(AND($IR43>=$IZ$30,$IR43<$JA$30),IZ$32,0) -> 0 | JA43: =IF(AND($IR43>=$JA$30,$IR43<$JB$30),JA$32,0) -> 0 | JB43: =IF(AND($IR43>=$JB$30,$IR43<$JC$30),JB$32,0) -> 0 | JC43: =IF(AND($IR43>=$JC$30,$IR43<$JD$30),JC$32,0) -> 0 | JD43: =IF(AND($IR43>=$JD$30,$IR43<$JE$30),JD$32,0) -> 0 | JE43: =IF(AND($IR43>=$JE$30,$IR43<$JF$30),JE$32,0) -> 0 | JF43: =IF(AND($IR43>=$JF$30,$IR43<$JG$30),JF$32,0) -> 0 | JG43: =IF(AND($IR43>=$JG$30,$IR43<$JH$30),JG$32,0) -> 0 | JH43: =IF(AND($IR43>=$JH$30,$IR43<$JI$30),JH$32,0) -> 0 | JI43: =IF(AND($IR43>=$JI$30,$IR43<$JJ$30),JI$32,0) -> 0 | JJ43: =IF(AND($IR43>=$JJ$30,$IR43<$JK$30),JJ$32,0) -> 0 | JK43: =IF(AND($IR43>=$JK$30,$IR43<$JL$30),JK$32,0) -> 0 | JL43: =IF(AND($IR43>=$JL$30,$IR43<$JM$30),JL$32,0) -> 0 | JM43: =IF(AND($IR43>=$JM$30,$IR43<$JN$30),JM$32,0) -> 0 | JN43: =IF(AND($IR43>=$JN$30,$IR43<$JO$30),JN$32,0) -> 0 | JO43: =IF(AND($IR43>=$JO$30,$IR43<$JP$30),JO$32,0) -> 0 | JP43: =IF(AND($IR43>=$JP$30,$IR43<$JQ$30),JP$32,0) -> 0 | JQ43: =IF(AND($IR43>=$JQ$30,$IR43<$JR$30),JQ$32,0) -> 0 | JR43: =IF(AND($IR43>=$JR$30,$IR43<$JS$30),JR$32,0) -> 0 | JS43: =SUM(IS43:JR43) -> 1 | JT43: =HLOOKUP(JS43,$IS$32:$JR$33,2,0) -> F | JV43: =IF(AND($IR43>=$JV$30,$IR43<$JW$30),JV$32,0) -> 1 | JW43: =IF(AND($IR43>=$JW$30,$IR43<$JX$30),JW$32,0) -> 0 | JX43: =IF(AND($IR43>=$JX$30,$IR43<$JY$30),JX$32,0) -> 0 | JY43: =IF(AND($IR43>=$JY$30,$IR43<$JZ$30),JY$32,0) -> 0 | JZ43: =IF(AND($IR43>=$JZ$30,$IR43<$KA$30),JZ$32,0) -> 0 | KA43: =IF(AND($IR43>=$KA$30,$IR43<$KB$30),KA$32,0) -> 0 | KB43: =SUM(JV43:KA43) -> 1 | KC43: =HLOOKUP(KB43,$JV$32:$KB$33,2,0) -> F | LB43: 8 | LC43: Y2 / Y3 | LD43: 20 - 80 | LE43: Birmingham, Greenwich
U44: =AY124 | Z44: =IP44 | AB44: =BA124 | AG44: =IP56 | AI44: =BC124 | AN44: =IP68 | AX44: =IF($X44=$AX$34,1,0) -> 0 | AY44: =IF($X44=$AY$34,1,0) -> 0 | AZ44: =IF($X44=$AZ$34,1,0) -> 0 | BA44: =IF($X44=$BA$34,1,0) -> 0 | BB44: =IF($X44=$BB$34,1,0) -> 0 | BC44: =IF($X44=$BC$34,1,0) -> 0 | BD44: =IF($X44=$BD$34,1,0) -> 0 | BE44: =IF($X44=$BE$34,1,0) -> 0 | BF44: =IF($X44=$BF$34,1,0) -> 0 | BG44: =IF($X44=$BG$34,1,0) -> 0 | BH44: =IF($X44=$BH$34,1,0) -> 0 | BI44: =IF($X44=$BI$34,1,0) -> 0 | BJ44: =SUM(AX44:BI44) -> 0 | BK44: =COUNT(X44) -> 0 | BZ44: =BZ43+1 -> 9 | CA44: 0.00081 | CB44: =AA123 -> 0 | CC44: =IF(CB44=1,(CB23+CA44),"X") -> X | CD44: =IF(CB44=1,X43,"X") -> X | CE44: =RANK(CC44,$CC$36:$CC$47,2) -> #VALUE! | CF44: =CF43+CB44 -> 1 | CG44: =SMALL($CC$36:$CC$47,CF44) -> #NUM! | CH44: =VLOOKUP(CG44,$CC$36:$CD$47,2,0) -> #NUM! | CI44: =IF(CB44=1,CH44,0) -> 0 | CJ44: =RANK(CG44,$CG$36:$CG$47,2) -> #NUM! | CK44: =CI44+CK45 -> 0 | CL44: =CI44 -> 0 | CM44: =ROUND(CG44,0) -> #NUM! | CN44: =IF(CK44>CN$35,0,CI44) -> 0 | CO44: =IF(CB44=1,CN44,"x") -> x | CP44: =IF(CO44=0,1,0) -> 0 | CQ44: =CP44+CQ45 -> 0 | CR44: =IF(CQ44=1,$CN$49,0) -> 0 | CS44: =CR44+CN44 -> 0 | CT44: =CS44*CM44 -> #NUM! | CU44: =IF(CK44>CU$35,0,CI44) -> 0 | CV44: =IF(CB44=1,CU44,"x") -> x | CW44: =IF(CV44=0,1,0) -> 0 | CX44: =CW44+CX45 -> 0 | CY44: =IF(CX44=1,$CU$49,0) -> 0 | CZ44: =CY44+CU44 -> 0 | DA44: =CZ44*CM44 -> #NUM! | DB44: =IF(CK44>DB$35,0,CI44) -> 0 | DC44: =IF(CB44=1,DB44,"x") -> x | DD44: =IF(DC44=0,1,0) -> 0 | DE44: =DD44+DE45 -> 0 | DF44: =IF(DE44=1,$DB$49,0) -> 0 | DG44: =DF44+DB44 -> 0 | DH44: =DG44*CM44 -> #NUM! | DI44: =IF(CK44>DI$35,0,CI44) -> 0 | DJ44: =IF(CB44=1,DI44,"x") -> x | DK44: =IF(DJ44=0,1,0) -> 0 | DL44: =DK44+DL45 -> 0 | DM44: =IF(DL44=1,$DB$49,0) -> 0 | DN44: =DM44+DI44 -> 0 | DO44: =DN44*CM44 -> #NUM! | DQ44: =DQ43+1 -> 9 | DR44: 0.00081 | DS44: =AH123 -> 0 | DT44: =IF(DS44=1,(DS23+DR44),"X") -> X | DU44: =IF(DS44=1,AE43,"X") -> X | DV44: =RANK(DT44,$DT$36:$DT$47,2) -> #VALUE! | DW44: =DW43+DS44 -> 1 | DX44: =SMALL($DT$36:$DT$47,DW44) -> #NUM! | DY44: =VLOOKUP(DX44,$DT$36:$DU$47,2,0) -> #NUM! | DZ44: =IF(DS44=1,DY44,0) -> 0 | EA44: =RANK(DX44,$DX$36:$DX$47,2) -> #NUM! | EB44: =DZ44+EB45 -> 0 | EC44: =DZ44 -> 0 | ED44: =ROUND(DX44,0) -> #NUM! | EE44: =IF($EB44>EE$35,0,$DZ44) -> 0 | EF44: =IF($DS44=1,EE44,"x") -> x | EG44: =IF(EF44=0,1,0) -> 0 | EH44: =EG44+EH45 -> 0 | EI44: =IF(EH44=1,EE49,0) -> 0 | EJ44: =EI44+EE44 -> 0 | EK44: =EJ44*$ED44 -> #NUM! | EL44: =IF($EB44>EL$35,0,$DZ44) -> 0 | EM44: =IF($DS44=1,EL44,"x") -> x | EN44: =IF(EM44=0,1,0) -> 0 | EO44: =EN44+EO45 -> 0 | EP44: =IF(EO44=1,EL49,0) -> 0 | EQ44: =EP44+EL44 -> 0 | ER44: =EQ44*$ED44 -> #NUM! | ES44: =IF($EB44>ES$35,0,$DZ44) -> 0 | ET44: =IF($DS44=1,ES44,"x") -> x | EU44: =IF(ET44=0,1,0) -> 0 | EV44: =EU44+EV45 -> 0 | EW44: =IF(EV44=1,ES49,0) -> 0 | EX44: =EW44+ES44 -> 0 | EY44: =EX44*$ED44 -> #NUM! | EZ44: =IF($EB44>EZ$35,0,$DZ44) -> 0 | FA44: =IF($DS44=1,EZ44,"x") -> x | FB44: =IF(FA44=0,1,0) -> 0 | FC44: =FB44+FC45 -> 0 | FD44: =IF(FC44=1,EZ49,0) -> 0 | FE44: =FD44+EZ44 -> 0 | FF44: =FE44*$ED44 -> #NUM! | FG44: =IF($EB44>FG$35,0,$DZ44) -> 0 | FH44: =IF($DS44=1,FG44,"x") -> x | FI44: =IF(FH44=0,1,0) -> 0 | FJ44: =FI44+FJ45 -> 0 | FK44: =IF(FJ44=1,FG49,0) -> 0 | FL44: =FK44+FG44 -> 0 | FM44: =FL44*$ED44 -> #NUM! | FN44: =IF($EB44>FN$35,0,$DZ44) -> 0 | FO44: =IF($DS44=1,FN44,"x") -> x | FP44: =IF(FO44=0,1,0) -> 0 | FQ44: =FP44+FQ45 -> 0 | FR44: =IF(FQ44=1,FN49,0) -> 0 | FS44: =FR44+FN44 -> 0 | FT44: =FS44*$ED44 -> #NUM! | FU44: =IF($EB44>FU$35,0,$DZ44) -> 0 | FV44: =IF($DS44=1,FU44,"x") -> x | FW44: =IF(FV44=0,1,0) -> 0 | FX44: =FW44+FX45 -> 0 | FY44: =IF(FX44=1,FU49,0) -> 0 | FZ44: =FY44+FU44 -> 0 | GA44: =FZ44*$ED44 -> #NUM! | GB44: =IF($EB44>GB$35,0,$DZ44) -> 0 | GC44: =IF($DS44=1,GB44,"x") -> x | GD44: =IF(GC44=0,1,0) -> 0 | GE44: =GD44+GE45 -> 0 | GF44: =IF(GE44=1,GB49,0) -> 0 | GG44: =GF44+GB44 -> 0 | GH44: =GG44*$ED44 -> #NUM! | GK44: 0.00081 | GL44: =AO123 -> 0 | GM44: =IF(GL44=1,(GL23+GK44),"X") -> X | GN44: =IF(GL44=1,AL43,"X") -> X | GO44: =RANK(GM44,$GM$36:$GM$47,2) -> #VALUE! | GP44: =GP43+GL44 -> 1 | GQ44: =SMALL($GM$36:$GM$47,GP44) -> #NUM! | GR44: =VLOOKUP(GQ44,$GM$36:$GN$47,2,0) -> #NUM! | GS44: =IF(GL44=1,GR44,0) -> 0 | GT44: =RANK(GQ44,$GQ$36:$GQ$47,2) -> #NUM! | GU44: =GS44+GU45 -> 0 | GV44: =GS44 -> 0 | GW44: =ROUND(GQ44,0) -> #NUM! | GX44: =IF($GU44>GX$35,0,$GS44) -> 0 | GY44: =IF($GL44=1,GX44,"x") -> x | GZ44: =IF(GY44=0,1,0) -> 0 | HA44: =GZ44+HA45 -> 0 | HB44: =IF(HA44=1,$GX$49,0) -> 0 | HC44: =HB44+GX44 -> 0 | HD44: =HC44*GW44 -> #NUM! | HE44: =IF(GU44>100,0,GS44) -> 0 | HF44: =IF(GL44=1,HE44,"x") -> x | HG44: =IF(HF44=0,1,0) -> 0 | HH44: =HG44+HH45 -> 0 | HI44: =IF(HH44=1,$HE$49,0) -> 0 | HJ44: =HI44+HE44 -> 0 | HK44: =HJ44*GW44 -> #NUM! | HL44: =IF(GU44>90,0,GS44) -> 0 | HM44: =IF(GL44=1,HL44,"x") -> x | HN44: =IF(HM44=0,1,0) -> 0 | HO44: =HN44+HO45 -> 0 | HP44: =IF(HO44=1,$HL$49,0) -> 0 | HQ44: =HP44+HL44 -> 0 | HR44: =HQ44*GW44 -> #NUM! | HS44: =IF($GU44>HS$35,0,$GS44) -> 0 | HT44: =IF(GL44=1,HS44,"x") -> x | HU44: =IF(HT44=0,1,0) -> 0 | HV44: =HU44+HV45 -> 0 | HW44: =IF(HV44=1,$HS$49,0) -> 0 | HX44: =HW44+HS44 -> 0 | HY44: =HX44*GW44 -> #NUM! | HZ44: =IF($GU44>HZ$35,0,$GS44) -> 0 | IA44: =IF(GL44=1,HZ44,"x") -> x | IB44: =IF(IA44=0,1,0) -> 0 | IC44: =IB44+IC45 -> 0 | ID44: =IF(IC44=1,$HZ$49,0) -> 0 | IE44: =ID44+HZ44 -> 0 | IF44: =IE44*GW44 -> #NUM! | IH44: =IF(HG44=1,GV44-HQ44,0) -> 0 | II44: =IF(HG44=1,GW44,0) -> 0 | IM44: =IM43+1 -> 10 | IN44: =AA124 -> 0 | IO44: =IF(IN44=1,JT44," ") | IP44: =IF(IR44>100,"??",IO44) | IQ44: =IF(IR44>100,1,0) -> 0 | IR44: =Y44 -> 0 | IS44: =IF(AND($IR44>=$IS$30,$IR44<$IT$30),IS$32,0) -> 1 | IT44: =IF(AND($IR44>=$IT$30,$IR44<$IU$30),IT$32,0) -> 0 | IU44: =IF(AND($IR44>=$IU$30,$IR44<$IV$30),IU$32,0) -> 0 | IV44: =IF(AND($IR44>=$IV$30,$IR44<$IW$30),IV$32,0) -> 0 | IW44: =IF(AND($IR44>=$IW$30,$IR44<$IX$30),IW$32,0) -> 0 | IX44: =IF(AND($IR44>=$IX$30,$IR44<$IY$30),IX$32,0) -> 0 | IY44: =IF(AND($IR44>=$IY$30,$IR44<$IZ$30),IY$32,0) -> 0 | IZ44: =IF(AND($IR44>=$IZ$30,$IR44<$JA$30),IZ$32,0) -> 0 | JA44: =IF(AND($IR44>=$JA$30,$IR44<$JB$30),JA$32,0) -> 0 | JB44: =IF(AND($IR44>=$JB$30,$IR44<$JC$30),JB$32,0) -> 0 | JC44: =IF(AND($IR44>=$JC$30,$IR44<$JD$30),JC$32,0) -> 0 | JD44: =IF(AND($IR44>=$JD$30,$IR44<$JE$30),JD$32,0) -> 0 | JE44: =IF(AND($IR44>=$JE$30,$IR44<$JF$30),JE$32,0) -> 0 | JF44: =IF(AND($IR44>=$JF$30,$IR44<$JG$30),JF$32,0) -> 0 | JG44: =IF(AND($IR44>=$JG$30,$IR44<$JH$30),JG$32,0) -> 0 | JH44: =IF(AND($IR44>=$JH$30,$IR44<$JI$30),JH$32,0) -> 0 | JI44: =IF(AND($IR44>=$JI$30,$IR44<$JJ$30),JI$32,0) -> 0 | JJ44: =IF(AND($IR44>=$JJ$30,$IR44<$JK$30),JJ$32,0) -> 0 | JK44: =IF(AND($IR44>=$JK$30,$IR44<$JL$30),JK$32,0) -> 0 | JL44: =IF(AND($IR44>=$JL$30,$IR44<$JM$30),JL$32,0) -> 0 | JM44: =IF(AND($IR44>=$JM$30,$IR44<$JN$30),JM$32,0) -> 0 | JN44: =IF(AND($IR44>=$JN$30,$IR44<$JO$30),JN$32,0) -> 0 | JO44: =IF(AND($IR44>=$JO$30,$IR44<$JP$30),JO$32,0) -> 0 | JP44: =IF(AND($IR44>=$JP$30,$IR44<$JQ$30),JP$32,0) -> 0 | JQ44: =IF(AND($IR44>=$JQ$30,$IR44<$JR$30),JQ$32,0) -> 0 | JR44: =IF(AND($IR44>=$JR$30,$IR44<$JS$30),JR$32,0) -> 0 | JS44: =SUM(IS44:JR44) -> 1 | JT44: =HLOOKUP(JS44,$IS$32:$JR$33,2,0) -> F | JV44: =IF(AND($IR44>=$JV$30,$IR44<$JW$30),JV$32,0) -> 1 | JW44: =IF(AND($IR44>=$JW$30,$IR44<$JX$30),JW$32,0) -> 0 | JX44: =IF(AND($IR44>=$JX$30,$IR44<$JY$30),JX$32,0) -> 0 | JY44: =IF(AND($IR44>=$JY$30,$IR44<$JZ$30),JY$32,0) -> 0 | JZ44: =IF(AND($IR44>=$JZ$30,$IR44<$KA$30),JZ$32,0) -> 0 | KA44: =IF(AND($IR44>=$KA$30,$IR44<$KB$30),KA$32,0) -> 0 | KB44: =SUM(JV44:KA44) -> 1 | KC44: =HLOOKUP(KB44,$JV$32:$KB$33,2,0) -> F | LB44: 20 CREDITS DISCOUNTED PER YEAR [200 credits in total]
U45: =AY125 | Z45: =IP45 | AB45: =BA125 | AG45: =IP57 | AI45: =BC125 | AN45: =IP69 | AX45: =IF($X45=$AX$34,1,0) -> 0 | AY45: =IF($X45=$AY$34,1,0) -> 0 | AZ45: =IF($X45=$AZ$34,1,0) -> 0 | BA45: =IF($X45=$BA$34,1,0) -> 0 | BB45: =IF($X45=$BB$34,1,0) -> 0 | BC45: =IF($X45=$BC$34,1,0) -> 0 | BD45: =IF($X45=$BD$34,1,0) -> 0 | BE45: =IF($X45=$BE$34,1,0) -> 0 | BF45: =IF($X45=$BF$34,1,0) -> 0 | BG45: =IF($X45=$BG$34,1,0) -> 0 | BH45: =IF($X45=$BH$34,1,0) -> 0 | BI45: =IF($X45=$BI$34,1,0) -> 0 | BJ45: =SUM(AX45:BI45) -> 0 | BK45: =COUNT(X45) -> 0 | BZ45: =BZ44+1 -> 10 | CA45: 0.00091 | CB45: =AA124 -> 0 | CC45: =IF(CB45=1,(CB24+CA45),"X") -> X | CD45: =IF(CB45=1,X44,"X") -> X | CE45: =RANK(CC45,$CC$36:$CC$47,2) -> #VALUE! | CF45: =CF44+CB45 -> 1 | CG45: =SMALL($CC$36:$CC$47,CF45) -> #NUM! | CH45: =VLOOKUP(CG45,$CC$36:$CD$47,2,0) -> #NUM! | CI45: =IF(CB45=1,CH45,0) -> 0 | CJ45: =RANK(CG45,$CG$36:$CG$47,2) -> #NUM! | CK45: =CI45+CK46 -> 0 | CL45: =CI45 -> 0 | CM45: =ROUND(CG45,0) -> #NUM! | CN45: =IF(CK45>CN$35,0,CI45) -> 0 | CO45: =IF(CB45=1,CN45,"x") -> x | CP45: =IF(CO45=0,1,0) -> 0 | CQ45: =CP45+CQ46 -> 0 | CR45: =IF(CQ45=1,$CN$49,0) -> 0 | CS45: =CR45+CN45 -> 0 | CT45: =CS45*CM45 -> #NUM! | CU45: =IF(CK45>CU$35,0,CI45) -> 0 | CV45: =IF(CB45=1,CU45,"x") -> x | CW45: =IF(CV45=0,1,0) -> 0 | CX45: =CW45+CX46 -> 0 | CY45: =IF(CX45=1,$CU$49,0) -> 0 | CZ45: =CY45+CU45 -> 0 | DA45: =CZ45*CM45 -> #NUM! | DB45: =IF(CK45>DB$35,0,CI45) -> 0 | DC45: =IF(CB45=1,DB45,"x") -> x | DD45: =IF(DC45=0,1,0) -> 0 | DE45: =DD45+DE46 -> 0 | DF45: =IF(DE45=1,$DB$49,0) -> 0 | DG45: =DF45+DB45 -> 0 | DH45: =DG45*CM45 -> #NUM! | DI45: =IF(CK45>DI$35,0,CI45) -> 0 | DJ45: =IF(CB45=1,DI45,"x") -> x | DK45: =IF(DJ45=0,1,0) -> 0 | DL45: =DK45+DL46 -> 0 | DM45: =IF(DL45=1,$DB$49,0) -> 0 | DN45: =DM45+DI45 -> 0 | DO45: =DN45*CM45 -> #NUM! | DQ45: =DQ44+1 -> 10 | DR45: 0.00091 | DS45: =AH124 -> 0 | DT45: =IF(DS45=1,(DS24+DR45),"X") -> X | DU45: =IF(DS45=1,AE44,"X") -> X | DV45: =RANK(DT45,$DT$36:$DT$47,2) -> #VALUE! | DW45: =DW44+DS45 -> 1 | DX45: =SMALL($DT$36:$DT$47,DW45) -> #NUM! | DY45: =VLOOKUP(DX45,$DT$36:$DU$47,2,0) -> #NUM! | DZ45: =IF(DS45=1,DY45,0) -> 0 | EA45: =RANK(DX45,$DX$36:$DX$47,2) -> #NUM! | EB45: =DZ45+EB46 -> 0 | EC45: =DZ45 -> 0 | ED45: =ROUND(DX45,0) -> #NUM! | EE45: =IF($EB45>EE$35,0,$DZ45) -> 0 | EF45: =IF($DS45=1,EE45,"x") -> x | EG45: =IF(EF45=0,1,0) -> 0 | EH45: =EG45+EH46 -> 0 | EI45: =IF(EH45=1,EE49,0) -> 0 | EJ45: =EI45+EE45 -> 0 | EK45: =EJ45*$ED45 -> #NUM! | EL45: =IF($EB45>EL$35,0,$DZ45) -> 0 | EM45: =IF($DS45=1,EL45,"x") -> x | EN45: =IF(EM45=0,1,0) -> 0 | EO45: =EN45+EO46 -> 0 | EP45: =IF(EO45=1,EL49,0) -> 0 | EQ45: =EP45+EL45 -> 0 | ER45: =EQ45*$ED45 -> #NUM! | ES45: =IF($EB45>ES$35,0,$DZ45) -> 0 | ET45: =IF($DS45=1,ES45,"x") -> x | EU45: =IF(ET45=0,1,0) -> 0 | EV45: =EU45+EV46 -> 0 | EW45: =IF(EV45=1,ES49,0) -> 0 | EX45: =EW45+ES45 -> 0 | EY45: =EX45*$ED45 -> #NUM! | EZ45: =IF($EB45>EZ$35,0,$DZ45) -> 0 | FA45: =IF($DS45=1,EZ45,"x") -> x | FB45: =IF(FA45=0,1,0) -> 0 | FC45: =FB45+FC46 -> 0 | FD45: =IF(FC45=1,EZ49,0) -> 0 | FE45: =FD45+EZ45 -> 0 | FF45: =FE45*$ED45 -> #NUM! | FG45: =IF($EB45>FG$35,0,$DZ45) -> 0 | FH45: =IF($DS45=1,FG45,"x") -> x | FI45: =IF(FH45=0,1,0) -> 0 | FJ45: =FI45+FJ46 -> 0 | FK45: =IF(FJ45=1,FG49,0) -> 0 | FL45: =FK45+FG45 -> 0 | FM45: =FL45*$ED45 -> #NUM! | FN45: =IF($EB45>FN$35,0,$DZ45) -> 0 | FO45: =IF($DS45=1,FN45,"x") -> x | FP45: =IF(FO45=0,1,0) -> 0 | FQ45: =FP45+FQ46 -> 0 | FR45: =IF(FQ45=1,FN49,0) -> 0 | FS45: =FR45+FN45 -> 0 | FT45: =FS45*$ED45 -> #NUM! | FU45: =IF($EB45>FU$35,0,$DZ45) -> 0 | FV45: =IF($DS45=1,FU45,"x") -> x | FW45: =IF(FV45=0,1,0) -> 0 | FX45: =FW45+FX46 -> 0 | FY45: =IF(FX45=1,FU49,0) -> 0 | FZ45: =FY45+FU45 -> 0 | GA45: =FZ45*$ED45 -> #NUM! | GB45: =IF($EB45>GB$35,0,$DZ45) -> 0 | GC45: =IF($DS45=1,GB45,"x") -> x | GD45: =IF(GC45=0,1,0) -> 0 | GE45: =GD45+GE46 -> 0 | GF45: =IF(GE45=1,GB49,0) -> 0 | GG45: =GF45+GB45 -> 0 | GH45: =GG45*$ED45 -> #NUM! | GK45: 0.00091 | GL45: =AO124 -> 0 | GM45: =IF(GL45=1,(GL24+GK45),"X") -> X | GN45: =IF(GL45=1,AL44,"X") -> X | GO45: =RANK(GM45,$GM$36:$GM$47,2) -> #VALUE! | GP45: =GP44+GL45 -> 1 | GQ45: =SMALL($GM$36:$GM$47,GP45) -> #NUM! | GR45: =VLOOKUP(GQ45,$GM$36:$GN$47,2,0) -> #NUM! | GS45: =IF(GL45=1,GR45,0) -> 0 | GT45: =RANK(GQ45,$GQ$36:$GQ$47,2) -> #NUM! | GU45: =GS45+GU46 -> 0 | GV45: =GS45 -> 0 | GW45: =ROUND(GQ45,0) -> #NUM! | GX45: =IF($GU45>GX$35,0,$GS45) -> 0 | GY45: =IF($GL45=1,GX45,"x") -> x | GZ45: =IF(GY45=0,1,0) -> 0 | HA45: =GZ45+HA46 -> 0 | HB45: =IF(HA45=1,$GX$49,0) -> 0 | HC45: =HB45+GX45 -> 0 | HD45: =HC45*GW45 -> #NUM! | HE45: =IF(GU45>100,0,GS45) -> 0 | HF45: =IF(GL45=1,HE45,"x") -> x | HG45: =IF(HF45=0,1,0) -> 0 | HH45: =HG45+HH46 -> 0 | HI45: =IF(HH45=1,$HE$49,0) -> 0 | HJ45: =HI45+HE45 -> 0 | HK45: =HJ45*GW45 -> #NUM! | HL45: =IF(GU45>90,0,GS45) -> 0 | HM45: =IF(GL45=1,HL45,"x") -> x | HN45: =IF(HM45=0,1,0) -> 0 | HO45: =HN45+HO46 -> 0 | HP45: =IF(HO45=1,$HL$49,0) -> 0 | HQ45: =HP45+HL45 -> 0 | HR45: =HQ45*GW45 -> #NUM! | HS45: =IF($GU45>HS$35,0,$GS45) -> 0 | HT45: =IF(GL45=1,HS45,"x") -> x | HU45: =IF(HT45=0,1,0) -> 0 | HV45: =HU45+HV46 -> 0 | HW45: =IF(HV45=1,$HS$49,0) -> 0 | HX45: =HW45+HS45 -> 0 | HY45: =HX45*GW45 -> #NUM! | HZ45: =IF($GU45>HZ$35,0,$GS45) -> 0 | IA45: =IF(GL45=1,HZ45,"x") -> x | IB45: =IF(IA45=0,1,0) -> 0 | IC45: =IB45+IC46 -> 0 | ID45: =IF(IC45=1,$HZ$49,0) -> 0 | IE45: =ID45+HZ45 -> 0 | IF45: =IE45*GW45 -> #NUM! | IH45: =IF(HG45=1,GV45-HQ45,0) -> 0 | II45: =IF(HG45=1,GW45,0) -> 0 | IM45: =IM44+1 -> 11 | IN45: =AA125 -> 0 | IO45: =IF(IN45=1,JT45," ") | IP45: =IF(IR45>100,"??",IO45) | IQ45: =IF(IR45>100,1,0) -> 0 | IR45: =Y45 -> 0 | IS45: =IF(AND($IR45>=$IS$30,$IR45<$IT$30),IS$32,0) -> 1 | IT45: =IF(AND($IR45>=$IT$30,$IR45<$IU$30),IT$32,0) -> 0 | IU45: =IF(AND($IR45>=$IU$30,$IR45<$IV$30),IU$32,0) -> 0 | IV45: =IF(AND($IR45>=$IV$30,$IR45<$IW$30),IV$32,0) -> 0 | IW45: =IF(AND($IR45>=$IW$30,$IR45<$IX$30),IW$32,0) -> 0 | IX45: =IF(AND($IR45>=$IX$30,$IR45<$IY$30),IX$32,0) -> 0 | IY45: =IF(AND($IR45>=$IY$30,$IR45<$IZ$30),IY$32,0) -> 0 | IZ45: =IF(AND($IR45>=$IZ$30,$IR45<$JA$30),IZ$32,0) -> 0 | JA45: =IF(AND($IR45>=$JA$30,$IR45<$JB$30),JA$32,0) -> 0 | JB45: =IF(AND($IR45>=$JB$30,$IR45<$JC$30),JB$32,0) -> 0 | JC45: =IF(AND($IR45>=$JC$30,$IR45<$JD$30),JC$32,0) -> 0 | JD45: =IF(AND($IR45>=$JD$30,$IR45<$JE$30),JD$32,0) -> 0 | JE45: =IF(AND($IR45>=$JE$30,$IR45<$JF$30),JE$32,0) -> 0 | JF45: =IF(AND($IR45>=$JF$30,$IR45<$JG$30),JF$32,0) -> 0 | JG45: =IF(AND($IR45>=$JG$30,$IR45<$JH$30),JG$32,0) -> 0 | JH45: =IF(AND($IR45>=$JH$30,$IR45<$JI$30),JH$32,0) -> 0 | JI45: =IF(AND($IR45>=$JI$30,$IR45<$JJ$30),JI$32,0) -> 0 | JJ45: =IF(AND($IR45>=$JJ$30,$IR45<$JK$30),JJ$32,0) -> 0 | JK45: =IF(AND($IR45>=$JK$30,$IR45<$JL$30),JK$32,0) -> 0 | JL45: =IF(AND($IR45>=$JL$30,$IR45<$JM$30),JL$32,0) -> 0 | JM45: =IF(AND($IR45>=$JM$30,$IR45<$JN$30),JM$32,0) -> 0 | JN45: =IF(AND($IR45>=$JN$30,$IR45<$JO$30),JN$32,0) -> 0 | JO45: =IF(AND($IR45>=$JO$30,$IR45<$JP$30),JO$32,0) -> 0 | JP45: =IF(AND($IR45>=$JP$30,$IR45<$JQ$30),JP$32,0) -> 0 | JQ45: =IF(AND($IR45>=$JQ$30,$IR45<$JR$30),JQ$32,0) -> 0 | JR45: =IF(AND($IR45>=$JR$30,$IR45<$JS$30),JR$32,0) -> 0 | JS45: =SUM(IS45:JR45) -> 1 | JT45: =HLOOKUP(JS45,$IS$32:$JR$33,2,0) -> F | JV45: =IF(AND($IR45>=$JV$30,$IR45<$JW$30),JV$32,0) -> 1 | JW45: =IF(AND($IR45>=$JW$30,$IR45<$JX$30),JW$32,0) -> 0 | JX45: =IF(AND($IR45>=$JX$30,$IR45<$JY$30),JX$32,0) -> 0 | JY45: =IF(AND($IR45>=$JY$30,$IR45<$JZ$30),JY$32,0) -> 0 | JZ45: =IF(AND($IR45>=$JZ$30,$IR45<$KA$30),JZ$32,0) -> 0 | KA45: =IF(AND($IR45>=$KA$30,$IR45<$KB$30),KA$32,0) -> 0 | KB45: =SUM(JV45:KA45) -> 1 | KC45: =HLOOKUP(KB45,$JV$32:$KB$33,2,0) -> F | LB45: 9 | LC45: Y2 / Y3 | LD45: 50 - 50 | LE45: Canterbury Christ Church, Portsmouth
U46: =AY126 | Z46: =IP46 | AB46: =BA126 | AG46: =IP58 | AI46: =BC126 | AN46: =IP70 | AX46: =IF($X46=$AX$34,1,0) -> 0 | AY46: =IF($X46=$AY$34,1,0) -> 0 | AZ46: =IF($X46=$AZ$34,1,0) -> 0 | BA46: =IF($X46=$BA$34,1,0) -> 0 | BB46: =IF($X46=$BB$34,1,0) -> 0 | BC46: =IF($X46=$BC$34,1,0) -> 0 | BD46: =IF($X46=$BD$34,1,0) -> 0 | BE46: =IF($X46=$BE$34,1,0) -> 0 | BF46: =IF($X46=$BF$34,1,0) -> 0 | BG46: =IF($X46=$BG$34,1,0) -> 0 | BH46: =IF($X46=$BH$34,1,0) -> 0 | BI46: =IF($X46=$BI$34,1,0) -> 0 | BJ46: =SUM(AX46:BI46) -> 0 | BK46: =COUNT(X46) -> 0 | BZ46: =BZ45+1 -> 11 | CA46: 0.00101 | CB46: =AA125 -> 0 | CC46: =IF(CB46=1,(CB27+CA46),"X") -> X | CD46: =IF(CB46=1,X45,"X") -> X | CE46: =RANK(CC46,$CC$36:$CC$47,2) -> #VALUE! | CF46: =CF45+CB46 -> 1 | CG46: =SMALL($CC$36:$CC$47,CF46) -> #NUM! | CH46: =VLOOKUP(CG46,$CC$36:$CD$47,2,0) -> #NUM! | CI46: =IF(CB46=1,CH46,0) -> 0 | CJ46: =RANK(CG46,$CG$36:$CG$47,2) -> #NUM! | CK46: =CI46+CK47 -> 0 | CL46: =CI46 -> 0 | CM46: =ROUND(CG46,0) -> #NUM! | CN46: =IF(CK46>CN$35,0,CI46) -> 0 | CO46: =IF(CB46=1,CN46,"x") -> x | CP46: =IF(CO46=0,1,0) -> 0 | CQ46: =CP46+CQ47 -> 0 | CR46: =IF(CQ46=1,$CN$49,0) -> 0 | CS46: =CR46+CN46 -> 0 | CT46: =CS46*CM46 -> #NUM! | CU46: =IF(CK46>CU$35,0,CI46) -> 0 | CV46: =IF(CB46=1,CU46,"x") -> x | CW46: =IF(CV46=0,1,0) -> 0 | CX46: =CW46+CX47 -> 0 | CY46: =IF(CX46=1,$CU$49,0) -> 0 | CZ46: =CY46+CU46 -> 0 | DA46: =CZ46*CM46 -> #NUM! | DB46: =IF(CK46>DB$35,0,CI46) -> 0 | DC46: =IF(CB46=1,DB46,"x") -> x | DD46: =IF(DC46=0,1,0) -> 0 | DE46: =DD46+DE47 -> 0 | DF46: =IF(DE46=1,$DB$49,0) -> 0 | DG46: =DF46+DB46 -> 0 | DH46: =DG46*CM46 -> #NUM! | DI46: =IF(CK46>DI$35,0,CI46) -> 0 | DJ46: =IF(CB46=1,DI46,"x") -> x | DK46: =IF(DJ46=0,1,0) -> 0 | DL46: =DK46+DL47 -> 0 | DM46: =IF(DL46=1,$DB$49,0) -> 0 | DN46: =DM46+DI46 -> 0 | DO46: =DN46*CM46 -> #NUM! | DQ46: =DQ45+1 -> 11 | DR46: 0.00101 | DS46: =AH125 -> 0 | DT46: =IF(DS46=1,(DS25+DR46),"X") -> X | DU46: =IF(DS46=1,AE45,"X") -> X | DV46: =RANK(DT46,$DT$36:$DT$47,2) -> #VALUE! | DW46: =DW45+DS46 -> 1 | DX46: =SMALL($DT$36:$DT$47,DW46) -> #NUM! | DY46: =VLOOKUP(DX46,$DT$36:$DU$47,2,0) -> #NUM! | DZ46: =IF(DS46=1,DY46,0) -> 0 | EA46: =RANK(DX46,$DX$36:$DX$47,2) -> #NUM! | EB46: =DZ46+EB47 -> 0 | EC46: =DZ46 -> 0 | ED46: =ROUND(DX46,0) -> #NUM! | EE46: =IF($EB46>EE$35,0,$DZ46) -> 0 | EF46: =IF($DS46=1,EE46,"x") -> x | EG46: =IF(EF46=0,1,0) -> 0 | EH46: =EG46+EH47 -> 0 | EI46: =IF(EH46=1,EE49,0) -> 0 | EJ46: =EI46+EE46 -> 0 | EK46: =EJ46*$ED46 -> #NUM! | EL46: =IF($EB46>EL$35,0,$DZ46) -> 0 | EM46: =IF($DS46=1,EL46,"x") -> x | EN46: =IF(EM46=0,1,0) -> 0 | EO46: =EN46+EO47 -> 0 | EP46: =IF(EO46=1,EL49,0) -> 0 | EQ46: =EP46+EL46 -> 0 | ER46: =EQ46*$ED46 -> #NUM! | ES46: =IF($EB46>ES$35,0,$DZ46) -> 0 | ET46: =IF($DS46=1,ES46,"x") -> x | EU46: =IF(ET46=0,1,0) -> 0 | EV46: =EU46+EV47 -> 0 | EW46: =IF(EV46=1,ES49,0) -> 0 | EX46: =EW46+ES46 -> 0 | EY46: =EX46*$ED46 -> #NUM! | EZ46: =IF($EB46>EZ$35,0,$DZ46) -> 0 | FA46: =IF($DS46=1,EZ46,"x") -> x | FB46: =IF(FA46=0,1,0) -> 0 | FC46: =FB46+FC47 -> 0 | FD46: =IF(FC46=1,EZ49,0) -> 0 | FE46: =FD46+EZ46 -> 0 | FF46: =FE46*$ED46 -> #NUM! | FG46: =IF($EB46>FG$35,0,$DZ46) -> 0 | FH46: =IF($DS46=1,FG46,"x") -> x | FI46: =IF(FH46=0,1,0) -> 0 | FJ46: =FI46+FJ47 -> 0 | FK46: =IF(FJ46=1,FG49,0) -> 0 | FL46: =FK46+FG46 -> 0 | FM46: =FL46*$ED46 -> #NUM! | FN46: =IF($EB46>FN$35,0,$DZ46) -> 0 | FO46: =IF($DS46=1,FN46,"x") -> x | FP46: =IF(FO46=0,1,0) -> 0 | FQ46: =FP46+FQ47 -> 0 | FR46: =IF(FQ46=1,FN49,0) -> 0 | FS46: =FR46+FN46 -> 0 | FT46: =FS46*$ED46 -> #NUM! | FU46: =IF($EB46>FU$35,0,$DZ46) -> 0 | FV46: =IF($DS46=1,FU46,"x") -> x | FW46: =IF(FV46=0,1,0) -> 0 | FX46: =FW46+FX47 -> 0 | FY46: =IF(FX46=1,FU49,0) -> 0 | FZ46: =FY46+FU46 -> 0 | GA46: =FZ46*$ED46 -> #NUM! | GB46: =IF($EB46>GB$35,0,$DZ46) -> 0 | GC46: =IF($DS46=1,GB46,"x") -> x | GD46: =IF(GC46=0,1,0) -> 0 | GE46: =GD46+GE47 -> 0 | GF46: =IF(GE46=1,GB49,0) -> 0 | GG46: =GF46+GB46 -> 0 | GH46: =GG46*$ED46 -> #NUM! | GK46: 0.00101 | GL46: =AO125 -> 0 | GM46: =IF(GL46=1,(GL25+GK46),"X") -> X | GN46: =IF(GL46=1,AL45,"X") -> X | GO46: =RANK(GM46,$GM$36:$GM$47,2) -> #VALUE! | GP46: =GP45+GL46 -> 1 | GQ46: =SMALL($GM$36:$GM$47,GP46) -> #NUM! | GR46: =VLOOKUP(GQ46,$GM$36:$GN$47,2,0) -> #NUM! | GS46: =IF(GL46=1,GR46,0) -> 0 | GT46: =RANK(GQ46,$GQ$36:$GQ$47,2) -> #NUM! | GU46: =GS46+GU47 -> 0 | GV46: =GS46 -> 0 | GW46: =ROUND(GQ46,0) -> #NUM! | GX46: =IF($GU46>GX$35,0,$GS46) -> 0 | GY46: =IF($GL46=1,GX46,"x") -> x | GZ46: =IF(GY46=0,1,0) -> 0 | HA46: =GZ46+HA47 -> 0 | HB46: =IF(HA46=1,$GX$49,0) -> 0 | HC46: =HB46+GX46 -> 0 | HD46: =HC46*GW46 -> #NUM! | HE46: =IF(GU46>100,0,GS46) -> 0 | HF46: =IF(GL46=1,HE46,"x") -> x | HG46: =IF(HF46=0,1,0) -> 0 | HH46: =HG46+HH47 -> 0 | HI46: =IF(HH46=1,$HE$49,0) -> 0 | HJ46: =HI46+HE46 -> 0 | HK46: =HJ46*GW46 -> #NUM! | HL46: =IF(GU46>90,0,GS46) -> 0 | HM46: =IF(GL46=1,HL46,"x") -> x | HN46: =IF(HM46=0,1,0) -> 0 | HO46: =HN46+HO47 -> 0 | HP46: =IF(HO46=1,$HL$49,0) -> 0 | HQ46: =HP46+HL46 -> 0 | HR46: =HQ46*GW46 -> #NUM! | HS46: =IF($GU46>HS$35,0,$GS46) -> 0 | HT46: =IF(GL46=1,HS46,"x") -> x | HU46: =IF(HT46=0,1,0) -> 0 | HV46: =HU46+HV47 -> 0 | HW46: =IF(HV46=1,$HS$49,0) -> 0 | HX46: =HW46+HS46 -> 0 | HY46: =HX46*GW46 -> #NUM! | HZ46: =IF($GU46>HZ$35,0,$GS46) -> 0 | IA46: =IF(GL46=1,HZ46,"x") -> x | IB46: =IF(IA46=0,1,0) -> 0 | IC46: =IB46+IC47 -> 0 | ID46: =IF(IC46=1,$HZ$49,0) -> 0 | IE46: =ID46+HZ46 -> 0 | IF46: =IE46*GW46 -> #NUM! | IH46: =IF(HG46=1,GV46-HQ46,0) -> 0 | II46: =IF(HG46=1,GW46,0) -> 0 | IL46: =SUM(IQ35:IQ46) -> 0 | IM46: =IM45+1 -> 12 | IN46: =AA126 -> 0 | IO46: =IF(IN46=1,JT46," ") | IP46: =IF(IR46>100,"??",IO46) | IQ46: =IF(IR46>100,1,0) -> 0 | IR46: =Y46 -> 0 | IS46: =IF(AND($IR46>=$IS$30,$IR46<$IT$30),IS$32,0) -> 1 | IT46: =IF(AND($IR46>=$IT$30,$IR46<$IU$30),IT$32,0) -> 0 | IU46: =IF(AND($IR46>=$IU$30,$IR46<$IV$30),IU$32,0) -> 0 | IV46: =IF(AND($IR46>=$IV$30,$IR46<$IW$30),IV$32,0) -> 0 | IW46: =IF(AND($IR46>=$IW$30,$IR46<$IX$30),IW$32,0) -> 0 | IX46: =IF(AND($IR46>=$IX$30,$IR46<$IY$30),IX$32,0) -> 0 | IY46: =IF(AND($IR46>=$IY$30,$IR46<$IZ$30),IY$32,0) -> 0 | IZ46: =IF(AND($IR46>=$IZ$30,$IR46<$JA$30),IZ$32,0) -> 0 | JA46: =IF(AND($IR46>=$JA$30,$IR46<$JB$30),JA$32,0) -> 0 | JB46: =IF(AND($IR46>=$JB$30,$IR46<$JC$30),JB$32,0) -> 0 | JC46: =IF(AND($IR46>=$JC$30,$IR46<$JD$30),JC$32,0) -> 0 | JD46: =IF(AND($IR46>=$JD$30,$IR46<$JE$30),JD$32,0) -> 0 | JE46: =IF(AND($IR46>=$JE$30,$IR46<$JF$30),JE$32,0) -> 0 | JF46: =IF(AND($IR46>=$JF$30,$IR46<$JG$30),JF$32,0) -> 0 | JG46: =IF(AND($IR46>=$JG$30,$IR46<$JH$30),JG$32,0) -> 0 | JH46: =IF(AND($IR46>=$JH$30,$IR46<$JI$30),JH$32,0) -> 0 | JI46: =IF(AND($IR46>=$JI$30,$IR46<$JJ$30),JI$32,0) -> 0 | JJ46: =IF(AND($IR46>=$JJ$30,$IR46<$JK$30),JJ$32,0) -> 0 | JK46: =IF(AND($IR46>=$JK$30,$IR46<$JL$30),JK$32,0) -> 0 | JL46: =IF(AND($IR46>=$JL$30,$IR46<$JM$30),JL$32,0) -> 0 | JM46: =IF(AND($IR46>=$JM$30,$IR46<$JN$30),JM$32,0) -> 0 | JN46: =IF(AND($IR46>=$JN$30,$IR46<$JO$30),JN$32,0) -> 0 | JO46: =IF(AND($IR46>=$JO$30,$IR46<$JP$30),JO$32,0) -> 0 | JP46: =IF(AND($IR46>=$JP$30,$IR46<$JQ$30),JP$32,0) -> 0 | JQ46: =IF(AND($IR46>=$JQ$30,$IR46<$JR$30),JQ$32,0) -> 0 | JR46: =IF(AND($IR46>=$JR$30,$IR46<$JS$30),JR$32,0) -> 0 | JS46: =SUM(IS46:JR46) -> 1 | JT46: =HLOOKUP(JS46,$IS$32:$JR$33,2,0) -> F | JV46: =IF(AND($IR46>=$JV$30,$IR46<$JW$30),JV$32,0) -> 1 | JW46: =IF(AND($IR46>=$JW$30,$IR46<$JX$30),JW$32,0) -> 0 | JX46: =IF(AND($IR46>=$JX$30,$IR46<$JY$30),JX$32,0) -> 0 | JY46: =IF(AND($IR46>=$JY$30,$IR46<$JZ$30),JY$32,0) -> 0 | JZ46: =IF(AND($IR46>=$JZ$30,$IR46<$KA$30),JZ$32,0) -> 0 | KA46: =IF(AND($IR46>=$KA$30,$IR46<$KB$30),KA$32,0) -> 0 | KB46: =SUM(JV46:KA46) -> 1 | KC46: =HLOOKUP(KB46,$JV$32:$KB$33,2,0) -> F | LB46: 10 | LC46: Y2 / Y3 | LD46: 40 - 60 | LE46: Bath Spa, Northumbria
U47: Total Credits | X47: =SUM(X35:X46) -> 0 | Y47: =AX47 | AB47: Total Credits | AE47: =SUM(AE35:AE46) -> 0 | AF47: =AY47 | AI47: Total Credits | AL47: =SUM(AL35:AL46) -> 0 | AM47: =AZ47 | AX47: =IF(X47=120,"P"," ") | AY47: =IF(AE47=120,"P"," ") | AZ47: =IF(AL47=120,"P"," ") | BZ47: =BZ46+1 -> 12 | CA47: 0.00111 | CB47: =AA126 -> 0 | CC47: =IF(CB47=1,(CB28+CA47),"X") -> X | CD47: =IF(CB47=1,X46,"X") -> X | CE47: =RANK(CC47,$CC$36:$CC$47,2) -> #VALUE! | CF47: =CF46+CB47 -> 1 | CG47: =SMALL($CC$36:$CC$47,CF47) -> #NUM! | CH47: =VLOOKUP(CG47,$CC$36:$CD$47,2,0) -> #NUM! | CI47: =IF(CB47=1,CH47,0) -> 0 | CJ47: =RANK(CG47,$CG$36:$CG$47,2) -> #NUM! | CK47: =CI47 -> 0 | CL47: =CI47 -> 0 | CM47: =ROUND(CG47,0) -> #NUM! | CN47: =IF(CK47>CN$35,0,CI47) -> 0 | CO47: =IF(CB47=1,CN47,"x") -> x | CP47: =IF(CO47=0,1,0) -> 0 | CQ47: =CP47 -> 0 | CR47: =IF(CQ47=1,$CN$49,0) -> 0 | CS47: =CR47+CN47 -> 0 | CT47: =CS47*CM47 -> #NUM! | CU47: =IF(CK47>CU$35,0,CI47) -> 0 | CV47: =IF(CB47=1,CU47,"x") -> x | CW47: =IF(CV47=0,1,0) -> 0 | CX47: =CW47 -> 0 | CY47: =IF(CX47=1,$CU$49,0) -> 0 | CZ47: =CY47+CU47 -> 0 | DA47: =CZ47*CM47 -> #NUM! | DB47: =IF(CK47>DB$35,0,CI47) -> 0 | DC47: =IF(CB47=1,DB47,"x") -> x | DD47: =IF(DC47=0,1,0) -> 0 | DE47: =DD47 -> 0 | DF47: =IF(DE47=1,$DB$49,0) -> 0 | DG47: =DF47+DB47 -> 0 | DH47: =DG47*CM47 -> #NUM! | DI47: =IF(CK47>DI$35,0,CI47) -> 0 | DJ47: =IF(CB47=1,DI47,"x") -> x | DK47: =IF(DJ47=0,1,0) -> 0 | DL47: =DK47 -> 0 | DM47: =IF(DL47=1,$DB$49,0) -> 0 | DN47: =DM47+DI47 -> 0 | DO47: =DN47*CM47 -> #NUM! | DQ47: =DQ46+1 -> 12 | DR47: 0.00111 | DS47: =AH126 -> 0 | DT47: =IF(DS47=1,(DS26+DR47),"X") -> X | DU47: =IF(DS47=1,AE46,"X") -> X | DV47: =RANK(DT47,$DT$36:$DT$47,2) -> #VALUE! | DW47: =DW46+DS47 -> 1 | DX47: =SMALL($DT$36:$DT$47,DW47) -> #NUM! | DY47: =VLOOKUP(DX47,$DT$36:$DU$47,2,0) -> #NUM! | DZ47: =IF(DS47=1,DY47,0) -> 0 | EA47: =RANK(DX47,$DX$36:$DX$47,2) -> #NUM! | EB47: =DZ47 -> 0 | EC47: =DZ47 -> 0 | ED47: =ROUND(DX47,0) -> #NUM! | EE47: =IF($EB47>EE$35,0,$DZ47) -> 0 | EF47: =IF($DS47=1,EE47,"x") -> x | EG47: =IF(EF47=0,1,0) -> 0 | EH47: =EG47 -> 0 | EI47: =IF(EH47=1,EE49,0) -> 0 | EJ47: =EI47+EE47 -> 0 | EK47: =EJ47*$ED47 -> #NUM! | EL47: =IF($EB47>EL$35,0,$DZ47) -> 0 | EM47: =IF($DS47=1,EL47,"x") -> x | EN47: =IF(EM47=0,1,0) -> 0 | EO47: =EN47 -> 0 | EP47: =IF(EO47=1,EL49,0) -> 0 | EQ47: =EP47+EL47 -> 0 | ER47: =EQ47*$ED47 -> #NUM! | ES47: =IF($EB47>ES$35,0,$DZ47) -> 0 | ET47: =IF($DS47=1,ES47,"x") -> x | EU47: =IF(ET47=0,1,0) -> 0 | EV47: =EU47 -> 0 | EW47: =IF(EV47=1,ES49,0) -> 0 | EX47: =EW47+ES47 -> 0 | EY47: =EX47*$ED47 -> #NUM! | EZ47: =IF($EB47>EZ$35,0,$DZ47) -> 0 | FA47: =IF($DS47=1,EZ47,"x") -> x | FB47: =IF(FA47=0,1,0) -> 0 | FC47: =FB47 -> 0 | FD47: =IF(FC47=1,EZ49,0) -> 0 | FE47: =FD47+EZ47 -> 0 | FF47: =FE47*$ED47 -> #NUM! | FG47: =IF($EB47>FG$35,0,$DZ47) -> 0 | FH47: =IF($DS47=1,FG47,"x") -> x | FI47: =IF(FH47=0,1,0) -> 0 | FJ47: =FI47 -> 0 | FK47: =IF(FJ47=1,FG49,0) -> 0 | FL47: =FK47+FG47 -> 0 | FM47: =FL47*$ED47 -> #NUM! | FN47: =IF($EB47>FN$35,0,$DZ47) -> 0 | FO47: =IF($DS47=1,FN47,"x") -> x | FP47: =IF(FO47=0,1,0) -> 0 | FQ47: =FP47 -> 0 | FR47: =IF(FQ47=1,FN49,0) -> 0 | FS47: =FR47+FN47 -> 0 | FT47: =FS47*$ED47 -> #NUM! | FU47: =IF($EB47>FU$35,0,$DZ47) -> 0 | FV47: =IF($DS47=1,FU47,"x") -> x | FW47: =IF(FV47=0,1,0) -> 0 | FX47: =FW47 -> 0 | FY47: =IF(FX47=1,FU49,0) -> 0 | FZ47: =FY47+FU47 -> 0 | GA47: =FZ47*$ED47 -> #NUM! | GB47: =IF($EB47>GB$35,0,$DZ47) -> 0 | GC47: =IF($DS47=1,GB47,"x") -> x | GD47: =IF(GC47=0,1,0) -> 0 | GE47: =GD47 -> 0 | GF47: =IF(GE47=1,GB49,0) -> 0 | GG47: =GF47+GB47 -> 0 | GH47: =GG47*$ED47 -> #NUM! | GK47: 0.00111 | GL47: =AO126 -> 0 | GM47: =IF(GL47=1,(GL26+GK47),"X") -> X | GN47: =IF(GL47=1,AL46,"X") -> X | GO47: =RANK(GM47,$GM$36:$GM$47,2) -> #VALUE! | GP47: =GP46+GL47 -> 1 | GQ47: =SMALL($GM$36:$GM$47,GP47) -> #NUM! | GR47: =VLOOKUP(GQ47,$GM$36:$GN$47,2,0) -> #NUM! | GS47: =IF(GL47=1,GR47,0) -> 0 | GT47: =RANK(GQ47,$GQ$36:$GQ$47,2) -> #NUM! | GU47: =GS47 -> 0 | GV47: =GS47 -> 0 | GW47: =ROUND(GQ47,0) -> #NUM! | GX47: =IF($GU47>GX$35,0,$GS47) -> 0 | GY47: =IF($GL47=1,GX47,"x") -> x | GZ47: =IF(GY47=0,1,0) -> 0 | HA47: =GZ47 -> 0 | HB47: =IF(HA47=1,$GX$49,0) -> 0 | HC47: =HB47+GX47 -> 0 | HD47: =HC47*GW47 -> #NUM! | HE47: =IF(GU47>100,0,GS47) -> 0 | HF47: =IF(GL47=1,HE47,"x") -> x | HG47: =IF(HF47=0,1,0) -> 0 | HH47: =HG47 -> 0 | HI47: =IF(HH47=1,$HE$49,0) -> 0 | HJ47: =HI47+HE47 -> 0 | HK47: =HJ47*GW47 -> #NUM! | HL47: =IF(GU47>90,0,GS47) -> 0 | HM47: =IF(GL47=1,HL47,"x") -> x | HN47: =IF(HM47=0,1,0) -> 0 | HO47: =HN47 -> 0 | HP47: =IF(HO47=1,$HL$49,0) -> 0 | HQ47: =HP47+HL47 -> 0 | HR47: =HQ47*GW47 -> #NUM! | HS47: =IF($GU47>HS$35,0,$GS47) -> 0 | HT47: =IF(GL47=1,HS47,"x") -> x | HU47: =IF(HT47=0,1,0) -> 0 | HV47: =HU47 -> 0 | HW47: =IF(HV47=1,$HS$49,0) -> 0 | HX47: =HW47+HS47 -> 0 | HY47: =HX47*GW47 -> #NUM! | HZ47: =IF($GU47>HZ$35,0,$GS47) -> 0 | IA47: =IF(GL47=1,HZ47,"x") -> x | IB47: =IF(IA47=0,1,0) -> 0 | IC47: =IB47 -> 0 | ID47: =IF(IC47=1,$HZ$49,0) -> 0 | IE47: =ID47+HZ47 -> 0 | IF47: =IE47*GW47 -> #NUM! | IH47: =IF(HG47=1,GV47-HQ47,0) -> 0 | II47: =IF(HG47=1,GW47,0) -> 0 | IM47: =IM46+1 -> 13 | IN47: =AH115 -> 0 | IO47: =IF(IN47=1,JT47," ") | IP47: =IF(IR47>100,"??",IO47) | IQ47: =IF(IR47>100,1,0) -> 0 | IR47: =AF35 -> 0 | IS47: =IF(AND($IR47>=$IS$30,$IR47<$IT$30),IS$32,0) -> 1 | IT47: =IF(AND($IR47>=$IT$30,$IR47<$IU$30),IT$32,0) -> 0 | IU47: =IF(AND($IR47>=$IU$30,$IR47<$IV$30),IU$32,0) -> 0 | IV47: =IF(AND($IR47>=$IV$30,$IR47<$IW$30),IV$32,0) -> 0 | IW47: =IF(AND($IR47>=$IW$30,$IR47<$IX$30),IW$32,0) -> 0 | IX47: =IF(AND($IR47>=$IX$30,$IR47<$IY$30),IX$32,0) -> 0 | IY47: =IF(AND($IR47>=$IY$30,$IR47<$IZ$30),IY$32,0) -> 0 | IZ47: =IF(AND($IR47>=$IZ$30,$IR47<$JA$30),IZ$32,0) -> 0 | JA47: =IF(AND($IR47>=$JA$30,$IR47<$JB$30),JA$32,0) -> 0 | JB47: =IF(AND($IR47>=$JB$30,$IR47<$JC$30),JB$32,0) -> 0 | JC47: =IF(AND($IR47>=$JC$30,$IR47<$JD$30),JC$32,0) -> 0 | JD47: =IF(AND($IR47>=$JD$30,$IR47<$JE$30),JD$32,0) -> 0 | JE47: =IF(AND($IR47>=$JE$30,$IR47<$JF$30),JE$32,0) -> 0 | JF47: =IF(AND($IR47>=$JF$30,$IR47<$JG$30),JF$32,0) -> 0 | JG47: =IF(AND($IR47>=$JG$30,$IR47<$JH$30),JG$32,0) -> 0 | JH47: =IF(AND($IR47>=$JH$30,$IR47<$JI$30),JH$32,0) -> 0 | JI47: =IF(AND($IR47>=$JI$30,$IR47<$JJ$30),JI$32,0) -> 0 | JJ47: =IF(AND($IR47>=$JJ$30,$IR47<$JK$30),JJ$32,0) -> 0 | JK47: =IF(AND($IR47>=$JK$30,$IR47<$JL$30),JK$32,0) -> 0 | JL47: =IF(AND($IR47>=$JL$30,$IR47<$JM$30),JL$32,0) -> 0 | JM47: =IF(AND($IR47>=$JM$30,$IR47<$JN$30),JM$32,0) -> 0 | JN47: =IF(AND($IR47>=$JN$30,$IR47<$JO$30),JN$32,0) -> 0 | JO47: =IF(AND($IR47>=$JO$30,$IR47<$JP$30),JO$32,0) -> 0 | JP47: =IF(AND($IR47>=$JP$30,$IR47<$JQ$30),JP$32,0) -> 0 | JQ47: =IF(AND($IR47>=$JQ$30,$IR47<$JR$30),JQ$32,0) -> 0 | JR47: =IF(AND($IR47>=$JR$30,$IR47<$JS$30),JR$32,0) -> 0 | JS47: =SUM(IS47:JR47) -> 1 | JT47: =HLOOKUP(JS47,$IS$32:$JR$33,2,0) -> F | JV47: =IF(AND($IR47>=$JV$30,$IR47<$JW$30),JV$32,0) -> 1 | JW47: =IF(AND($IR47>=$JW$30,$IR47<$JX$30),JW$32,0) -> 0 | JX47: =IF(AND($IR47>=$JX$30,$IR47<$JY$30),JX$32,0) -> 0 | JY47: =IF(AND($IR47>=$JY$30,$IR47<$JZ$30),JY$32,0) -> 0 | JZ47: =IF(AND($IR47>=$JZ$30,$IR47<$KA$30),JZ$32,0) -> 0 | KA47: =IF(AND($IR47>=$KA$30,$IR47<$KB$30),KA$32,0) -> 0 | KB47: =SUM(JV47:KA47) -> 1 | KC47: =HLOOKUP(KB47,$JV$32:$KB$33,2,0) -> F | LB47: 11 | LC47: Y2 / Y3 | LD47: 33 - 67 | LE47: University of Wales Trinity Saint David
